BEGIN:VCALENDAR
VERSION:2.0
PRODID:-//Ville Morte - ECPv5.12.4//NONSGML v1.0//EN
CALSCALE:GREGORIAN
METHOD:PUBLISH
X-WR-CALNAME:Ville Morte
X-ORIGINAL-URL:https://villemorte.fr
X-WR-CALDESC:évènements pour Ville Morte
BEGIN:VTIMEZONE
TZID:Europe/Paris
BEGIN:DAYLIGHT
TZOFFSETFROM:+0100
TZOFFSETTO:+0200
TZNAME:CEST
DTSTART:20190331T010000
END:DAYLIGHT
BEGIN:STANDARD
TZOFFSETFROM:+0200
TZOFFSETTO:+0100
TZNAME:CET
DTSTART:20191027T010000
END:STANDARD
END:VTIMEZONE
BEGIN:VEVENT
DTSTART;TZID=Europe/Paris:20190327T203000
DTEND;TZID=Europe/Paris:20190327T203000
DTSTAMP:20260419T190200
CREATED:20190302T051252Z
LAST-MODIFIED:20190302T051252Z
UID:8737-1553718600-1553718600@villemorte.fr
SUMMARY:► Les Chants de Mars | Radio Elvis + Parka Valentine
DESCRIPTION:MERCREDI 27 MARS 2019\nRADIO ELVIS + Parka Valentine / L’épicerie moderne / salle musiques actuelles\nOuverture des portes à 20H30 \n▀▀▀▀▀▀▀▀▀▀▀▀▀▀▀▀▀▀▀▀▀▀▀▀▀▀▀▀▀▀▀▀▀▀▀▀▀\nDans le cadre du Festival Les chants de Mars \nRadio Elvis\nCes garçons-là\, ce sont Pierre Guénard\, Manu Ralambo et Colin Russeil. Les trois membres de Radio Elvis se frottent à l’épreuve du deuxième album\, après un premier essai plébiscité (Les Conquêtes en 2016\, élu «Album Révélation» aux Victoires de la Musique 2017) et une tournée qui les aura vus redéfinir et consolider leurs fondamentaux. Ils s’inscrivent dans une tradition qui serpente dans les interlignes électriques de la pop francophone : fédératrice\, singulière\, irrésistible. \nParka Valentine\nEntre dancefloors et couchers de soleil\, fuites sur l’autoroute et nuits qui débordent\, la pop de Parka Valentine restera froide\, synthétique et fragile\, comme la voix des indiens tristes dont nous parlait Félix Guattari. \n▀▀▀▀▀▀▀▀▀▀▀▀▀▀▀▀▀▀▀▀▀▀▀▀▀▀▀▀▀▀▀▀▀▀▀▀▀\nTARIFS\n13 / 15 / 17€ \n▀▀▀▀▀▀▀▀▀▀▀▀▀▀▀▀▀▀▀▀▀▀▀▀▀▀▀▀▀▀▀▀▀▀▀▀▀\nACCÈS / TRANSPORT\n✉ L’épicerie moderne / salle musiques actuelles : Place René Lescot\, 69320 Feyzin\nⒷ Bus 60 et 39\n👍 L’épicerie moderne / salle musiques actuelles dispose d’un accès pour les personnes à mobilité réduite. Merci de prévenir la salle de votre venue au 04 72 89 98 70 \nhttp://www.epiceriemoderne.com/ \n▀▀▀▀▀▀▀▀▀▀▀▀▀▀▀▀▀▀▀▀▀▀▀▀▀▀▀▀▀▀▀▀▀▀▀▀▀ \nFESTIVAL LES CHANTS DE MARS #13\nLe festival de chanson actuelle Les Chants de Mars\, porté depuis 2008 par la MJC du Vieux Lyon\, la MPT des Rancy et le Marché Gare\, investit chaque année la Métropole de Lyon pour un rendez-vous en collaboration avec de nombreux acteurs de la chanson et des musiques actuelles. \nRetrouvez la programmation du festival Les chants de Mars http://www.leschantsdemars.com
URL:https://villemorte.fr/agenda/%e2%96%ba-les-chants-de-mars-radio-elvis-parka-valentine/
LOCATION:L’Épicerie Moderne\, Place René Lescot\, Feyzin\, 69320\, France
CATEGORIES:musique live
END:VEVENT
END:VCALENDAR