BEGIN:VCALENDAR
VERSION:2.0
PRODID:-//Ville Morte - ECPv5.12.4//NONSGML v1.0//EN
CALSCALE:GREGORIAN
METHOD:PUBLISH
X-WR-CALNAME:Ville Morte
X-ORIGINAL-URL:https://villemorte.fr
X-WR-CALDESC:évènements pour Ville Morte
BEGIN:VTIMEZONE
TZID:Europe/Paris
BEGIN:DAYLIGHT
TZOFFSETFROM:+0100
TZOFFSETTO:+0200
TZNAME:CEST
DTSTART:20180325T010000
END:DAYLIGHT
BEGIN:STANDARD
TZOFFSETFROM:+0200
TZOFFSETTO:+0100
TZNAME:CET
DTSTART:20181028T010000
END:STANDARD
END:VTIMEZONE
BEGIN:VEVENT
DTSTART;TZID=Europe/Paris:20181201T200000
DTEND;TZID=Europe/Paris:20181201T200000
DTSTAMP:20260419T221228
CREATED:20181022T132641Z
LAST-MODIFIED:20181022T132641Z
UID:7539-1543694400-1543694400@villemorte.fr
SUMMARY:► Médine + Dj P
DESCRIPTION:► Médine\n👉 https://www.facebook.com/MEDINRECORDS/ \nUn an à peine après la sortie de son dernier album\, Médine est de retour avec un nouveau projet intitulé Storyteller. Armé de ses connaissances\, il joue d’un timbre rocailleux et d’une plume plume aiguisée pour mettre en relief la finesse de ses textes qui remettent le rap au service d’une parole engagée et responsable. \n► Dj P\n👉 https://www.facebook.com/the1andonlydjp/ \nÀ grand coup de vinyles aux influences rap\, soul et funk\, DJ P crée un univers à la mesure de sa passion où le turntablism est roi !\n___________________________________________________________________ \nPrévente 16€ / Tarif plein 18€ / Réduit 16€ / Pass Bizarre ! 14€\n___________________________________________________________________ \n▐▐▐▐▐▐▐▐ INFOS PRATIQUES ▐▐▐▐▐▐▐▐ \n🕖 Ouverture des portes à 20h – Début du concert à 2030\n✉ Bizarre! : 9 rue Louis Jouvet\, 69200 Vénissieux\nⓂ Metro D arrêt Parilly\nⓉ Tram T4 arrêt Joliot-Curie\nⒷ Bus 35 arrêt Joliot-Curie / Marcel Sembat\n🚙 Possibilité de stationner dans la rue Louis Jouvet ainsi que sur le boulevard Joliot Curie (1 mn à pied).\n👍 Bizarre ! dispose d’un accès pour les personnes à mobilité réduite. Merci de prévenir la salle de votre venue au 04 72 50 73 19 du mercredi au vendredi de 14h à 18h30 et les soirs de concerts.
URL:https://villemorte.fr/agenda/%e2%96%ba-medine-dj-p/
LOCATION:Bizarre\, 9 Rue Louis Jouvet\, Vénissieux\, 69200\, France
CATEGORIES:musique live
END:VEVENT
END:VCALENDAR