BEGIN:VCALENDAR
VERSION:2.0
PRODID:-//Ville Morte - ECPv5.12.4//NONSGML v1.0//EN
CALSCALE:GREGORIAN
METHOD:PUBLISH
X-WR-CALNAME:Ville Morte
X-ORIGINAL-URL:https://villemorte.fr
X-WR-CALDESC:évènements pour Ville Morte
BEGIN:VTIMEZONE
TZID:Europe/Paris
BEGIN:DAYLIGHT
TZOFFSETFROM:+0100
TZOFFSETTO:+0200
TZNAME:CEST
DTSTART:20200329T010000
END:DAYLIGHT
BEGIN:STANDARD
TZOFFSETFROM:+0200
TZOFFSETTO:+0100
TZNAME:CET
DTSTART:20201025T010000
END:STANDARD
END:VTIMEZONE
BEGIN:VEVENT
DTSTART;TZID=Europe/Paris:20201006T183000
DTEND;TZID=Europe/Paris:20201006T183000
DTSTAMP:20260424T071615
CREATED:20201005T123754Z
LAST-MODIFIED:20201005T123754Z
UID:12847-1602009000-1602009000@villemorte.fr
SUMMARY:Soirée de soutien à l'amphi Z
DESCRIPTION:MAR 06 – 18H30 – SOIRÉE DE SOUTIEN À L’AMPHI Z \nIl y a un peu plus d’un an\, les habitant.es de l’Amphi Z étaient expulsés d’un bâtiment\noccupé depuis près de deux ans. Un film est en cours de production pour garder la\nmémoire de cette histoire de solidarité\, de galères\, de fêtes mais surtout de luttes.\nVenez soutenir cette auto-production autour d’un repas ! \nSynopsis : En novembre 2017\, une cinquantaine d’exilé·es est expulsée d’un campement de fortune devant un hôtel de la Part-Dieu. Ils décident\, avec des étudiant·es d’occuper un amphi à l’université Lyon 2. Après plusieurs semaines d’occupation et face aux nouvelles menaces d’expulsion\, ils réquisitionnent\, avec l’aide de personnes solidaires\, un bâtiment à Villeurbanne. À travers le parcours de ses protagonistes\, ce film retrace une histoire de plus de deux ans\, entre lutte pour la régularisation et le logement\, organisation de la vie quotidienne et galères. \nET POUR RAPPEL\, LES HORAIRES DE L’AMICALE ONT CHANGÉ EN SEPTEMBRE : \nMERCREDI : 14H00 — 22H\nJEUDI : 14H00 — 22H\nVENDREDI : 14H00 — 22H
URL:https://villemorte.fr/agenda/soiree-de-soutien-a-lamphi-z/
LOCATION:L’Amicale Du Futur\, 31 Rue Sébastien Gryphe\, LYON\, 69007
CATEGORIES:soirée de soutien
END:VEVENT
BEGIN:VEVENT
DTSTART;TZID=Europe/Paris:20201006T200000
DTEND;TZID=Europe/Paris:20201006T200000
DTSTAMP:20260424T071615
CREATED:20201005T123433Z
LAST-MODIFIED:20201005T123433Z
UID:12841-1602014400-1602014400@villemorte.fr
SUMMARY:WILL GUTHRIE & l'ENSEMBLE NIST-NAH + ROMAIN DE FERRON
DESCRIPTION:mardi 6 octobre\n20h\n6 / 7€ + adhésion prix libre\nréservation indispensable : jesuisanxieux@gmail.com \n \nWILL GUTHRIE & l’ENSEMBLE NIST-NAH  (AUS\, FR\, GB\, USA) \n  \navec PRUNE BÉCHEAU\, CHARLES DUBOIS\, THIBAULT FLORENT\, AMELIE GROULD\, WILL GUTHRIE\, MARK LOCKETT\, LUCAS PIZZINI\, SVEN MICHEL\, ARNO TUKIMAN \n  \nPeu sensible au concept de frontières\, l’australien\, Will Guthrie\, a posé ses valises à Nantes en 2004. Jouant aux quatre coins du globe\, il a\, en une quinzaine d’années\, gravé son empreinte parmi celles des plus singuliers batteurs et percussionnistes qui martèlent l’espace sonore des musiques expérimentales internationales. Avec son approche brute et pourtant érudite de l’instrument\, on oublie la technique\, on écoute la musique. \nHabitué à tourner en solo\, on le croise aussi régulièrement entourés de la crème des stakhanovistes de la free music d’aujourd’hui (Oren Ambarchi\, Mark Fell\, Roscoe Mitchell\, Anthony Pateras\, Jean-Luc Guionnet) mais sa musique dépasse tous les carcans des identités restreintes. Will Guthrie est aussi un homme qui s’est nourri de sons de partout\, et il nous fait entendre ce qu’il en a digéré. Une musique aux racines apparentes mais à la modernité bien affirmée. \nCes derniers temps\, son désir d’élargir toujours davantage son horizon l’a mené à l’étude et au jeu du gamelan\, l’instrument traditionnel des musiques Indonésiennes. Cet instrument qui s’énonce au singulier mais qui est un ensemble de percussions\, un orchestre d’éléments de métal\, de bois et de peaux qui se joue nécessairement à plusieurs. De quelques personnes à quelques dizaines. Un instrument géant donc\, tentaculaire. Une entité qui envahit l’espace sonore sur toutes ses strates et dans toutes ses dimensions. Un instrument au spectre infini\, s’accordant la mélodie autant qu’usant de la pulsation jusqu’au ravissement. \nLe gamelan charrie son histoire et s’inscrit dans un territoire. Il a fallu nombre de séjours en Indonésie avant que Will Guthrie s’en autorise l’usage. Un usage singulier qui a le mérite de savoir où est sa place\, loin de l’appropriation culturelle exotique jouant l’indonésien à Paris\, ni l’arrogance de l’emprunt anhistorique du matériau pour tropicaliser les sons du kit. Il préserve l’essence de l’instrument\, sa valeur d’ensemble et la puissance du geste ainsi que le poids de la dimension sacrée qu’il véhicule\, sans la singer\, dans un certain respect profane qui donne une profondeur à sa musique. \nSon disque ‘Nist-Nah’ à paraître chez Black Truffle\, le label tenu par son camarade et compatriote australien Oren Ambarchi\, fait partie de ces disques où l’émotion ressentie s’accompagne du sentiment d’être en présence d’une forme d’une rare intelligence. La cohérence de composition est fascinante\, nourrie des préoccupations musicales qu’il traîne depuis plus de 20 ans\, entre la variation des dynamiques évoquant la musique concrète\, la répétition jusqu’à l’entêtement et le tournis des musiques de transes et l’intérêt porté aux micro-détails. \nAu-delà de cet intérêt pour le Gamelan et de ses recherches et compositions pour le disque\, Will Guthrie transpose également sa musique sur scène en créant un orchestre de 8 personnes : l’ensemble Nist-Nah. Neuf musicien(ne)s d’âge et d’horizon divers\, tou(te)s particulièrement impliqué(e)s dans les pratiques contemporaines de la musique et qui s’associent pour former un «supergroupe» dont l’ambition est de se mettre au service d’une musique singulière\, construite à plusieurs. \nhttps://youtu.be/hDSIOKjUUgY \n  \nROMAIN DE FERRON (FR) \nRomain de Ferron est connu pour ses prestations dans Balladur\, Omertà\, Vinci\, ou pour ses clopes au clou de girofle qu’il ramène d’Indonésie. Seul\, il joue sur divers instruments à claviers plus ou moins poussiéreux : harmonium\, orgue\, synthétiseur dont on a pu apprécier la grâce sur Boiler Merde le 25 mars dernier\, en pleine 2e semaine de confinement : \nhttps://youtu.be/Lm1KoZMtJic
URL:https://villemorte.fr/agenda/will-guthrie-lensemble-nist-nah-romain-de-ferron/
LOCATION:Grrrnd Zero\, 60\, avenue de Bohlen\, Vaulx en Velin\, 69120
CATEGORIES:musique live
ATTACH;FMTTYPE=image/jpeg:https://villemorte.fr/wp-content/uploads/2020/10/willguthrie_nistnah-_a66f7.jpg
END:VEVENT
END:VCALENDAR