BEGIN:VCALENDAR
VERSION:2.0
PRODID:-//Ville Morte - ECPv5.12.4//NONSGML v1.0//EN
CALSCALE:GREGORIAN
METHOD:PUBLISH
X-WR-CALNAME:Ville Morte
X-ORIGINAL-URL:https://villemorte.fr
X-WR-CALDESC:évènements pour Ville Morte
BEGIN:VTIMEZONE
TZID:Europe/Paris
BEGIN:DAYLIGHT
TZOFFSETFROM:+0100
TZOFFSETTO:+0200
TZNAME:CEST
DTSTART:20200329T010000
END:DAYLIGHT
BEGIN:STANDARD
TZOFFSETFROM:+0200
TZOFFSETTO:+0100
TZNAME:CET
DTSTART:20201025T010000
END:STANDARD
END:VTIMEZONE
BEGIN:VEVENT
DTSTART;TZID=Europe/Paris:20201008T170000
DTEND;TZID=Europe/Paris:20201008T220000
DTSTAMP:20260424T102147
CREATED:20201006T103542Z
LAST-MODIFIED:20201006T103542Z
UID:12873-1602176400-1602194400@villemorte.fr
SUMMARY:APÉRO-VÉLO !
DESCRIPTION:APÉRO-VÉLO ! \n\n\n\n\n\n\nJEUDI 08 OCTOBRE \nde 17h à 22h \nsite Ronfard\, ex-atelier Frich’Market \n\n\n\n\n\n\nDepuis le début du mois\, quelques équipes de la Friche se réunissent régulièrement pour parler itinérance artistique et vélos. Des rendez-vous sont formalisés un jeudi soir par mois minimum. Aux échanges de bons plans\, s’ajoute un local ouvert pour ceux et celles qui souhaitent en profiter pour réparer leurs bicyclettes. \nA mi-chemin entre un atelier de réparation autogéré\, une buvette associative et des rencontres entre artistes férus de bicyclette\, l’APÉRO-VÉLO est né ! \n\n\n\n\n\n\n\n\n\n\n\n\n\n\n\n\n\n\n\n\n\n\n\n\n\n\n\n\n\n\n\n\n\n\n\n\n\n\n\n\n\n\n\n\n\n\n\n\n\n\n\n\n\n\n\n\n\n\n\n\n\n\n\n\nJeudi\, on prend soin de vos vélos et de vos gosiers ! \n  \nLiez l’utile à l’agréable en ramenant votre biclou splendide mais mal en point : une équipe d’amateurs chevronnés vous accueillera avec cœur\, savoir faire\, panache et quelques bières. \nPour l’instant on a des outils mais pas beaucoup de pièces alors si vous avez besoin d’opérer votre 2 roues à cœur ouvert ramenez vos patins\, câbles et pièces en tout genre. \nVoilà tout\, jeudi on bricole et on boit des coups au 21 rue saint victorien. \n  \nL’apéro vélo \n\n\n\n\n\n\n\n\n\n\n\n\n\n\n\n\n\n\n\n\n\n\n\n\n\n\n\n\n\n\n\n\n\n\n\n\n\n\n\n\n\n\n\n\n\n\n\n\nSite : http://www.friche-lamartine.org/ \nFacebook : https://www.facebook.com/FricheLamartine
URL:https://villemorte.fr/agenda/apero-velo/
LOCATION:Friche Lamartine\, 21 rue St Victorien\, Lyon\, 69003\, France
CATEGORIES:atelier,rencontre
END:VEVENT
BEGIN:VEVENT
DTSTART;TZID=Europe/Paris:20201008T180000
DTEND;TZID=Europe/Paris:20201008T210000
DTSTAMP:20260424T102147
CREATED:20201006T103910Z
LAST-MODIFIED:20201006T104004Z
UID:12875-1602180000-1602190800@villemorte.fr
SUMMARY:LA RÉVOLUTION FÉMINISTE
DESCRIPTION:Ce JEUDI 8 OCTOBRE à 18H\, l’Amicale est ravie d’accueillir une rencontre avec Aurore Koechlin organisée par l’équipe du Jusqu’ici. \nL’autrice\, militante marxiste et féministe\, viendra nous présenter son livre La révolution féministe paru en 2019 aux éditions Amsterdam. Aurore Koechlin propose une lecture des différents mouvements féministes\, passés comme présents\, et ouvre des perspectives stratégiques pour une « quatrième vague » féministe et révolutionnaire. \n » Le féminisme est révolutionnaire ou il n’est pas : voilà la thèse soutenue par Aurore Koechlin\, qui se propose d’abord de guider ses lectrices et lecteurs à travers l’histoire trop méconnue des différentes vagues féministes. Du MLF à l’intersectionnalité\, de l’émergence d’un « féminisme d’État » au féminisme de la reproduction sociale\, ce petit livre tire le bilan politique et intellectuel d’une quarantaine d’années de combats\, repère leurs impasses\, souligne leurs forces\, pour contribuer aux luttes actuelles et à venir. » \nhttp://www.editionsamsterdam.fr/la-revolution-feministe/ \nLe bar sera ouvert et un repas sera proposé à l’issue de la discussion\, comme d’habitude ! \nDans le cadre des mesures sanitaires\, nous serons peut-être amenés à restreindre l’entrée pour permettre le respect des distances de 1 mètre. Masque obligatoire et gel hydro’ à l’entrée.
URL:https://villemorte.fr/agenda/la-revolution-feministe/
LOCATION:L’Amicale Du Futur\, 31 Rue Sébastien Gryphe\, LYON\, 69007
CATEGORIES:rencontre
END:VEVENT
BEGIN:VEVENT
DTSTART;TZID=Europe/Paris:20201008T200000
DTEND;TZID=Europe/Paris:20201008T200000
DTSTAMP:20260424T102147
CREATED:20201005T123559Z
LAST-MODIFIED:20201005T123559Z
UID:12844-1602187200-1602187200@villemorte.fr
SUMMARY:LA BATAILLE DE LA PLAINE
DESCRIPTION:on projette  » LA BATAILLE DE LA PLAINE «  en présence de Nicolas Burlaud\, co-réalisateur.\nréservation indispensable à jesuisanxieux@gmail.com\nça commence à 20h \n \nLe film raconte la bataille épique et tumultueuse qui a eu lieu dans le quartier central de la Plaine à Marseille. La place Jean jaurès où se tient le plus important marché populaire de la ville a été le théâtre de ce conflit de 2016 à fin 2019. D’un côté\, une mairie affairiste déterminée à mener un important programme de « requalification » et de « montée en gamme » du quartier. De l’autre une partie importante des habitant·e·s et des usager·e·s – organisé·e·s en assemblée populaire – y voyaient une opération de gentryfication et réclamaient d’être associés aux décisions concernant l’avenir du marché et du quartier. Le conflit prend une tournure brutale avec l’encerclement de la place par un mur de 2m50 de haut. Une équipe de tournage de la télé de quartier s’interroge sur sa place et sur son rôle dans cette bataille. Quand le mur est là\, comment donner à voir ce qui n’est plus sur les images et qu’on est pourtant sûrs d’avoir vécu ?\nOn dit de La Bataille de la Plaine que c’est un documentaire à réalité augmentée. Il raconte à sa manière cette longue bagarre en voulant contribuer à produire des imaginaires politiques enthousiastes. \nProjection a PRIX LIBRE \nhttps://vimeo.com/423514289
URL:https://villemorte.fr/agenda/la-bataille-de-la-plaine/
LOCATION:Grrrnd Zero\, 60\, avenue de Bohlen\, Vaulx en Velin\, 69120
CATEGORIES:projection
ATTACH;FMTTYPE=image/jpeg:https://villemorte.fr/wp-content/uploads/2020/10/batailledelaplaine-aff-a3-print_41426.jpg
END:VEVENT
END:VCALENDAR