BEGIN:VCALENDAR
VERSION:2.0
PRODID:-//Ville Morte - ECPv5.12.4//NONSGML v1.0//EN
CALSCALE:GREGORIAN
METHOD:PUBLISH
X-WR-CALNAME:Ville Morte
X-ORIGINAL-URL:https://villemorte.fr
X-WR-CALDESC:évènements pour Ville Morte
BEGIN:VTIMEZONE
TZID:Europe/Paris
BEGIN:DAYLIGHT
TZOFFSETFROM:+0100
TZOFFSETTO:+0200
TZNAME:CEST
DTSTART:20200329T010000
END:DAYLIGHT
BEGIN:STANDARD
TZOFFSETFROM:+0200
TZOFFSETTO:+0100
TZNAME:CET
DTSTART:20201025T010000
END:STANDARD
END:VTIMEZONE
BEGIN:VEVENT
DTSTART;TZID=Europe/Paris:20201009T193000
DTEND;TZID=Europe/Paris:20201009T230000
DTSTAMP:20260424T114807
CREATED:20201009T100157Z
LAST-MODIFIED:20201009T100157Z
UID:12877-1602271800-1602284400@villemorte.fr
SUMMARY:🌑 Ciné-Typhon : Black Moon de Louis Malle 🌑
DESCRIPTION:🌑 Ciné-Typhon : Black Moon de Louis Malle 🌑 \n \nMy heart could be a stone\nIt’s a sponge\nIt’s a balloon\nIt’s a lonely rock with a fiery tail\nFalling in your atmosphere\nBurning up and breaking down\n[…]\nMy yesterday is dead\nThe present’s an illusion\nAnd tomorrow is just a nightmare away\nThis is our story\, our movie\n[…]\nNow we’re in space\nWatching the Earth as the sun rises behind it\nSatellites orbit by\nA billion stars surround us\nWe float over the moon\nThen we cut to black and the credits roll \nAidan Moffat\, Météorites (musique Yann Tiersen) \nMétéorites et\nLes éditions du Typhon \nprésentent \nCINE TYPHON\nBlack Moon (un film) de Louis Malle (1975 / 1h40) \nAlors que la guerre fait rage dans une contrée non identifiée\, une jeune fille\, Lily fuit éperdument au volant d’une voiture. Elle se réfugie dans la forêt et pénètre dans un monde imaginaire où les fleurs gémissent de douleur sous les pas. Elle rencontre une licorne qui la conduit vers une mystérieuse maison. \n*******\nA l’occasion de la sortie du roman de Lucie Baratte « Le chien Noir » (édition du thyphon) projection de « Black Moon » de Louis Malle. Ou comment un conte gothique résonne avec un film fantastique.\nEn présence de Lucie Baratte. \nVendredi 9 Octobre\nAu Cinéma Le Bellecombe\n61 Rue d’Inkermann\, 69006 Lyon \n19h30 : Buvette\, vente du livre et des affiches\n20h : Présentation du film et du livre « Le chien noir »\n20h30: Projection \nTarifs habituels\nMasques et mains hydroalcoolisées\, merci \n \nOriginaire du nord de la France\, Lucie Baratte est née en 1981.\nLe chien noir est son premier texte de fiction. Dans ce livre à la lisière des genres\, les contes de l’enfance y rencontrent les tremblements et l’effroi du roman gothique.\nIl était une fois un conte obscurci\, englouti par un océan de ténèbres\, qui gisait tout au fond du foyer des histoires\, étouffé en secret sous le gris de la cendre.\nwww.meteorites.club/cinecure
URL:https://villemorte.fr/agenda/%f0%9f%8c%91-cine-typhon-black-moon-de-louis-malle-%f0%9f%8c%91/
LOCATION:Cinéma Bellecombe\, 61\, rue d'Inkermann\, LYON\, 69006
CATEGORIES:projection
END:VEVENT
BEGIN:VEVENT
DTSTART;TZID=Europe/Paris:20201009T203000
DTEND;TZID=Europe/Paris:20201009T203000
DTSTAMP:20260424T114807
CREATED:20201005T124459Z
LAST-MODIFIED:20201005T124459Z
UID:12853-1602275400-1602275400@villemorte.fr
SUMMARY:Soirée Amazigh : TILAWALIN + ILES (Chants traditionnels et contemporains berbères)
DESCRIPTION:** Vendredi 9 octobre à 20h30 // Soirée Amazigh : TILAWALIN + ILES (Chants traditionnels et contemporains berbères) // CONCERT // 10€\nTILAWALIN offre\, en première partie du concert\, un bouquet de chants traditionnels berbères sublimés par des voix féminines suscitant inexorablement une variété de sentiments où s’entremêlent l’amour\, la nostalgie\, la joie et l’espérance. Dans une seconde partie\, ILES va vous transporter de la Kabylie du 19ème siècle jusqu’à celle de nos jours\, avec un cocktail de chansons originales inspirées\, pour quelques-unes\, d’anciens poèmes transmis par la défunte Fadhma Ath Kaci (mère du journaliste Ismaïl Yefsah\, assassiné en 1993) et des poèmes de Si Mohand u M’hand et\, pour d’autres\, de la conjoncture politique grave que vit l’Algérie et plus particulièrement la Kabylie. Plus d’infos et résas >
URL:https://villemorte.fr/agenda/soiree-amazigh-tilawalin-iles-chants-traditionnels-et-contemporains-berberes/
LOCATION:Toï Toï le Zinc\, 17-19 Rue Marcel Dutartre\, Villeurbanne\, 69100 \, France
CATEGORIES:musique live
END:VEVENT
END:VCALENDAR