BEGIN:VCALENDAR
VERSION:2.0
PRODID:-//Ville Morte - ECPv5.12.4//NONSGML v1.0//EN
CALSCALE:GREGORIAN
METHOD:PUBLISH
X-WR-CALNAME:Ville Morte
X-ORIGINAL-URL:https://villemorte.fr
X-WR-CALDESC:évènements pour Ville Morte
BEGIN:VTIMEZONE
TZID:Europe/Paris
BEGIN:DAYLIGHT
TZOFFSETFROM:+0100
TZOFFSETTO:+0200
TZNAME:CEST
DTSTART:20210328T010000
END:DAYLIGHT
BEGIN:STANDARD
TZOFFSETFROM:+0200
TZOFFSETTO:+0100
TZNAME:CET
DTSTART:20211031T010000
END:STANDARD
END:VTIMEZONE
BEGIN:VEVENT
DTSTART;VALUE=DATE:20210917
DTEND;VALUE=DATE:20210927
DTSTAMP:20260423T105617
CREATED:20210918T111254Z
LAST-MODIFIED:20210918T111254Z
UID:13847-1631836800-1632700799@villemorte.fr
SUMMARY:Biennale Hors les Normes à la Tête d'Or
DESCRIPTION:📆 Exposition du 17 au 26 septembre\n🕐 Tous les jours : 13h-19h\n🥂 Vernissage le 19 septembre à 12h\n🎟 Gratuit et ouvert à tous\n✅ Accès sur présentation d’un pass \nVernissage exposition collective – Orangerie du Parc de la Tête d’Or
URL:https://villemorte.fr/agenda/biennale-hors-les-normes-a-la-tete-dor/
END:VEVENT
BEGIN:VEVENT
DTSTART;TZID=Europe/Paris:20210917T190000
DTEND;TZID=Europe/Paris:20211017T120000
DTSTAMP:20260423T105617
CREATED:20210918T111719Z
LAST-MODIFIED:20210918T111719Z
UID:13850-1631905200-1634472000@villemorte.fr
SUMMARY:Synapses de Bonella Holloway
DESCRIPTION:les jours de concerts ou d’ouverture dans le salle d’expo de GZ :  \nSynapses de Bonella Holloway / immersion dans les vies interdépendantes de musicien.nes DIY / multiples écrans & cartes de tournée brodées \nDepuis quelques années Bonella Holloway\, à qui on doit entre autres l’excellent « femmes riant avec salade »\, poursuit une recherche fleuve sur des courants de musiques DIY contemporaines. La mise en installation de cette documentation permet de rendre compte des aspects d’espaces\, d’interstices\, de multiplicité et de mouvements qui participent de l’humanité et de l’essence propre à la subculture représentée. \nDans l’installation figurent :  Notre Dame des Lourdes\, Ce Soir\, Avventur\, Yippie’s Quest\, Radkit\, des cassettes Fougère\, Détresse sur la D13\, La Chasse\, des cassettes AB Records\, Veluxed\, Piak\, L’Ocelle Mare\, Rose Mercie\, les cassettes Cocktail Pueblo\, Pédiluve Banquise\, Tôle Froide\, Deux Boules Vanille et Antoine Frère Sympa\, Rien Virgule\, Sec mais aussi l’Emeute Philharmonique de Sec\, Massicot\, Les Pavillons Sauvages (Toulouse)\, L’Octopus (Cunlhat)\, Mixart Myrys (Toulouse)\, des affiches d’Indian Redhead\, Grrrrnd Zéro (Lyon)\, Ursa Minor (St Etienne)\, Ker Gariou\, Pneu\, Bethlehem\, Badaboum\, Avenir\, Phat Dat\, des cassettes Epicericords\, Guess What\, Allo Bamboule\, la fête de la musique de Beauregard\, Shittyshed\, Lassie (Yes Like The Dawg)\, Balladur\, Chafouin\, Portron Portron Lopez\, Hilgege\, Holy Chips\, François Virot\, L’Atelier d’Eveil Musical du Centre Social\, Raymond Poulidor\, Singe Blanc\, Zad Kokar\, Rivière de Corps\, Kkkristina Aguilera\, Wagen Volte\, Derinëgolem mais aussi le Derinëgolem Dance Machine Club\, les mixtapes de Concert ou Pizza ?\, Drywud\, Comme Dans Tintin\, L’Homme à la Peau de Serpent\, Sables\, Mon Alberteen\, Summer 81\, Tanz Mein Herz\, To the Moon and Back\, Edredon Sensible\, UltraZook\, Picabia\, Manuel Duval\, La Colonie de Vacances\, Binidu (…) et un tas de personnes qui dansent devant des concerts qui ne sont certainement pas consentantes à la diffusion de leur image\, ni peut être conscientes d’avoir été filmées.
URL:https://villemorte.fr/agenda/synapses-de-bonella-holloway/
END:VEVENT
BEGIN:VEVENT
DTSTART;VALUE=DATE:20210924
DTEND;VALUE=DATE:20210927
DTSTAMP:20260423T105617
CREATED:20210831T160328Z
LAST-MODIFIED:20210831T160328Z
UID:13588-1632441600-1632700799@villemorte.fr
SUMMARY:Festival Le Chant des Pierres
DESCRIPTION:Organisé chaque année fin septembre\, Le Chant Des Pierres vous accueille les 24/25/26 Septembre 2021 dans le superbe pays des pierres dorées\, à Saint Jean des Vignes (69). \nUne vingtaine de groupes\, mêlant world music\, chanson française\, hip-hop\, rock\, funk\, électro… il y en aura toute la nuit et pour tous les goûts! \nLaissez-vous embarquer par l’inimitable ambiance du chant des pierres avec ses chapiteaux\, snack et restau maison\, bières artisanales et vins locaux\, animations et spectacles art de rue en journée pour petits et grands\, stands associatifs et le tout à PRIX LIBRE ! \nVenez partager avec nous le goût des rencontres\, des surprises et de la fête bien faite\, pour que vive encore longtemps la culture à prix libre en beaujolais ! \nProgrammation : \nZeph\, Bab’l Bluz\, Pat Kalla et le super mojo\, Monty Picon\, Lacarte\, Scratching Beg\, Deriv\, Slip\, Paul & Manuel Band\, Avinavita\, EZPZ\, Balto Parranda\, Du Son dans la roulotte\, MarZikos\, Los Guerreros\, Charlie & the Soap Opera\, Jean Fourz \n+ d’infos sur le site www.ekleknopopulace.fr
URL:https://villemorte.fr/agenda/festival-le-chant-des-pierres/
LOCATION:Saint Jean des Vignes\, Saint-Jean-des-Vignes\, 69380\, France
CATEGORIES:festival,musique live
END:VEVENT
BEGIN:VEVENT
DTSTART;TZID=Europe/Paris:20210926T110000
DTEND;TZID=Europe/Paris:20210926T170000
DTSTAMP:20260423T105617
CREATED:20210820T204207Z
LAST-MODIFIED:20210820T204207Z
UID:13537-1632654000-1632675600@villemorte.fr
SUMMARY:[festival Amply] Solar Wild
DESCRIPTION:Solar Wild (pop)\nSolar Wild offre un réel road trip musical et un doux appel à la rêverie. Imaginez-vous dans le\ngrand ouest américain sur une route sans fin…. et laissez-vous bercer par leur ronron musical\npleinement solaire.
URL:https://villemorte.fr/agenda/festival-amply-solar-wild/
LOCATION:Bibliothèque de Chanapost\, Place Georges Clémenceau\, Chanapost\, 69630
CATEGORIES:musique live
END:VEVENT
BEGIN:VEVENT
DTSTART;TZID=Europe/Paris:20210926T150000
DTEND;TZID=Europe/Paris:20210926T213000
DTSTAMP:20260423T105617
CREATED:20210918T130211Z
LAST-MODIFIED:20210918T130211Z
UID:13854-1632668400-1632691800@villemorte.fr
SUMMARY:Charlène Darling + Nonna Rina + Lazza Gio
DESCRIPTION:Je m’appelle Charlotte\, je joue dans Rose Mercie et Charlène Darling.\nCharlène Darling\, parfois c’est un projet avec un tout un groupe trop cool*\, parfois c’est un projet solo bien lofi.\nEn ce moment\, je joue seule un set de reprises de chansons d’amour traduites en français avec une configuration très minimale :\nvoix + batterie ou voix + n’importe quoi de percussif et/ou à moitié cassé.\nIl y a un 45 tours qui va sortir chez Lexi Disques\net sinon je me remets à poster des sons ça et là sur Soundcloud. \nNonna Rina fait comme sa grand-mère Milanaise\, elle fait pousser des fleurs là où il en manque\, elle enregistre des souvenirs sur des cassettes audio et elle joue des mélodies sur des petits synthés fragiles mais invincibles qui parfois pleurent\, parfois rient. Elle joue en toute autonomie sur piles et sur batterie pour jouer dans les espaces les plus improbables.\nElle fait souvent des K7 et y’a même un album  en préparation pour le Syndicat des Scorpions \n\nhttps://nonnarina.bandcamp.com/ \nLazza Gio fait des instrus trop belles et mélange dedans des bouts de mémo vocaux\, des bribes de soirée\, de nuits. Surtout elle chante dessus et ça donne envie de pleurer ou de faire du sport\nou en tout cas de courir faire des déclarations d’amour comme si demain n’existait pas.\nElle fait des concerts depuis le printemps dernier\net faut pas la rater.\nSon premier EP sort le 15 sept chez Midi Fish
URL:https://villemorte.fr/agenda/charlene-darling-nonna-rina-lazza-gio/
LOCATION:L’Amicale Du Futur\, 31 Rue Sébastien Gryphe\, LYON\, 69007
END:VEVENT
END:VCALENDAR