BEGIN:VCALENDAR
VERSION:2.0
PRODID:-//Ville Morte - ECPv5.12.4//NONSGML v1.0//EN
CALSCALE:GREGORIAN
METHOD:PUBLISH
X-WR-CALNAME:Ville Morte
X-ORIGINAL-URL:https://villemorte.fr
X-WR-CALDESC:évènements pour Ville Morte
BEGIN:VTIMEZONE
TZID:Europe/Paris
BEGIN:DAYLIGHT
TZOFFSETFROM:+0100
TZOFFSETTO:+0200
TZNAME:CEST
DTSTART:20250330T010000
END:DAYLIGHT
BEGIN:STANDARD
TZOFFSETFROM:+0200
TZOFFSETTO:+0100
TZNAME:CET
DTSTART:20251026T010000
END:STANDARD
END:VTIMEZONE
BEGIN:VEVENT
DTSTART;TZID=Europe/Paris:20250506T080000
DTEND;TZID=Europe/Paris:20250511T170000
DTSTAMP:20260422T221403
CREATED:20250417T091641Z
LAST-MODIFIED:20250417T092030Z
UID:28728-1746518400-1746982800@villemorte.fr
SUMMARY:On Vous Ment !
DESCRIPTION:La 10ème édition du Festival de films documenteur On Vous Ment ! aura lieu du 6 au 11 mai 2025 sur Lyon et Villeurbanne.\n\nUnique en France\, cet événement met en lumière des longs et courts métrages\, souvent inédits; des rencontres avec de nombreux invités : Feldup\, Alan Resnick\, Alt 236\, Jenny Letellier\, Mulov\, Lesley Manning\, David Ambrose\, Bolchegeek\, Pacôme Thiellement\, Marie Casabonne\, Jean Teddy Filippe\, Coeur ou encore Jean-Marc Barr.\n\n\nNotre site internet >>> ici\nNous soutenir >>> ici\nLe programme complet : http://onvousment.fr/programme
URL:https://villemorte.fr/agenda/on-vous-ment/
CATEGORIES:festival,projection
END:VEVENT
BEGIN:VEVENT
DTSTART;VALUE=DATE:20250510
DTEND;VALUE=DATE:20250512
DTSTAMP:20260422T221403
CREATED:20250417T182331Z
LAST-MODIFIED:20250417T182331Z
UID:28887-1746835200-1747007999@villemorte.fr
SUMMARY:Paper Melody
DESCRIPTION:PAPER MELODY\, le sal00n de l’édition
URL:https://villemorte.fr/agenda/paper-melody/
LOCATION:Grrrnd Zero\, 60\, avenue de Bohlen\, Vaulx en Velin\, 69120
CATEGORIES:édition,fanzine
END:VEVENT
BEGIN:VEVENT
DTSTART;VALUE=DATE:20250510
DTEND;VALUE=DATE:20250512
DTSTAMP:20260422T221403
CREATED:20250507T100615Z
LAST-MODIFIED:20250507T102018Z
UID:29031-1746835200-1747007999@villemorte.fr
SUMMARY:Marché de la création queer noire et racisée
DESCRIPTION:Le temps d’un week-end\, laissez-vous inspirer par les mondes engagés et puissants d’artistes singuliers : entre artisanat\, illustration\, textile\, bijoux\, fanzines\, tatouage et plus encore.\nCet événement est ouvert à toutes et tous\, dans une ambiance chaleureuse et inclusive. \nCafé Rosa\, 78 bis Rue Béchevelin\, 69007 Lyon\n11:00-19:00
URL:https://villemorte.fr/agenda/marche-de-la-creation-queer-noire-et-racisee/
LOCATION:Café Rosa\, 78 bis Rue Bechevelin\, LYON\, 69007
CATEGORIES:Marché
ATTACH;FMTTYPE=image/png:https://villemorte.fr/wp-content/uploads/2025/05/visuel-marche-de-la-creation.png
END:VEVENT
BEGIN:VEVENT
DTSTART;TZID=Europe/Paris:20250511T110000
DTEND;TZID=Europe/Paris:20250511T150000
DTSTAMP:20260422T221403
CREATED:20250507T140414Z
LAST-MODIFIED:20250507T140414Z
UID:29104-1746961200-1746975600@villemorte.fr
SUMMARY:BRUNCH BINGO DRAG 
DESCRIPTION:☆ DIMANCHE 11 MAI – BRUNCH BINGO DRAG\nDernier brunch bingo drag de la saison\, avec Mona Pose et Victor Huro\, faut pas rater ça !\nPensez à reserver !
URL:https://villemorte.fr/agenda/brunch-bingo-drag-4/
LOCATION:Rita-Plage\, 68 Cours Tolstoï\, Villeurbanne\, 69100
CATEGORIES:bouffe,Dragshow,jeux
END:VEVENT
BEGIN:VEVENT
DTSTART;TZID=Europe/Paris:20250511T180000
DTEND;TZID=Europe/Paris:20250511T180000
DTSTAMP:20260422T221403
CREATED:20250511T163431Z
LAST-MODIFIED:20250511T163431Z
UID:29120-1746986400-1746986400@villemorte.fr
SUMMARY:soirée de soutien contre la dissolution d’Urgence Palestine
DESCRIPTION:Contre la dissolution d’Urgence Palestine\, soirée de soutien dimanche à l’amicale\n\nContre la dissolution d’Urgence Palestine\, retrouvez-nous ce dimanche 11 mai à partir de 17h30 à l’Amicale (31 rue Sebastien Gryphe\, 69007 Lyon) pour une soirée de soutien ✊ \n\n\nContre le génocide\, pour une Palestine libre : non à la dissolution d’Urgence Palestine \nAlors que le génocide s’intensifie à Gaza\, alors que le siège affame et détruit tout un peuple\, que fait l’Etat français de Macron et Retailleau ? Il prononce l’intention du gouvernement de dissoudre l’une des principales organisations des Palestinien.ne.s en France\, un des principaux collectifs mobilisés en solidarité avec le peuple palestinien. \nCette mesure\, d’une gravité extrême\, met en application une revendication portée depuis des mois par Julien Odoul\, député du Rassemblement National récemment condamné par la Justice. En la reprenant à son compte\, le ministre de l’Intérieur Bruno Retailleau entérine une politique de répression alignée sur les mots d’ordre de l’extrême droite en France et du gouvernement israélien. \nDénoncer un génocide ne sera jamais un crime. Résister face à l’injustice n’est pas un délit. Exiger la liberté pour le peuple palestinien n’est pas une revendication extrémiste violente. Au contraire : c’est une exigence humaine. \nNos revendication sont simples :• Stop au génocide en Palestine• Non à la dissolution d’Urgence Palestine • Oui à la liberté d’expression et à la solidarité internationale. \nAu programme :️ Discussions politiques Musique et poésie Cantine \n\n\n\nP.-S.\n\nSignez la pétition : http://stop-dissolution.fr
URL:https://villemorte.fr/agenda/soiree-de-soutien-contre-la-dissolution-durgence-palestine/
LOCATION:L’Amicale Du Futur\, 31 Rue Sébastien Gryphe\, LYON\, 69007
CATEGORIES:soirée de soutien
END:VEVENT
END:VCALENDAR