BEGIN:VCALENDAR
VERSION:2.0
PRODID:-//Ville Morte - ECPv5.12.4//NONSGML v1.0//EN
CALSCALE:GREGORIAN
METHOD:PUBLISH
X-WR-CALNAME:Ville Morte
X-ORIGINAL-URL:https://villemorte.fr
X-WR-CALDESC:évènements pour Ville Morte
BEGIN:VTIMEZONE
TZID:Europe/Paris
BEGIN:DAYLIGHT
TZOFFSETFROM:+0100
TZOFFSETTO:+0200
TZNAME:CEST
DTSTART:20250330T010000
END:DAYLIGHT
BEGIN:STANDARD
TZOFFSETFROM:+0200
TZOFFSETTO:+0100
TZNAME:CET
DTSTART:20251026T010000
END:STANDARD
END:VTIMEZONE
BEGIN:VEVENT
DTSTART;TZID=Europe/Paris:20250513T190000
DTEND;TZID=Europe/Paris:20250516T203000
DTSTAMP:20260422T221235
CREATED:20250417T110359Z
LAST-MODIFIED:20250417T110359Z
UID:28775-1747162800-1747427400@villemorte.fr
SUMMARY:Komorebi - Première(s) Esquisse(s)
DESCRIPTION:KOMOREBI – PREMIÈRE(S) ESQUISSE(S) – Clémentine Allain / Arthur Vandepoel / Cie Heydalur \n« Komorebi (⽊漏れ⽇) : Terme japonais qui désigne les rayons du soleil qui filtrent à travers les feuillages ; à la fois la danse de la lumière et des feuilles de l’arbre\, et leurs jeux d’ombres au sol. » \nUne artiste peintre vient de mourir. Deux personnes\, une femme et un homme\, qui étaient en lien avec elle\, vont être amené·es à se rencontrer après sa mort. Leur première rencontre a lieu à l’automne. La femme vient d’apprendre qu’elle hérite de la maison\, elle s’y rend pour la première fois. Quant à l’homme\, il est venu voir les œuvres avant qu’elles ne soient transférées dans un musée\, et ce petit temps passé dans l’intimité de l’atelier l’a ébranlé.\nFinalement quelque chose se passe qui n’est pas nommé mais qui est comme une invitation à se revoir. Iels parlent d’art\, regardent l’arbre par la fenêtre\, s’accompagnent dans le deuil\, et dans ces moments hors du quotidien s’accomplit une forme de cérémonie. \n« Il y a des cas où seule l’insignifiance est délicate. » (Roland Barthes) \nDurée : 1h15\nRéservation : https://theatredelelysee.mapado.com/event/408578-komorebi
URL:https://villemorte.fr/agenda/komorebi-premieres-esquisses/
LOCATION:Théâtre de l’Elysée\, 14 rue Basse Combalot\, LYON\, 69007
CATEGORIES:théâtre
ATTACH;FMTTYPE=image/jpeg:https://villemorte.fr/wp-content/uploads/2025/04/KOMOREBI-©-Clementine-Allain.jpg
END:VEVENT
BEGIN:VEVENT
DTSTART;TZID=Europe/Paris:20250514T190000
DTEND;TZID=Europe/Paris:20250514T190000
DTSTAMP:20260422T221235
CREATED:20250417T085629Z
LAST-MODIFIED:20250417T085629Z
UID:28716-1747249200-1747249200@villemorte.fr
SUMMARY:Apérozine de mai
DESCRIPTION:Tu t’intéresses à la micro-édition ? Tu en as déjà fait ou pas\, t’as des\nidées ou des galères ? Tu veux rencontrer des gens ? Ramène ta fraise\,\ntes tentatives d’édition ou celles de tes potes\, tes questions\, tes\ndoutes et ta boisson préf’ et viens discuter encre\, papier\, ciseaux et\nDIY ! \nLe prochain a lieu le mercredi 14 mai de 19h à 21h à la Gryffe\, c’est\ngratuit et sans inscription !
URL:https://villemorte.fr/agenda/aperozine-de-mai/
LOCATION:Librairie La Gryffe\, 5\, rue Sebastien Gryphe\, LYON\, 69007
CATEGORIES:fanzine
END:VEVENT
BEGIN:VEVENT
DTSTART;TZID=Europe/Paris:20250514T190000
DTEND;TZID=Europe/Paris:20250514T190000
DTSTAMP:20260422T221235
CREATED:20250507T140254Z
LAST-MODIFIED:20250507T140254Z
UID:29102-1747249200-1747249200@villemorte.fr
SUMMARY:AZUL AL SOL & PEÑA/JAM SESSION D'AMÉRIQUE LATINE
DESCRIPTION:☆ MERCREDI 14 MAI – 19H – CONCERT AZUL AL SOL & PEÑA/JAM SESSION D’AMÉRIQUE LATINE\n+ Release party☀️ Azul al sol ☀️ (répertoire argentin) en première partie de soirée\nNo CB\nRepas prix libre
URL:https://villemorte.fr/agenda/azul-al-sol-pena-jam-session-damerique-latine/
LOCATION:Rita-Plage\, 68 Cours Tolstoï\, Villeurbanne\, 69100
CATEGORIES:jam,musique live,release party
END:VEVENT
BEGIN:VEVENT
DTSTART;TZID=Europe/Paris:20250514T200000
DTEND;TZID=Europe/Paris:20250514T200000
DTSTAMP:20260422T221235
CREATED:20250507T094843Z
LAST-MODIFIED:20250507T094843Z
UID:29028-1747252800-1747252800@villemorte.fr
SUMMARY:ODC + Sonder Rage + Les Gerbes Heureuses
DESCRIPTION:CONCERT : ODC\, Sonder Rage\, Les Gerbes Heureuses\n\nlien FB : https://www.facebook.com/events/594100306322822\n\nODCOriginaires de la ville ouvrière de Saint-Etienne\, les trois adelphes sillonnent les routes depuis plus d’une décennie\, portant leurs revendications à travers leurs concerts survoltés. Inspirés des classiques de la scène punk et hardcore\, ODC c’est 10 ans de punk\, de rage et de partage. https://open.spotify.com/artist/3OO7b9IL7KPVxzYtLSVoPZ…\nSONDER RAGESonder Rage est un groupe international de la CIA basé à Paris\, en France. Un trio survolté composé de musiciens japonais et américains\, ce groupe de punk hardcore et de reggae à l’ancienne a fait beaucoup de bruit depuis son arrivée sur la scène punk parisienne avec ses textes politiques\, satiriques et féministes. https://open.spotify.com/…/artist/5SMh5ytujWUJVwegn5hSGe\nLES GERBES HEUREUSESLes gerbes heureuses\, c’est un groupe de punk rock à gerber ! C’est surtout festif même si ça aime pas trop la police. C’est accessible pour toi\, il se murmure que leur style officiel serait le Punk des gueux. Bref\, si tu veux te rassurer sur le fait que ton humour n’est pas si pire que ça en te comparant à celui déplorable des GH\, si tu veux danser\, bouger et même avoir de droit de gerber – dans le respect de tes voisins de pogo – ben faut viendre\n LA PENTE : 14 montée des Carmélites\, 69001 LYON Mercredi 14 Mai 2025 20h – 00h Entrée prix libre\n BAR ANTI RELOU Nos événements sont des espaces de liberté\, d’égalité et de bonheur\, c’est pourquoi les actions ou comportements suivants ne sont pas tolérés : racisme\, sexisme\, transphobie\, homophobie\, misogynie\, discriminations\, intolérances\, ainsi que l’irrespect des règles de consentement.
URL:https://villemorte.fr/agenda/odc-sonder-rage-les-gerbes-heureuses/
LOCATION:La Pente\, 14 Montée des Carmélites\, Lyon\, 69001
CATEGORIES:musique live
ATTACH;FMTTYPE=image/jpeg:https://villemorte.fr/wp-content/uploads/2025/05/La-Pente_2025-05-14.jpg
END:VEVENT
BEGIN:VEVENT
DTSTART;TZID=Europe/Paris:20250514T210000
DTEND;TZID=Europe/Paris:20250514T210000
DTSTAMP:20260422T221235
CREATED:20250417T130943Z
LAST-MODIFIED:20250417T130943Z
UID:28854-1747256400-1747256400@villemorte.fr
SUMMARY:Kiledjian + La Mentoure
DESCRIPTION:Créateur à l’initiative de différents projets (Fowatile\, HILA ou le successful Dowdelin…)\, réalisateur par ailleurs des albums du pianiste arménien Tigran Hamasyan ou de la formation malienne BKO\, et collaborateur de Talib Kweli\, Piers Faccini\, Miguel Atwood-Ferguson\, Foreign Beggars\, Mathieu Boogaerts\, Vaudou Game ; le musicien et producteur lyonnais David Kiledjian. \nBâties autour de l’idée d’oisiveté active chère aux citoyens de la Rome antique\, sa musique dessine des ponts entre langues et folklores des 4 coins du monde\, jazz\, hip-hop et avant-gardes électroniques. \nSur scène\, formule intimiste\, en trio : David Kiledjan (Piano\, Flûte\, Sax\, Chant)\, Judith Saurel (Violon\, chant) et Claudine Pauly (Violoncelle\, chant) \nLe répertoire qui intéresse La Mentoure\, formée par Elsa Lambey et Florent Briqué\, est issu d’archives écrites et sonores conservées à la Maison du patrimoine oral de Bourgogne (Anost\, 71). Ce fond musical évoque un mode de vie qui s’est considérablement modifié mais qui constitue un patrimoine collectif singulièrement riche. Au-delà du simple fait de délivrer cette musique au public\, ils veulent la confronter aux influences qui les traversent : la chanson\, les musiques traditionnelles\, les musiques improvisées\, le jazz… \n 
URL:https://villemorte.fr/agenda/kiledjian-la-mentoure/
LOCATION:Périscope\, 13 rue Delandine\, Lyon\, 69002\, France
CATEGORIES:musique live
END:VEVENT
END:VCALENDAR