BEGIN:VCALENDAR
VERSION:2.0
PRODID:-//Ville Morte - ECPv5.12.4//NONSGML v1.0//EN
CALSCALE:GREGORIAN
METHOD:PUBLISH
X-WR-CALNAME:Ville Morte
X-ORIGINAL-URL:https://villemorte.fr
X-WR-CALDESC:évènements pour Ville Morte
BEGIN:VTIMEZONE
TZID:Europe/Paris
BEGIN:DAYLIGHT
TZOFFSETFROM:+0100
TZOFFSETTO:+0200
TZNAME:CEST
DTSTART:20250330T010000
END:DAYLIGHT
BEGIN:STANDARD
TZOFFSETFROM:+0200
TZOFFSETTO:+0100
TZNAME:CET
DTSTART:20251026T010000
END:STANDARD
END:VTIMEZONE
BEGIN:VEVENT
DTSTART;TZID=Europe/Paris:20250531T110000
DTEND;TZID=Europe/Paris:20250531T170000
DTSTAMP:20260423T033811
CREATED:20250507T111415Z
LAST-MODIFIED:20250507T111415Z
UID:29040-1748689200-1748710800@villemorte.fr
SUMMARY:L’UNIVERSITÉ POPULAIRE DE LYON PASSE LE RELAIS
DESCRIPTION:L’UNIVERSITÉ POPULAIRE DE LYON PASSE LE RELAIS — Assemblée Générale et atelier d’écriture du projet associatif \n  \nDepuis 2005\, l’Université Populaire de Lyon a proposé un cadre simple : des savoirs partagés\, gratuitement\, sans inscription. Pas de titre à montrer\, pas de validation à attendre. Juste l’envie de comprendre ensemble\, et de faire circuler les connaissances dans une perspective d’éducation populaire. Conférences\, lectures\, ateliers\, expositions\, concerts\, discussions : autant de moments pour apprendre les un·es des autres\, croiser les expériences\, et construire des outils pour décrypter le monde — sans se laisser l’expliquer par d’autres. \n  \nAujourd’hui\, une poignée de milliardaires contrôle la quasi-totalité des médias. Les chaînes d’information en continu et les réseaux sociaux deviennent des instruments d’intimidation\, de diversion ou de haine. Et pendant que le réel se déforme\, qu’on entre dans l’ère de la « post-vérité »\, les espaces collectifs indépendants dédiés au débat et à la pensée critique se raréfient. Ce projet s’est construit avec des dizaines d’universitaires\, d’enseignant·es\, de chercheur·ses\, d’artistes\, de personnes engagées. Non pas bien sûr pour reproduire un dispositif académique ailleurs\, mais pour ouvrir un autre espace : horizontal\, vivant\, exigeant\, populaire. \n  \n20 ans après\, l’équipe fondatrice est arrivée au bout de ce qu’elle pouvait porter. Elle souhaite passer le relais à une nouvelle génération ! \n  \nProgramme de la journée : \n11h00 – 11h30 Accueil et café convivial \n11h30 – 11h50 Mot d’ouverture et présentation de la journée \n11h50 – 12h30 Table ronde : « Les grands moments de l’Unipop » \n12h30 – 13h30 Pause déjeuner informelle \n13h30 – 14h30 Atelier de prospective collaborative \n14h30 – 16h Synthèse et votes \n16h – 17h00 Clôture conviviale \n  \nSamedi 31 mai – 11h-17h \nEntrée libre\, bar et repas à prix libre
URL:https://villemorte.fr/agenda/luniversite-populaire-de-lyon-passe-le-relais/
LOCATION:Maison de l’écologie\, 4 rue Bodin\, LYON\, 69001
CATEGORIES:atelier,rencontre
ATTACH;FMTTYPE=image/jpeg:https://villemorte.fr/wp-content/uploads/2025/05/AG-Unipop-mai-2025.jpeg
END:VEVENT
BEGIN:VEVENT
DTSTART;TZID=Europe/Paris:20250531T140000
DTEND;TZID=Europe/Paris:20250531T220000
DTSTAMP:20260423T033811
CREATED:20250522T195407Z
LAST-MODIFIED:20250522T195407Z
UID:29405-1748700000-1748728800@villemorte.fr
SUMMARY:BUNK'AIR #2
DESCRIPTION:>>>>>> OPEN AIR PRIX LIBRE SUR PLACE\n>>>>>> OPEN AIR PRIX LIBRE SUR PLACE\n>>>>>> OPEN AIR PRIX LIBRE SUR PLACE \nOn vous annonce que le Bunk’air Session est de retour pour une deuxième édition  toujours nichée dans notre cher    ! \nCette année\, l’open air se divise en   : \n☀︎ – :  &   / Activités culturelles et ludiques pour toutes et tous :\n→ Conférence de @James Danino Reggae Queens: la place des femmes dans la musique jamaïcaine\n→ Disquaires @dubpearl\n→ Peinture sur vinyles by @from the jungle (atelier)\n→ Friperie @lafriperienomade\n→ Stand food tbc\n→ et des jeux en bois pour petits et grands \n☀︎ – :     @Walk In Sound\, Queen Low de la @D.L.Y Sound Family\, et @Edelvibes. \nCette année\, on a fait le choix d’une   é avec des artistes venus de Grenoble\, Lyon et du Pays de Gex. Et comme on aime bien les inaugurations en ce moment\, c’est au tour de    de tester pour la première fois ses nouvelles  ! \nUn grand merci à la @mairie du 4ᵉ de nous permettre de revenir au Parc de la Cerisaie pour célébrer à nouveau la culture sound system en espace public. \n•⁠  ⁠  –\nWalk in sound\nIG : @walkinsound \nQueen Low\nIG :  @laurena_aa @d.l.y_sound \nEdel Vibes Sound System (DJ Set)\nIG : @Edelvibes\nSC : https://on.soundcloud.com/yZzXx4JM23WhAZCUA\nBC : mojah.bandcamp.com \nDéjà hâte de tous vous revoir au parc ! \nHBSx2Sides \nDate : Samedi 31 mai\nHoraires : de 14h à 22h\nLieu : Parc de la Cerisaie – 25 rue Chazière\, 69004 Lyon\nEntrée libre avec donation – pour faire vivre les open airs indépendants et soutenir la scène locale.\nBar : Prix doux\nPrévention : matériel de réduction des risques et team VHSS\nAutres infos :\nPas de verre sur le site\nPensez à ramener vos écocups\nMerci de respecter le lieu et l’environnement\nToilettes sur place \nArtwork – @lachimere.a\nCoproduction – @2sides_events x @highbudub
URL:https://villemorte.fr/agenda/bunkair-2/
LOCATION:Parc de la Cerisaie\, 25 Rue Chazière\, Lyon\, 69004
CATEGORIES:atelier,conférence,DJ Set,musique live
ATTACH;FMTTYPE=image/jpeg:https://villemorte.fr/wp-content/uploads/2025/05/post_bunkair_2.jpg
END:VEVENT
BEGIN:VEVENT
DTSTART;TZID=Europe/Paris:20250531T180000
DTEND;TZID=Europe/Paris:20250531T180000
DTSTAMP:20260423T033811
CREATED:20250417T181813Z
LAST-MODIFIED:20250531T070421Z
UID:28881-1748714400-1748714400@villemorte.fr
SUMMARY:Dirty Sluts Party
DESCRIPTION:31.05 DIRTY SLUTS PARTY – fête de soutien\, soirée TdS : spectacles\, performances\, dj set. \n  \nDans le cadre de la commémoration des 50 ans de l’occupation de Saint-Nizier par les TdS le 2 juin 1975. \n  \nSolidaires\, fières et en colère ! \nContre le camp réactionnaire ! \nContre l’austérité et la guerre\, pour notre santé et nos droits ! \nVive la grève ! \nPour faire monter les TdS des quartiers d’activité de France – pour une assemblée populaire des TdS ! \n  \nDans le cadre des 50 ans de l’occupation de l’église de St Nizier à Lyon par des travailleureuses du sexe (TDS) contre la répression policière\, la violence d’État et pour la défense de leurs droits\, nous\, associations et collectifs TDS\, organisons une soirée à prix libre de célébration et de soutien au Grrrnd Zero de 18h à 1H45 du matin avec du drag\, du slam\, du stand up etc… grâce à plusieurs artistes: “un soir à Lyon”\, Coco Charnelle\, La Misandrie\, Noochka\, Emma\, Louve\, Mykoze\, Val\, Dark Baddie et Dj Tisseline avec une performance de Azylis\, hostée par Charlie! Retrouvez aussi les tatouages de Fraiz et des stands de prints de Darkbaddie et Ambrose. \n  \nSAMEDI 31/05/2025 \n18H – 1H45 \nPRIX LIBRE
URL:https://villemorte.fr/agenda/le-bal-des-putes/
LOCATION:Grrrnd Zero\, 60\, avenue de Bohlen\, Vaulx en Velin\, 69120
CATEGORIES:DJ Set,performance,soirée de soutien
ATTACH;FMTTYPE=image/jpeg:https://villemorte.fr/wp-content/uploads/2025/04/WhatsApp-Image-2025-05-12-at-10.32.00.jpeg
END:VEVENT
BEGIN:VEVENT
DTSTART;TZID=Europe/Paris:20250531T203000
DTEND;TZID=Europe/Paris:20250531T203000
DTSTAMP:20260423T033811
CREATED:20250417T120122Z
LAST-MODIFIED:20250417T120140Z
UID:28812-1748723400-1748723400@villemorte.fr
SUMMARY:Arse
DESCRIPTION:ARSE (Punk // AUS)\nARSE est un groupe punk conçu pour l’époque. Les morceaux du trio de Sydney\, qui explosent les genres\, mettent le doigt sur la condition moderne d’une manière qui est à la fois universelle et indéniablement australienne\, comme le prouve Kaputt\, l’album le plus déjanté du groupe à ce jour.\nEn 16 minutes de puissance brute\, Kaputt s’attaque à tout\, du négationnisme climatique aux forces de l’ordre véreuses.\n« Shame Bomb » est une chanson de protestation contre la destruction du cœur mort de l’Australie\, qui s’inspire de l’époque de Diesel et Dust de Midnight Oil. Ailleurs\, « Night Shift Blues » sonne comme si Flipper avait giflé les Stooges. Et puis il y a le morceau-titre\, qui doit autant au hardcore classique des années 80 qu’au psychédélisme brûlant de Tropical Fuck Storm et de King Gizzard.\nD’une manière ou d’une autre\, tout cela parvient à sonner comme de la pure ARSE.\nCe mélange excentrique a permis à ARSE de figurer sur des affiches avec Amyl and The Sniffers\, royauté du punk australien\, Cosmic Psychos\,Hard Ons\, These New South Whales et Civic. C’est aussi une nouvelle preuve que Grupo Records\, cofondé avec le groupe de batterie/saxe Party Dozen\, est l’un des labels indépendants les plus excitants d’Australie.\nhttps://youtu.be/GDzroPvIRkc?si=xPmssy-9foSwcHd5
URL:https://villemorte.fr/agenda/arse/
LOCATION:Trokson\, 110 Montée de la grande côte\, Lyon\, 69001\, France
CATEGORIES:musique live
END:VEVENT
END:VCALENDAR