BEGIN:VCALENDAR
VERSION:2.0
PRODID:-//Ville Morte - ECPv5.12.4//NONSGML v1.0//EN
CALSCALE:GREGORIAN
METHOD:PUBLISH
X-WR-CALNAME:Ville Morte
X-ORIGINAL-URL:https://villemorte.fr
X-WR-CALDESC:évènements pour Ville Morte
BEGIN:VTIMEZONE
TZID:Europe/Paris
BEGIN:DAYLIGHT
TZOFFSETFROM:+0100
TZOFFSETTO:+0200
TZNAME:CEST
DTSTART:20250330T010000
END:DAYLIGHT
BEGIN:STANDARD
TZOFFSETFROM:+0200
TZOFFSETTO:+0100
TZNAME:CET
DTSTART:20251026T010000
END:STANDARD
END:VTIMEZONE
BEGIN:VEVENT
DTSTART;TZID=Europe/Paris:20250607T080000
DTEND;TZID=Europe/Paris:20250607T170000
DTSTAMP:20260422T190402
CREATED:20250515T214711Z
LAST-MODIFIED:20250601T075628Z
UID:29158-1749283200-1749315600@villemorte.fr
SUMMARY:Analleycat
DESCRIPTION:Analleycat\, pour les pédales et leurs ami·es/ course d’orientation à vélo puis DJ sets jersey club rap + techno @ secret place / 5€ / \n16:45 @ Place Puvis de Chavanne Lyon 6
URL:https://villemorte.fr/agenda/analleycat/
CATEGORIES:musique live
ATTACH;FMTTYPE=image/jpeg:https://villemorte.fr/wp-content/uploads/2025/05/aff-Analleycat-insta-couleur-scaled.jpg
END:VEVENT
BEGIN:VEVENT
DTSTART;TZID=Europe/Paris:20250607T140000
DTEND;TZID=Europe/Paris:20250607T220000
DTSTAMP:20260422T190402
CREATED:20250519T094311Z
LAST-MODIFIED:20250519T094311Z
UID:29245-1749304800-1749333600@villemorte.fr
SUMMARY:Vélo Techno Parade
DESCRIPTION:Vélo Techno Parade – 7 juin 2025 – 14h\nVous l’attendiez avec impatience… Elle arrive ! C’est la 5e édition de la Vélo Techno Parade !\nRendez-vous samedi 7 juin 2025 à partir de 14h\, sur le parvis de la MPT au 249 rue Vendôme – 69003 Lyon pour une journée autour du vélo\, et de la techno !\n14h – Top départ : Venez déguisé·es pour une boucle de 12 kilomètres sur la rive gauche de la capitale des Gones ! Pendant le tracé\, on s’ambiance sur les DJ sets de Rolly & Mitsaï.\nNous vous attendons nombreux·ses pour faire battre le cœur de cet événement placé sous le signe des beaux jours\, du vélo et de la techno ! \n>> PROGRAMME :\n· 14h : départ de la parade depuis Les Rancy\n· 17h : arrivée de la parade – Place Guichard\n· 17h-23h30 : Open Air – DJ sets et live électro \n>> LINE-UP :\n· Rolly & Mitsaï (Indé – DJ set)\nhttps://urlr.me/Q3s2C4 \n· Duchesse Von BUffalo (Indé – DJ set)\nhttps://urlr.me/tp9yaz \n· 1312 BPM (Indé – Live)\n https://urlr.me/C2QTkR \n· iisocid (Indé – DJ set)\nhttps://urlr.me/fX8hUq
URL:https://villemorte.fr/agenda/velo-techno-parade-2/
LOCATION:Salle Des Rancy\, 249 rue Vendôme\, LYON\, 69003
CATEGORIES:DJ Set,musique live,sport
ATTACH;FMTTYPE=image/jpeg:https://villemorte.fr/wp-content/uploads/2025/05/Velo-Techno-Parade.jpg
END:VEVENT
BEGIN:VEVENT
DTSTART;TZID=Europe/Paris:20250607T140000
DTEND;TZID=Europe/Paris:20250607T160000
DTSTAMP:20260422T190402
CREATED:20250520T142123Z
LAST-MODIFIED:20250520T142123Z
UID:29373-1749304800-1749312000@villemorte.fr
SUMMARY:Atelier fanzine queer et linogravure
DESCRIPTION:Date : Samedi 07 juin – 15-17h\nTitre : Atelier fanzine queer et linogravure\nTarif : Prix libre. \nOrganisé par Les Ciseaux Fanzine ! \nSi t’es intéressé•e : écris en DM à : https://www.instagram.com/les_ciseaux_fanzine/ \nOn pourra décider du thème toustes ensemble\, et :\n– aux représentations queer\, leur rôle structurant dans la construction de nos identités etc.\n– à l’importance de faire archive\, de (re) construire nos passés\, d’écrire notre histoire. \nSi l’un des deux thèmes vous inspire en ce mois de fiertés ✨ et sinon n’hésitez pas à faire des suggestions  \nCelleux qui le souhaitent pourront s’essayer à la linogravure (on fera les lettres de la page de titre en lino\, et des tampons pour illustrer le fanzine ☺️).
URL:https://villemorte.fr/agenda/atelier-fanzine-queer-et-linogravure/
LOCATION:BosKop\, 60 rue Sébastien Gryphe\, Lyon\, 69007
CATEGORIES:atelier,fanzine
ATTACH;FMTTYPE=image/jpeg:https://villemorte.fr/wp-content/uploads/2025/05/003-ATELIER-FANZINE.jpg
END:VEVENT
BEGIN:VEVENT
DTSTART;TZID=Europe/Paris:20250607T190000
DTEND;TZID=Europe/Paris:20250607T200000
DTSTAMP:20260422T190402
CREATED:20250514T200315Z
LAST-MODIFIED:20250515T222740Z
UID:29134-1749322800-1749326400@villemorte.fr
SUMMARY:Les Poulets Sans Têtes + Car Pouzi
DESCRIPTION:postpunk électronique queer
URL:https://villemorte.fr/agenda/les-poulets-sans-tetes-car-pouzi/
LOCATION:Bar des Capucins\, Place des Capucins\, Lyon\, 69001\, France
CATEGORIES:musique live
END:VEVENT
BEGIN:VEVENT
DTSTART;TZID=Europe/Paris:20250607T190000
DTEND;TZID=Europe/Paris:20250607T220000
DTSTAMP:20260422T190402
CREATED:20250606T060227Z
LAST-MODIFIED:20250606T060227Z
UID:29507-1749322800-1749333600@villemorte.fr
SUMMARY:COMMENT JE SUIS DEVENU JUIF EN L’AN 2000
DESCRIPTION:COMMENT JE SUIS DEVENU JUIF EN L’AN 2000 — Conférence gesticulée d’André Rosevègue \n\nDans un contexte où l’amalgame entre identité juive et soutien à la politique de l’État d’Israël est sciemment entretenu\, où l’antisionisme est de plus en plus assimilé à une forme d’antisémitisme par les plus hautes sphères du pouvoir\, André Rosevègue partage une parole rare et précieuse. \n\nNé en 1945 de parents juifs\, il retrace dans cette conférence gesticulée son itinéraire personnel et politique : comment\, après une vie passée sans se revendiquer de son origine\, il en vient à affirmer une identité juive critique\, émancipée de toute assignation communautaire ou étatique. Un récit engagé\, traversé par les luttes antiracistes\, la mémoire de la Shoah\, les combats anticolonialistes et les dérives contemporaines du discours public. \n\nUne prise de parole à la croisée du récit de vie et de l’analyse politique\, pour questionner ce que veut dire « être juif » en France. \n\nSamedi 7 juin – 19h-22h\nEntrée et bar à prix libre
URL:https://villemorte.fr/agenda/comment-je-suis-devenu-juif-en-lan-2000/
LOCATION:Maison de l’écologie\, 4 rue Bodin\, LYON\, 69001
CATEGORIES:conférence
ATTACH;FMTTYPE=image/png:https://villemorte.fr/wp-content/uploads/2025/06/Comment-je-suis-devenu-juif-en-l_an-2000-1-1.png
END:VEVENT
BEGIN:VEVENT
DTSTART;TZID=Europe/Paris:20250607T193000
DTEND;TZID=Europe/Paris:20250607T193000
DTSTAMP:20260422T190402
CREATED:20250519T165831Z
LAST-MODIFIED:20250519T165831Z
UID:29303-1749324600-1749324600@villemorte.fr
SUMMARY:Maquis afro musik
DESCRIPTION:sam 7/06 : Maquis afro musik resto concert
URL:https://villemorte.fr/agenda/maquis-afro-musik/
LOCATION:Grrrnd Zero\, 60\, avenue de Bohlen\, Vaulx en Velin\, 69120
CATEGORIES:bouffe,musique live
END:VEVENT
BEGIN:VEVENT
DTSTART;TZID=Europe/Paris:20250607T200000
DTEND;TZID=Europe/Paris:20250607T200000
DTSTAMP:20260422T190402
CREATED:20250517T085109Z
LAST-MODIFIED:20250517T085109Z
UID:29198-1749326400-1749326400@villemorte.fr
SUMMARY:Rap & Drag
DESCRIPTION:
URL:https://villemorte.fr/agenda/rap-drag/
LOCATION:Toï Toï le Zinc\, 17-19 Rue Marcel Dutartre\, Villeurbanne\, 69100 \, France
CATEGORIES:Dragshow,musique live
END:VEVENT
BEGIN:VEVENT
DTSTART;TZID=Europe/Paris:20250607T200000
DTEND;TZID=Europe/Paris:20250607T200000
DTSTAMP:20260422T190402
CREATED:20250606T052733Z
LAST-MODIFIED:20250606T052733Z
UID:29465-1749326400-1749326400@villemorte.fr
SUMMARY:Dance for climate DJ set Dancalà
DESCRIPTION:-Dance for climate DJ set Dancalà – samedi 7 juin\, 20h\, AlternatiBar\, entrée libre
URL:https://villemorte.fr/agenda/dance-for-climate-dj-set-dancala-3/
LOCATION:Alternatibar\, 126 Montée de la Grande-Côte\, Lyon\, 69001\, France
CATEGORIES:DJ Set
END:VEVENT
BEGIN:VEVENT
DTSTART;TZID=Europe/Paris:20250607T203000
DTEND;TZID=Europe/Paris:20250607T203000
DTSTAMP:20260422T190402
CREATED:20250517T090253Z
LAST-MODIFIED:20250517T090253Z
UID:29210-1749328200-1749328200@villemorte.fr
SUMMARY:The In-Fuzzed
DESCRIPTION:THE IN-FUZZED (Garage Rock // Perpignan)\nLes membres de The In-Fuzzed sont tous issus de formations garage cultes de la scène perpignanaise : The Beach Bitches\, El Vicio\, The Bellas\, Sonic Chicken 4\, Hair and the Iotas et d’autres… Avec THE IN-FUZZED\, ils montent encore d’un cran et jouent à 11 (Spinal Tap addicts ) ! Depuis la création des IN-FUZZED en 2019\, le groupe a été plutôt fertile : deux 45 tours et deux albums (le second ayant été coproduit en 2024 par les labels Pigmé Records\, Stryckhnine Records et Dangerhourse Skylab). Au printemps 2024\, petit changement dans le line-up du groupe : Renaud (ex Crank\, Hair and the Iotas\, Jack of Heart\, Liminanas) intègre le groupe. \nhttps://thein-fuzzed.bandcamp.com/\nhttps://open.spotify.com/…/artist/3FpmunRQu3bhxIvPOEBYDx\nhttps://www.maximumrocknroll.com/band/the-in-fuzzed/\nhttps://youtu.be/Gb-LoULFLOM
URL:https://villemorte.fr/agenda/the-in-fuzzed/
LOCATION:Trokson\, 110 Montée de la grande côte\, Lyon\, 69001\, France
CATEGORIES:musique live
END:VEVENT
END:VCALENDAR