BEGIN:VCALENDAR
VERSION:2.0
PRODID:-//Ville Morte - ECPv5.12.4//NONSGML v1.0//EN
CALSCALE:GREGORIAN
METHOD:PUBLISH
X-WR-CALNAME:Ville Morte
X-ORIGINAL-URL:https://villemorte.fr
X-WR-CALDESC:évènements pour Ville Morte
BEGIN:VTIMEZONE
TZID:Europe/Paris
BEGIN:DAYLIGHT
TZOFFSETFROM:+0100
TZOFFSETTO:+0200
TZNAME:CEST
DTSTART:20250330T010000
END:DAYLIGHT
BEGIN:STANDARD
TZOFFSETFROM:+0200
TZOFFSETTO:+0100
TZNAME:CET
DTSTART:20251026T010000
END:STANDARD
END:VTIMEZONE
BEGIN:VEVENT
DTSTART;TZID=Europe/Paris:20250701T210000
DTEND;TZID=Europe/Paris:20250704T170000
DTSTAMP:20260422T204019
CREATED:20250518T165426Z
LAST-MODIFIED:20250629T065810Z
UID:29239-1751403600-1751648400@villemorte.fr
SUMMARY:Diversions
DESCRIPTION:01/07/2025 \nRADIO LIVE : Féminisme et industrie musicale : la sororité et l’adelphité pour contrer le syndrome de l’imposteur·ice ?\nEn direct sur Radio Anthropocène et en public au Périscope \nGratuit \n  \nZOZIO – Maloya\, rock\, jazz \nLe Périscope – 13 rue Delandine \n18h – concert à 21h \n8/10€ \n  \n02/07/2025 \nAIL AIL AIL ! – Restitution des Ateliers d’Improvisation Libre du Périscope \nLe Périscope – 13 rue Delandine \n19h \nGratuit \n  \n08/07/2025 \nMILLE – Chansons pop surréalistes \nChez Daddy Perrache – 66 cours Suchet \n18h \nGratuit \n  \n09/07/2025 \nBITTER BLAZE – Jazz actuel \nCATTA – Jazz actuel \n[soirée tanDEM] \nLe Périscope – 13 rue Delandine \n21h \nGratuit \n  \n10/07/2025 \nJULIE NORMAL – Ondes Martenot \nSÉRAPHINE DE TREMBLAY – Musique ambient radieuse \nJardin partagé Gilibert – 13 rue Gilibert \n18h \nGratuit \n  \n11/07/2025 \nZEPH – Afrofunk \nSounds of La Cave DJ – Bass music \nLe Périscope – 13 rue Delandine \n21h \n10€ \n  \n15/07/2024 \nDEAR POLA – Folk \nLe Zibou Lab – 71 rue Smith \n18h \nGratuit \n  \n16/07/2025 \nDOCE DE COCO – Musique brésilienne \nJardin partagé Rambaud – quai Rambaud \n18h \nGratuit \n  \n17/07/2025 \nMANDORLE – Chant\, mandole algérien\, saxophone \nEscale Solidaire du 2 – 25 Rue Delandine \n18h \nGratuit
URL:https://villemorte.fr/agenda/diversions/
LOCATION:Périscope\, 13 rue Delandine\, Lyon\, 69002\, France
CATEGORIES:musique live
END:VEVENT
BEGIN:VEVENT
DTSTART;TZID=Europe/Paris:20250702T180000
DTEND;TZID=Europe/Paris:20250702T180000
DTSTAMP:20260422T204019
CREATED:20250630T151928Z
LAST-MODIFIED:20250630T151928Z
UID:29620-1751479200-1751479200@villemorte.fr
SUMMARY:Soirée de soutien Bazarrière
DESCRIPTION:♥ SOIRÉE DE SOUTIEN A LA CRÉATION D’UN LIEU AUTOGÉRÉ D’HABITAT ET D’ACTIVITÉ ♥ \n2 JUILLET – RITA PLAGE dès 18H \n68 Cour Tolstoï Villeurbanne \n19h WATCHDOG – Duo de jazz omnivore\, inidentifiable et nonchalant – https://collectifpinceoreilles.com/Groupes.php?id=13 \n21h30 LES BERNARDS– Quintette de reprises folk-rock déjantées à fort bonheur ajouté – https://m.soundcloud.com/lea-winterdepaz?utm_source=clipboard&utm_medium=text&utm_campaign=social_sharing \nEt on vous spoil la chorale folieponique surprise FOLIEPONY – Tout au long de la soirée et dans ta tête pour une semaine (ɔ◔‿◔)ɔ \nCANTINE PRIX LIBRE \n Le collectif Bazarrière a besoin de vous pour acheter et créer un lieu collectif et solidaire sur Lyon ! \nDepuis à peu près trois ans \non s’organise à une dizaine pour inventer à Lyon \nun lieu qui soit un espace d’auto-organisation et d’expérimentation \nd’une autre idée de la ville. \nEt aujourd’hui on est à deux doigts d’y arriver !!! \n  \nLa ville\, on l’aime autant qu’on la déteste. S’en aller\, c’est la laisser à ce que l’on déteste\, y rester c’est nourrir l’espoir de la voir aimée par nous\, par d’autres et tenter ensemble de résister à l’oppression capitalistique\, hiérarchique et bétonnée… \nConcrètement\, on a trouvé une grande maison avec un jardin dans le 8ème dont on vient d’obtenir l’achat suite au désistement (ô joie !) d’un investisseur immobilier. Le lieu aura une dizaine de chambres et un dortoir\, et une partie de ses grands espaces communs sera consacrée à des activités ouvertes (réunions\, projections\, cantines\, assemblées\, etc…). \nCe lieu\, on l’achète via une association qu’on a créée afin que la propriété ne soit à personne et réellement collective\, mais aussi pour qu’il ne puisse plus jamais être revendu sur le marché immobilier ! \nAu-delà des habitant·es du lieu\, il s’agit de créer un groupe élargi d’usager·es afin de se retrouver moins seul·es face à des choses que l’on a appris à voir de manière individuelle : la santé\, le travail\, la bouffe. Et en rêvant plus loin encore\, on s’imagine à la petite échelle un réseau d’entraide et de lutte urbaine. \nPour finaliser l’achat et lancer cette aventure\, on a besoin de votre aide ! Nous lançons une campagne de dons et de prêts. Pendant tout l’événement\, nous tiendrons un stand pour répondre à vos questions et vous présenter le projet (＾▿＾) \nInfos : bazarriere@riseup.net
URL:https://villemorte.fr/agenda/soiree-de-soutien-bazarriere/
LOCATION:Rita-Plage\, 68 Cours Tolstoï\, Villeurbanne\, 69100
CATEGORIES:soirée de soutien
END:VEVENT
BEGIN:VEVENT
DTSTART;TZID=Europe/Paris:20250702T190000
DTEND;TZID=Europe/Paris:20250702T190000
DTSTAMP:20260422T204019
CREATED:20250629T065525Z
LAST-MODIFIED:20250629T065525Z
UID:29616-1751482800-1751482800@villemorte.fr
SUMMARY:l'Odyssée du CRAQ!
DESCRIPTION:par Collectif Réflexif et Artistique Queer\nLe 02 juillet 2025\, de 19h à 21h30\, au CCVA de Villeurbanne \nLa chorale du CRAQ! vous invite à embarquer dans son extraordinaire odyssée\, contée par Willow\, en incroyable escargot intergalactique ! Réservez vite votre billet pour voyager à bord de notre vaisseau aux confins de l’univers avec vos pirates queer de l’espace. \nIMPORTANT : Il n’y aura pas de stand de vente de billet physique le jour de l’évènement. La vente de billet se fait uniquement via HelloAsso : https://www.helloasso.com/associations/collectif-reflexif-et-artistique-queer/evenements/billetterie-spectacle-craq-2-juillet-2025 \nHORAIRES : \n19h – Ouverture des portes : buvette interstellaire à prix libre\n20h – Spectacle\n22h – Fermeture des portes du CCVA \nSi vous avez besoin d’un emplacement PMR (fauteuil roulant) ou une autre demande concernant votre placement\, adressez-nous un mail à chorale [at] craq.fr afin de vous assurer une place adéquate.
URL:https://villemorte.fr/agenda/lodyssee-du-craq/
LOCATION:CCVA\, 234 cours Emile Zola\, VILLEURBANNE\, 69100
CATEGORIES:chorale,musique live
END:VEVENT
BEGIN:VEVENT
DTSTART;TZID=Europe/Paris:20250702T200000
DTEND;TZID=Europe/Paris:20250702T200000
DTSTAMP:20260422T204019
CREATED:20250625T165543Z
LAST-MODIFIED:20250629T065257Z
UID:29596-1751486400-1751486400@villemorte.fr
SUMMARY:Concert de soutien pour la Palestine
DESCRIPTION:titre : Concert de soutien pour la Palestine\, avec la FAME et un autre groupe\ndate : 02/07 (oui c’est bientôt)\nlieu : le Toï-Toï\, 17 rue Marcel Dutartre Villeurbanne\npetit texte pondu à l’arrache :\nSalut\, devant le désastre qui se déroule sous nos yeux on fait ce qu’on peut faire de mieux : on organise un mini-concert de soutien au peuple Palestinien\, avec concert de la FAME\, peut-être un autre groupe et tables de presse.\nOù ça ? Au Toï-Toï\, 17 rue Marcel Dutartre à Villeurbanne\, pas très loin du campus\nQuand ça ? le 02 juillet\nCombien ? La soirée sera à prix libre\, et tous les bénéfices iront pour des associations d’aide au peuple Palestinien\nA quelle heure\, d’autres infos ? On est en train de construire la soirée un peu à l’arrache\, regardez sur le site du Toï-Toï : https://www.toitoilezinc.fr/agenda-salle-de-spectacle/
URL:https://villemorte.fr/agenda/concert-de-soutien-pour-la-palestine/
LOCATION:Toï Toï le Zinc\, 17-19 Rue Marcel Dutartre\, Villeurbanne\, 69100 \, France
CATEGORIES:musique live
ATTACH;FMTTYPE=image/jpeg:https://villemorte.fr/wp-content/uploads/2025/06/palestine.jpeg
END:VEVENT
BEGIN:VEVENT
DTSTART;TZID=Europe/Paris:20250702T203000
DTEND;TZID=Europe/Paris:20250702T203000
DTSTAMP:20260422T204019
CREATED:20250517T092055Z
LAST-MODIFIED:20250517T092055Z
UID:29228-1751488200-1751488200@villemorte.fr
SUMMARY:Sin Pudor + Loyasse
DESCRIPTION:SIN PUDOR (Punk Hardcore // Colombie)\nSin pudor est un groupe de thrash punk féminin qui\, depuis 2005\, présente à travers sa musique\, sa mise en scène et sa vie quotidienne une vision liée à la construction non binaire du féminin et du masculin\, ainsi qu’au dépassement des identités corporelles et sexuelles établies selon des concepts hétéropatriarcaux et hétérocentriques. À cette empreinte caractéristique s’ajoute un message politique antifasciste.\nSin Pudor expérimente avec des riffs accélérés\, des phrases de double grosse caisse et des voix rauques\, qui sont influencés par une variété d’influences. Cela se ressent dans « Lasciva Intoxicación »\, le premier album du groupe sorti en 2015 et produit par ses membres. L’ensemble solide\, compact et énergique\, associé à une gestion de la scène qui se renouvelle à chaque concert ─intégrant différents publics et goûts musicaux- constitue la plus grande force du groupe.\nhttps://youtu.be/GVccFcNlDME?si=2SC-cunpAoaYC4-M\nhttps://sinpudor.bandcamp.com/ \nLOYASSE (Blackenedcrust punk // Lyon)\nBlackenedcrust punk // Lyon\nhttps://loyasse.bandcamp.com/album/demo-live
URL:https://villemorte.fr/agenda/sin-pudor-loyasse/
LOCATION:Trokson\, 110 Montée de la grande côte\, Lyon\, 69001\, France
CATEGORIES:musique live
END:VEVENT
END:VCALENDAR