BEGIN:VCALENDAR
VERSION:2.0
PRODID:-//Ville Morte - ECPv5.12.4//NONSGML v1.0//EN
CALSCALE:GREGORIAN
METHOD:PUBLISH
X-WR-CALNAME:Ville Morte
X-ORIGINAL-URL:https://villemorte.fr
X-WR-CALDESC:évènements pour Ville Morte
BEGIN:VTIMEZONE
TZID:Europe/Paris
BEGIN:DAYLIGHT
TZOFFSETFROM:+0100
TZOFFSETTO:+0200
TZNAME:CEST
DTSTART:20250330T010000
END:DAYLIGHT
BEGIN:STANDARD
TZOFFSETFROM:+0200
TZOFFSETTO:+0100
TZNAME:CET
DTSTART:20251026T010000
END:STANDARD
END:VTIMEZONE
BEGIN:VEVENT
DTSTART;TZID=Europe/Paris:20250701T210000
DTEND;TZID=Europe/Paris:20250704T170000
DTSTAMP:20260422T190433
CREATED:20250518T165426Z
LAST-MODIFIED:20250629T065810Z
UID:29239-1751403600-1751648400@villemorte.fr
SUMMARY:Diversions
DESCRIPTION:01/07/2025 \nRADIO LIVE : Féminisme et industrie musicale : la sororité et l’adelphité pour contrer le syndrome de l’imposteur·ice ?\nEn direct sur Radio Anthropocène et en public au Périscope \nGratuit \n  \nZOZIO – Maloya\, rock\, jazz \nLe Périscope – 13 rue Delandine \n18h – concert à 21h \n8/10€ \n  \n02/07/2025 \nAIL AIL AIL ! – Restitution des Ateliers d’Improvisation Libre du Périscope \nLe Périscope – 13 rue Delandine \n19h \nGratuit \n  \n08/07/2025 \nMILLE – Chansons pop surréalistes \nChez Daddy Perrache – 66 cours Suchet \n18h \nGratuit \n  \n09/07/2025 \nBITTER BLAZE – Jazz actuel \nCATTA – Jazz actuel \n[soirée tanDEM] \nLe Périscope – 13 rue Delandine \n21h \nGratuit \n  \n10/07/2025 \nJULIE NORMAL – Ondes Martenot \nSÉRAPHINE DE TREMBLAY – Musique ambient radieuse \nJardin partagé Gilibert – 13 rue Gilibert \n18h \nGratuit \n  \n11/07/2025 \nZEPH – Afrofunk \nSounds of La Cave DJ – Bass music \nLe Périscope – 13 rue Delandine \n21h \n10€ \n  \n15/07/2024 \nDEAR POLA – Folk \nLe Zibou Lab – 71 rue Smith \n18h \nGratuit \n  \n16/07/2025 \nDOCE DE COCO – Musique brésilienne \nJardin partagé Rambaud – quai Rambaud \n18h \nGratuit \n  \n17/07/2025 \nMANDORLE – Chant\, mandole algérien\, saxophone \nEscale Solidaire du 2 – 25 Rue Delandine \n18h \nGratuit
URL:https://villemorte.fr/agenda/diversions/
LOCATION:Périscope\, 13 rue Delandine\, Lyon\, 69002\, France
CATEGORIES:musique live
END:VEVENT
BEGIN:VEVENT
DTSTART;VALUE=DATE:20250703
DTEND;VALUE=DATE:20250707
DTSTAMP:20260422T190433
CREATED:20250702T065145Z
LAST-MODIFIED:20250702T065145Z
UID:29715-1751500800-1751846399@villemorte.fr
SUMMARY:Soïo Mundo
DESCRIPTION:Après 26 éditions\, le festival Les Jeudis des Musiques du Monde\, festival historique organisé par le CMTRA\,  s’est transformé en 2024\, en un nouvel évènement d’ampleur autour des musiques traditionnelles d’ici et d’ailleurs au parc Blandan Lyon 7e. \nSoïo Mundo s’applique à mettre davantage en valeur la diversité des pratiques et des cultures du monde\, tout en gardant l’ADN qui en fait sa force : un festival gratuit\, alliant esprit festif et engagé avec une programmation de qualité ouvert à toutes et tous et porté par une belle énergie collective !
URL:https://villemorte.fr/agenda/soio-mundo/
LOCATION:Parc Sergent Blandan\, LYON\, 69007
CATEGORIES:festival,musique live
ATTACH;FMTTYPE=image/png:https://villemorte.fr/wp-content/uploads/2025/07/Banniere-home4.png
END:VEVENT
BEGIN:VEVENT
DTSTART;TZID=Europe/Paris:20250703T183000
DTEND;TZID=Europe/Paris:20250703T203000
DTSTAMP:20260422T190433
CREATED:20250703T113554Z
LAST-MODIFIED:20250703T113554Z
UID:29722-1751567400-1751574600@villemorte.fr
SUMMARY:BRAIN plays SteadyStates
DESCRIPTION:!! gratuit mais réservation sur le site !! \nUne performance audiovisuelle mêlant science et art \nDécouvrez EEGsynth avec Samon Takahashi et Stephen WhitmarshNeurofeedback\, traitement du signal en temps réel et synthétiseurs modulaires. \nL’événement aura lieu à l’institut des épilepsies IDEE (voire point GPS et image ci-dessous) \nAn audiovisual performance merging science & art \nDiscover EEGsynth with Samon Takahashi and Stephen Whitmarsh \nNeurofeedback\, real-time signal processing and modular synthetizers. \nThe event will take place in the amphitheater of the IDEE epilepsy institute (see GPS point and picture below). \nUn rafraichissement est prévu avant le concert.
URL:https://villemorte.fr/agenda/brain-plays-steadystates/
LOCATION:Institut des épilepsies IDEE\, 59 Boulevard Pinel\, Bron\, 69500\, France
CATEGORIES:musique live,performance
END:VEVENT
BEGIN:VEVENT
DTSTART;TZID=Europe/Paris:20250703T200000
DTEND;TZID=Europe/Paris:20250703T200000
DTSTAMP:20260422T190433
CREATED:20250613T111215Z
LAST-MODIFIED:20250613T111215Z
UID:29570-1751572800-1751572800@villemorte.fr
SUMMARY:IMMORAL KIDS
DESCRIPTION:Duo naviguant entre Toulouse & Paris formé par Sean & Jif deux artistes pluridisciplinaires ayant fusionné leurs univers et leurs envies. A la croisée des genres\, IMMORAL KIDS navigue entre électro clash\, EBM\, et Synthpunk. Jouant avec les genres et les sexualités\, Immoral Kids revendique un esprit d’ouverture radical\, une célébration de l’amour universel.\nImmoral Kids est une aire de repos pour les âmes qui ont envie de se remettre en question\, de danser sur les marges et de rêver d’un avenir sans frontières. \nStay immoral\, stay true. \nhttps://linktr.ee/immoralkids
URL:https://villemorte.fr/agenda/immoral-kids/
LOCATION:Kraspek Myzik\, 20 Montée Saint Sébastien\, Lyon\, 69001\, France
CATEGORIES:musique live
END:VEVENT
BEGIN:VEVENT
DTSTART;TZID=Europe/Paris:20250703T200000
DTEND;TZID=Europe/Paris:20250703T200000
DTSTAMP:20260422T190433
CREATED:20250630T152120Z
LAST-MODIFIED:20250630T152120Z
UID:29622-1751572800-1751572800@villemorte.fr
SUMMARY:KANASEL
DESCRIPTION:☆ JEUDI 3 JUILLET – 20H – CONCERT KANASEL (La réunion ; pop-rock festive créole) @kanasel\nLà où Kanasel va\, il chante. Là où on chante\, Kanasel va.\nDes rues\, des bars\, des scènes de festival\, le chanteur auteur compositeur vient de partout et veut y retourner.\nSa voix boude la discrétion\, il lui autorise donc toutes les outrances : sa musique est celle d’une culture de playlists dans lesquelles Delgrès croise les Beatles\, -M- et Alain Peters sans le moindre tabou. \nPour se présenter au public avant de lui dévoiler ses propres chansons\, il commence donc à présenter ses racines via des adaptations en créole de ses morceaux anglais préférés. \nL’on y découvre donc sa voix\, sa plume et un amour coupable du transfuge identitaire qui définissent les contours de sa «musique kréopolitaine».\nKanasel a grandi avec 10000 albums dans sa poche et les a scellés dans le sien\, intitulé Florebo (Je fleurirai). \nUne musique sans interdits pour une carrière qui se veut sans frontières.\nPartout il veut chanter un blues rock tropical avec le Créole de son île\, le Français de son pays\, et l’Anglais de ses terres promises.
URL:https://villemorte.fr/agenda/kanasel/
LOCATION:Rita-Plage\, 68 Cours Tolstoï\, Villeurbanne\, 69100
CATEGORIES:musique live
END:VEVENT
END:VCALENDAR