BEGIN:VCALENDAR
VERSION:2.0
PRODID:-//Ville Morte - ECPv5.12.4//NONSGML v1.0//EN
CALSCALE:GREGORIAN
METHOD:PUBLISH
X-WR-CALNAME:Ville Morte
X-ORIGINAL-URL:https://villemorte.fr
X-WR-CALDESC:évènements pour Ville Morte
BEGIN:VTIMEZONE
TZID:Europe/Paris
BEGIN:DAYLIGHT
TZOFFSETFROM:+0100
TZOFFSETTO:+0200
TZNAME:CEST
DTSTART:20250330T010000
END:DAYLIGHT
BEGIN:STANDARD
TZOFFSETFROM:+0200
TZOFFSETTO:+0100
TZNAME:CET
DTSTART:20251026T010000
END:STANDARD
END:VTIMEZONE
BEGIN:VEVENT
DTSTART;TZID=Europe/Paris:20250708T210000
DTEND;TZID=Europe/Paris:20250711T170000
DTSTAMP:20260423T032207
CREATED:20250518T165549Z
LAST-MODIFIED:20250629T065821Z
UID:29241-1752008400-1752253200@villemorte.fr
SUMMARY:Diversions
DESCRIPTION:01/07/2025 \nRADIO LIVE : Féminisme et industrie musicale : la sororité et l’adelphité pour contrer le syndrome de l’imposteur·ice ?\nEn direct sur Radio Anthropocène et en public au Périscope \nGratuit \n  \nZOZIO – Maloya\, rock\, jazz \nLe Périscope – 13 rue Delandine \n18h – concert à 21h \n8/10€ \n  \n02/07/2025 \nAIL AIL AIL ! – Restitution des Ateliers d’Improvisation Libre du Périscope \nLe Périscope – 13 rue Delandine \n19h \nGratuit \n  \n08/07/2025 \nMILLE – Chansons pop surréalistes \nChez Daddy Perrache – 66 cours Suchet \n18h \nGratuit \n  \n09/07/2025 \nBITTER BLAZE – Jazz actuel \nCATTA – Jazz actuel \n[soirée tanDEM] \nLe Périscope – 13 rue Delandine \n21h \nGratuit \n  \n10/07/2025 \nJULIE NORMAL – Ondes Martenot \nSÉRAPHINE DE TREMBLAY – Musique ambient radieuse \nJardin partagé Gilibert – 13 rue Gilibert \n18h \nGratuit \n  \n11/07/2025 \nZEPH – Afrofunk \nSounds of La Cave DJ – Bass music \nLe Périscope – 13 rue Delandine \n21h \n10€ \n  \n15/07/2024 \nDEAR POLA – Folk \nLe Zibou Lab – 71 rue Smith \n18h \nGratuit \n  \n16/07/2025 \nDOCE DE COCO – Musique brésilienne \nJardin partagé Rambaud – quai Rambaud \n18h \nGratuit \n  \n17/07/2025 \nMANDORLE – Chant\, mandole algérien\, saxophone \nEscale Solidaire du 2 – 25 Rue Delandine \n18h \nGratuit
URL:https://villemorte.fr/agenda/diversions-2/
LOCATION:Périscope\, 13 rue Delandine\, Lyon\, 69002\, France
CATEGORIES:musique live
END:VEVENT
BEGIN:VEVENT
DTSTART;TZID=Europe/Paris:20250709T183000
DTEND;TZID=Europe/Paris:20250710T220000
DTSTAMP:20260423T032207
CREATED:20250702T055706Z
LAST-MODIFIED:20250702T055706Z
UID:29682-1752085800-1752184800@villemorte.fr
SUMMARY:Madalitso Band
DESCRIPTION:Dates 9 juil. – 10 juil. 2025\n\n\n\nTarifs Gratuit\nLieu Péristyle de l’Opéra\nDurée 60 minutes\nHoraires 18h30 et 21h\n\n\nConsidérés comme de véritables prophètes musicaux dans leur pays\, Yosefe Kalekeni et Yobu Malingwa placent au cœur de leurs compositions leurs instruments traditionnels faits maison\, avec les matériaux du bord : le babatone\, grande contrebasse à une corde\, et une guitare à 4 cordes qui remplace ici le banjo. Le duo s’est d’abord fait connaître sur les marchés de quartier\, les mariages et les fêtes locales\, avant d’être repéré par le label genevois Bongo Joe qui\, avec deux albums à la clé\, leur a ouvert les scènes du monde entier. En écoutant leur musique fraîche et dansante\, jouée sans artifices et avec une sincérité souriante de tous les instants\, ce rayonnement international se comprend aisément : le Madalitso Band a le don de transmettre une forme de minimalisme hypnotique à la fois immédiat et généreux\, qui est chez lui partout. \nYobu Maligwa – chant\, babatone\, Yosefe Kalekeni – chant\, guitare + technicien son
URL:https://villemorte.fr/agenda/madalitso-band-2/
LOCATION:Péristyle de l’Opéra\, 1 Place de la Comédie\, Lyon\, 69001
CATEGORIES:musique live
END:VEVENT
BEGIN:VEVENT
DTSTART;TZID=Europe/Paris:20250710T193000
DTEND;TZID=Europe/Paris:20250710T193000
DTSTAMP:20260423T032207
CREATED:20250630T152352Z
LAST-MODIFIED:20250630T152352Z
UID:29626-1752175800-1752175800@villemorte.fr
SUMMARY:KARAOKE PIANO LIVE
DESCRIPTION:☆ JEUDI 10 JUILLET – 19H30 – KARAOKE PIANO LIVE AVEC @paulecornet\nEmbarque ta team préférée et viens chanter au Rita\, accompagné.e par Paule Cornet au piano qui t’a préparé une playlist de 200 chansons ! En français et en anglais.\nSi toi aussi tu as envie d’accompagner une chanson\, apporte ton instrument; le clavier sera disponible;\net si tu as envie de monter sur scène pour présenter une compo\, c’est possible\, max 2 titres;\nen préparation Hommage à …. (on se concerte un mois avant pour décider)\nEt bien sûr\, LE FINAL A CAPPELLA\, bonne dégustation !
URL:https://villemorte.fr/agenda/karaoke-piano-live-4/
LOCATION:Rita-Plage\, 68 Cours Tolstoï\, Villeurbanne\, 69100
CATEGORIES:Karaoké
END:VEVENT
BEGIN:VEVENT
DTSTART;TZID=Europe/Paris:20250710T200000
DTEND;TZID=Europe/Paris:20250710T200000
DTSTAMP:20260423T032207
CREATED:20250519T164925Z
LAST-MODIFIED:20250519T164925Z
UID:29299-1752177600-1752177600@villemorte.fr
SUMMARY:Les Rencards + Guest
DESCRIPTION:Jeudi 10 Juillet : Les Rencards + Guest !
URL:https://villemorte.fr/agenda/les-rencards-guest/
LOCATION:Groom\, 6 rue roger violi\, Lyon\, 69001\, France
CATEGORIES:musique live
END:VEVENT
BEGIN:VEVENT
DTSTART;TZID=Europe/Paris:20250710T203000
DTEND;TZID=Europe/Paris:20250710T203000
DTSTAMP:20260423T032207
CREATED:20250517T092237Z
LAST-MODIFIED:20250517T092237Z
UID:29230-1752179400-1752179400@villemorte.fr
SUMMARY:Escape-ISM
DESCRIPTION:ESCAPE-ISM\nLo-Fi Art Rock // U.S.A.\nDominé par l’électronique lo-fi\, les guitares bourdonnantes\, les paroles spirituelles et subversives\, et la voix froidement passionnée de Ian Svenonius\, Escape-Ism représente un autre courant pour les talents uniques de celui qui a fondé Chain & The Gang\, The Make Up\, Weird War\, etc… Lancé en 2017 avec Introduction to Escape-Ism\, Svenonius a déclaré qu’il s’agissait de son premier véritable projet solo\, dans lequel il écrit toutes les chansons\, s’occupe de toutes les voix et joue de tous les instruments.\nIan Svenonius est depuis longtemps l’une des figures les plus intrigantes du firmament du rock underground\, connu pour la marque distinctive de commentaires politiques et sociaux qu’il exprime en tant que musicien\, animateur du talk-show Soft Focus et auteur des livres The Psychic Soviet et Supernatural Strategies for Making a Rock “n” Roll Group. Comme pour la plupart de ses projets\, Svenonius a façonné une perspective thématique spécifique pour Escape-Ism\, encadrée par un rejet de la nostalgie et une adoption emphatique du primitivisme stylistique.\nhttps://youtu.be/a7ggK45YgoE?si=3eHZBvmP7ridMRup\nhttps://escape-ism.bandcamp.com/
URL:https://villemorte.fr/agenda/escape-ism-4/
LOCATION:Trokson\, 110 Montée de la grande côte\, Lyon\, 69001\, France
CATEGORIES:musique live
END:VEVENT
END:VCALENDAR