BEGIN:VCALENDAR
VERSION:2.0
PRODID:-//Ville Morte - ECPv5.12.4//NONSGML v1.0//EN
CALSCALE:GREGORIAN
METHOD:PUBLISH
X-WR-CALNAME:Ville Morte
X-ORIGINAL-URL:https://villemorte.fr
X-WR-CALDESC:évènements pour Ville Morte
BEGIN:VTIMEZONE
TZID:Europe/Paris
BEGIN:DAYLIGHT
TZOFFSETFROM:+0100
TZOFFSETTO:+0200
TZNAME:CEST
DTSTART:20250330T010000
END:DAYLIGHT
BEGIN:STANDARD
TZOFFSETFROM:+0200
TZOFFSETTO:+0100
TZNAME:CET
DTSTART:20251026T010000
END:STANDARD
END:VTIMEZONE
BEGIN:VEVENT
DTSTART;TZID=Europe/Paris:20250711T183000
DTEND;TZID=Europe/Paris:20250712T220000
DTSTAMP:20260423T072200
CREATED:20250702T060036Z
LAST-MODIFIED:20250702T060036Z
UID:29684-1752258600-1752357600@villemorte.fr
SUMMARY:Eym Trio & Varijashree Venugopal
DESCRIPTION:Dates 11 juil. – 12 juil. 2025\n\n\n\nTarifs Gratuit\nLieu Péristyle de l’Opéra\nDurée 60 minutes\nHoraires 18h30 et 21h\n\n\nVoilà plus de douze ans que EYM Trio défend un jazz acoustique\, moderne et ouvert sur le monde. Douze ans de voyages\, de rencontres\, d’expérimentations et de collaborations en tout genre\, douze ans d’une traversée libre et spontanée des esthétiques musicales\, unifiée par une empreinte sonore faite de délicatesse et d’explosions\, de suspense et d’imprévus… À l’image de cette rencontre avec la flûtiste et chanteuse indienne Varijashree Venugopal\, véritable prodige de la musique carnatique (la musique classique du nord de l’Inde) maîtrisant avec une égale aisance les codes de la musique occidentale et du jazz. Documentée en 2023 par Bangalore\, un album de toute(s) beauté(s)\, son association avec le Trio reste sur scène une expérience où l’interaction spontanée et la magie de l’improvisation restent reines. \nElie Dufour – piano\, Marc Michel – batterie\, Yann Phayphet – contrebasse\, Varijashree Venugopal – chant\, flûte
URL:https://villemorte.fr/agenda/eym-trio-varijashree-venugopal/
LOCATION:Péristyle de l’Opéra\, 1 Place de la Comédie\, Lyon\, 69001
CATEGORIES:musique live
END:VEVENT
BEGIN:VEVENT
DTSTART;VALUE=DATE:20250712
DTEND;VALUE=DATE:20250715
DTSTAMP:20260423T072200
CREATED:20250702T063025Z
LAST-MODIFIED:20250702T063025Z
UID:29701-1752278400-1752537599@villemorte.fr
SUMMARY:Festival Fêtes Escales
DESCRIPTION:27 ans !\n\n\n\n\nLes Fêtes Escales sont revenus en force cette année fêter leur 27è anniversaire\, soit un quart de siècle de découvertes artistiques et de partage. Vous avez été plus de 10 000 festivaliers à venir profiter de la programmation riche et variée au parc Louis-Dupic à Vénissieux lors de la précédent édition en 2024. \n\n\n\n\n\n\n\n\nProgrammation 2025\n\n\n\n\n\n\n\n\nSAMEDI 12 JUILLET • Rap\, hip-hop & soul\n\n\n\n\n\n\n\n\n\n\n\n\n\n\n\n\n\n\n\nDAYMEN\n19h30 • rap français \n\n\n\n\n\n\nFÉFÉ\n21h • rap français\, afropop \n\n\n\n\n\n\nCARBONNE\n22h30 • chanson\, rap français \n\n\n\n\n\n\n\n\nDIMANCHE 13 JUILLET • Musiques du monde\n\n\n\n\n\n\n\n\n\n\n\n\n\n\n\n\n\n\n\nAN PAGAY\n18h30 • Musiques du monde \n\n\n\n\n\n\nGNAWA DIFFUSION\n20h • Musique gnaoua \n\n\n\n\n\n\nFLAVIA COELHO\n21h30 • Reggae\, musique brésilienne \n\n\n\n\n\n\n\n\n\n\n\n\n\n\n\n\n\nLUNDI 14 JUILLET • Journée festive\n\n\n\n\n\n\n\n\n\n\n\n\n\n\n\n\n\n\n\nBESTIOLES BLUES BAZAR\n11h30 • Jazz\, jeune public \n\n\n\n\n\n\nABLABÔYE\n14h30 • Chanson française \n\n\n\n\n\n\nCOMMANDANT COUSTOU\n17h • Musiques du monde \n\n\n\n\n\n\n\n\n\n\n\n\n\n\n\n\n\nMAIS AUSSI…\n\n\n\n\n\n\n\n\n\n\n\n\n\n12h30 • Pique-Nique \nÀ partir de 13h • Jeux en bois pour petits et grands \n16h • Dictée de l’espace Pandora \n18h • Apéritif \n\n\n\n\n\n\n\n\n\nPOUR SUIVRE TOUTES LES ACTUS\n\n\n\n\n\n\nIdentité visuelle\n\n\n\n\nCette année\, encore  l’identité visuelle du festival est créé par  Anaïs Bellot. Un univers artistique joyeux et décalé pour vous donner envie de venir profiter de la musique et de l’ambiance sur la planète Dupic ! \nDécouvrez son travail en cliquant ici. \n\n\n\n\n\n\n\n\nUn festival engagé\n\n\n\n\nLe festival Fêtes Escales s’inscrit dans une démarche éco-responsable et solidaire. En cohérence avec la politique de la Ville\, nous avons à cœur de limiter notre impact sur l’environnement et de favoriser des pratiques durables et inclusives. \nAinsi\, nous mettons en place chaque année des initiatives concrètes : tri sélectif\, compostage des déchets\, brigade verte\, priorité aux produits locaux\, bio et en vrac pour le catering\, utilisation d’un vélo cargo pour les déplacements de l’équipe du festival\, critères de performance environnementale dans la sélection des candidatures des food trucks et autres entreprises partenaires… \n\n\nEn savoir plus sur les engagements du festival\n\n\n\n\n\n\n\n\nInformations pratiques\n\n\n\n\n\n\n\nLe festival se déroule au coeur du parc Louis Dupic\, à Vénissieux\, derrière l’Hôtel de Ville \n\n\n\n\n\n\n\n\n\nSamedi 12\, dimanche 13 et lundi 14 juillet \n\n\n\n\n\n\n\n\n\nFeu d’artifice le dimanche 13 juillet à 23h00 tirés du stade Laurent Gérin  \n\n\n\n\n\n\n\n\n\nContacts\nNicolas Gonthier (programmation) – prog-bizarre@lamachinerie-venissieux.fr\nClaire Vandestoke (administration) – cvandestoke@ville-venissieux.fr\nLudivine Tourmen (communication) – ltourmen@ville-venissieux.fr \n\n\n\n\n\n\n\n\n\n04 72 50 69 04 ou 04 72 21 44 98\nfetes.escales@ville-venissieux.fr \n\n\n\n\n\n\n\n\n\nACCES \n\nTRAM T4 – arrêt Marcel-Houël – Hôtel de ville\nMétro D – arrêt Gare de Vénissieux\nBUS C12 – arrêt Marcel-Houël / Hôtel de Ville\nBUS 35 et 39 – arrêt Croizat-Paul Bert\nBUS 112 et 113 – arrêt Duclos\nVoiture – sortie du périphérique\, suivre Vénissieux centre\nParking parc relais TCL – Gare de Vénissieux
URL:https://villemorte.fr/agenda/festival-fetes-escales/
LOCATION:Parc Louis Dupic\, Vénissieux\, 69200
CATEGORIES:festival
END:VEVENT
BEGIN:VEVENT
DTSTART;TZID=Europe/Paris:20250712T140000
DTEND;TZID=Europe/Paris:20250712T220000
DTSTAMP:20260423T072200
CREATED:20250702T063241Z
LAST-MODIFIED:20250702T063902Z
UID:29704-1752328800-1752357600@villemorte.fr
SUMMARY:OPEN AIR : La Cerise sur le gâteau
DESCRIPTION:[Gratuit] Infrason – OPEN AIR : La Cerise sur le gâteau Parc de la Cerisaie TECHNO – TRANCE – BREAKS – ELECTRO —————| L’ÉVÉNEMENT Le 12 juillet\, on investit à nouveau le magnifique Parc de la Cerisaie. Cette fois-ci\, place à une direction artistique plus hybride\, entre bass profonde\, trance envoûtante\, breaks nerveux et électro futuriste. Une sonorisation au poil\, une scéno exclusive taillée pour l’occasion\, tout un tas d’activités\, d’exposants\, de food truck et une carte de boisson à prix doux ; autant vous dire qu’on vous a concocté un après-midi de fou dans ce magnifique parc. Entrée gratuite\, all day long ! —————| PROGRAMME G.ear | Paris Brum | Lyon Caracol b2b SPLT | Lyon Soundsystem par 2sides Scénographie par Infrason Yoga sonore avec Elo in flow & Verveine sur inscription (5 € par personne\, places limitées à 20) Paillettes par tba Food Truck par tba Friperie par La Fripocante Bar par Brewlab Chill out par Infrason —————| INFORMATIONS BILLETTERIE : L’événement est totalement gratuit ! En revanche\, nous attendons beaucoup de monde\, nous vous conseillons de venir tôt. L’année dernière\, nous avons été complets très vite ! QUAND ? Samedi 12 juillet 2025 De 14h00 à 22h00 → Activités : 14h – 17h → DJ sets : 17h – 22h ACCÈS : → Les bouteilles en verre sont interdites sur le site. → Des contrôles pourront être effectués à l’entrée. → Les contenants non vides et les canettes ne sont pas autorisés. Vous pouvez apporter vos propres gourdes et éco-cups. Des cendriers et des poubelles de tri seront mis à disposition : merci de respecter ce lieu et l’environnement pour que la fête reste possible en plein air ! OÙ ? Parc de la Cerisaie 25 rue Chazière\, 69004 Lyon Accessible via : Métro C — Croix-Rousse Métro D — Valmy Bus 45\, C13\, C18\, S4 RÈGLES : Cet événement est un espace bienveillant et inclusif : → Zéro racisme → Zéro homophobie → Zéro transphobie → Zéro harcèlement → Zéro sexisme ARTWORK : Alci
URL:https://villemorte.fr/agenda/29704/
LOCATION:Parc de la Cerisaie\, 25 Rue Chazière\, Lyon\, 69004
CATEGORIES:DJ Set
ATTACH;FMTTYPE=image/png:https://villemorte.fr/wp-content/uploads/2025/07/Screenshot-2025-07-02-at-08-31-42-Instagram.png
END:VEVENT
BEGIN:VEVENT
DTSTART;TZID=Europe/Paris:20250712T170000
DTEND;TZID=Europe/Paris:20250712T170000
DTSTAMP:20260423T072200
CREATED:20250701T162159Z
LAST-MODIFIED:20250701T162159Z
UID:29646-1752339600-1752339600@villemorte.fr
SUMMARY:“Gigambitus”
DESCRIPTION:Gigambitus nous emmènent dans un univers rempli d’humour et de poésie qui flirte avec de multiples influences musicales allant du jazz à la musique classique\, en passant par les musiques traditionnelles. \nAvec habileté et génie musical\, ils proposent des chansons aux textes cocasses et évocateurs sur des mélodies entrainantes. Ils ne manquent jamais de faire rire le public et partagent leur complicité avec générosité. \nUne mécanique bien huilée et inventive qui met de bonne humeur. Bref\, un cocktail survitaminé qui fait du bien ! \n✨ Le Festival d’arts de rue du Taille-Crayon fait son grand retour pour sa 4ème édition !\nNous sommes ravi.e.s de vous accueillir une nouvelle année\, à l’ombre des platanes\, pour profiter de 4 super spectacles choisis avec soin !\nRendez-vous tous les samedis du mois de juillet à partir de 17h ! Rires\, larmes\, et émotions garanties ! ✨ \n▬▬▬▬▬▬▬▬ ✨ LE SPECTACLE ✨ ▬▬▬▬▬▬▬▬ \n► ⭐️ ||  ||\n      /  &  /   /  \nGigambitus c’est le spectacle de deux talentueux musiciens. L’un à la contrebasse et l’autre au ukulélé\, ils nous donnent la preuve que les opposés s’attirent et font des étincelles !\nIls nous emmènent dans un univers rempli d’humour et de poésie qui flirte avec de multiples influences musicales allant du jazz à la musique classique\, en passant par les musiques traditionnelles.\nAvec habileté et génie musical\, ils proposent des chansons aux textes cocasses et évocateurs sur des mélodies entraînantes. Ils ne manquent jamais de faire rire le public et partagent leur complicité avec générosité.\nUne mécanique bien huilée et inventive qui met de bonne humeur. Bref\, un cocktail survitaminé qui fait du bien ! \n➜ https://gigambitus.wixsite.com/gigambitus/medias \n▬▬▬▬▬▬▬▬ ✨ DISTRIBUTION ✨ ▬▬▬▬▬▬▬▬ \nÉcrit et interprété par : Mathias CHANON VARREAU et Julien MONERET \n▬▬▬▬▬▬▬▬ ⚡️ INFOS PRATIQUES ⚡️ ▬▬▬▬▬▬▬▬ \n Le Taille-Crayon\n 21 Rue Flachet à Villeurbanne\n️ Samedi 12 Juillet\n️ 5€ sur place / Gratuit pour les moins de 4 ans\n Ouverture du Taille-Crayon et de la billetterie : 16h30 / Début des spectacles : 17h\n⛔️Le bar ferme pendant les représentations : réouverture à 18h30\n Dernier métro direction Perrache le samedi : 1h45\n https://www.le-taille-crayon.fr/\nVoir moins
URL:https://villemorte.fr/agenda/gigambitus/
LOCATION:Le Taille-Crayon\, 21-23 Rue Flachet\, Villeurbanne\, 69100\, France
CATEGORIES:théâtre
END:VEVENT
BEGIN:VEVENT
DTSTART;TZID=Europe/Paris:20250712T210000
DTEND;TZID=Europe/Paris:20250712T210000
DTSTAMP:20260423T072200
CREATED:20250518T163001Z
LAST-MODIFIED:20250518T163001Z
UID:29237-1752354000-1752354000@villemorte.fr
SUMMARY:Weak + The Traders
DESCRIPTION:12 juillet : WEAK (Punk Pop // SP) + THE TRADERS (Punk Rock //Lyon)
URL:https://villemorte.fr/agenda/weak-the-traders/
LOCATION:Trokson\, 110 Montée de la grande côte\, Lyon\, 69001\, France
CATEGORIES:musique live
END:VEVENT
END:VCALENDAR