BEGIN:VCALENDAR
VERSION:2.0
PRODID:-//Ville Morte - ECPv5.12.4//NONSGML v1.0//EN
CALSCALE:GREGORIAN
METHOD:PUBLISH
X-WR-CALNAME:Ville Morte
X-ORIGINAL-URL:https://villemorte.fr
X-WR-CALDESC:évènements pour Ville Morte
BEGIN:VTIMEZONE
TZID:Europe/Paris
BEGIN:DAYLIGHT
TZOFFSETFROM:+0100
TZOFFSETTO:+0200
TZNAME:CEST
DTSTART:20210328T010000
END:DAYLIGHT
BEGIN:STANDARD
TZOFFSETFROM:+0200
TZOFFSETTO:+0100
TZNAME:CET
DTSTART:20211031T010000
END:STANDARD
END:VTIMEZONE
BEGIN:VEVENT
DTSTART;TZID=Europe/Paris:20211120T203000
DTEND;TZID=Europe/Paris:20211120T203000
DTSTAMP:20260425T231417
CREATED:20210912T093232Z
LAST-MODIFIED:20210912T093232Z
UID:13806-1637440200-1637440200@villemorte.fr
SUMMARY:A Burial At Sea + Songes
DESCRIPTION:11.21 A Burial At Sea / Songes (POST. LYON)\n\n\nsamedi 20 novembre 2021\n\n\n\n\n\n\n\nA Burial At Sea / Songes\n Un plaisir non dissimulé d’accueillir pour la troisième fois les talentueux British de a burial at sea en compagnie des copains de Songes.
URL:https://villemorte.fr/agenda/a-burial-at-sea-songes/
LOCATION:Le Farmer\, 14 montée des Carmélites\, Lyon\, France
CATEGORIES:musique live
END:VEVENT
END:VCALENDAR