BEGIN:VCALENDAR
VERSION:2.0
PRODID:-//Ville Morte - ECPv5.12.4//NONSGML v1.0//EN
CALSCALE:GREGORIAN
METHOD:PUBLISH
X-WR-CALNAME:Ville Morte
X-ORIGINAL-URL:https://villemorte.fr
X-WR-CALDESC:évènements pour Ville Morte
BEGIN:VTIMEZONE
TZID:Europe/Paris
BEGIN:DAYLIGHT
TZOFFSETFROM:+0100
TZOFFSETTO:+0200
TZNAME:CEST
DTSTART:20240331T010000
END:DAYLIGHT
BEGIN:STANDARD
TZOFFSETFROM:+0200
TZOFFSETTO:+0100
TZNAME:CET
DTSTART:20241027T010000
END:STANDARD
END:VTIMEZONE
BEGIN:VEVENT
DTSTART;TZID=Europe/Paris:20240205T203000
DTEND;TZID=Europe/Paris:20240205T233000
DTSTAMP:20260420T085111
CREATED:20240107T222235Z
LAST-MODIFIED:20240122T170936Z
UID:22387-1707165000-1707175800@villemorte.fr
SUMMARY:Abstract Concrete + RE : SSAK + Pili Coït
DESCRIPTION:Abstract Concrete de Abstract Concrete \n  \n \n \nAtomic Bongos · RE: SSAK Live @ Barricades Marseille 01/2023\nLove everywhere de Pili Coït\nhttps://duretdoux.com/dur-et-doux/artistes/pili-coit/ \n  \n20h30 – 00h \nprix libre /// + ou – 7€
URL:https://villemorte.fr/agenda/abstract-concrete-re-ssak-pili-coit/
LOCATION:Grrrnd Zero\, 60\, avenue de Bohlen\, Vaulx en Velin\, 69120
END:VEVENT
END:VCALENDAR