BEGIN:VCALENDAR
VERSION:2.0
PRODID:-//Ville Morte - ECPv5.12.4//NONSGML v1.0//EN
CALSCALE:GREGORIAN
METHOD:PUBLISH
X-WR-CALNAME:Ville Morte
X-ORIGINAL-URL:https://villemorte.fr
X-WR-CALDESC:évènements pour Ville Morte
BEGIN:VTIMEZONE
TZID:Europe/Paris
BEGIN:DAYLIGHT
TZOFFSETFROM:+0100
TZOFFSETTO:+0200
TZNAME:CEST
DTSTART:20230326T010000
END:DAYLIGHT
BEGIN:STANDARD
TZOFFSETFROM:+0200
TZOFFSETTO:+0100
TZNAME:CET
DTSTART:20231029T010000
END:STANDARD
END:VTIMEZONE
BEGIN:VEVENT
DTSTART;TZID=Europe/Paris:20230916T190000
DTEND;TZID=Europe/Paris:20230916T190000
DTSTAMP:20260419T152447
CREATED:20230724T165057Z
LAST-MODIFIED:20230724T165057Z
UID:20135-1694890800-1694890800@villemorte.fr
SUMMARY:Adversor + Blackened + Shotgun Logic
DESCRIPTION:Wanna thrash ? \nLes turbo lovers te donnent rdv le 16 septembre pour une soirée mémorable en compagnie d’Adversor\, Blackened et Shotgun Logic ! \nADVERSOR – Vincenza\, Italie \n \nBLACKENED – Paris \n \nSHOTGUN LOGIC – Lyon
URL:https://villemorte.fr/agenda/adversor-blackened-shotgun-logic/
LOCATION:Rock n Eat\, 32 Quai Arloing\, Lyon\, 69009
CATEGORIES:musique live
END:VEVENT
END:VCALENDAR