BEGIN:VCALENDAR
VERSION:2.0
PRODID:-//Ville Morte - ECPv5.12.4//NONSGML v1.0//EN
CALSCALE:GREGORIAN
METHOD:PUBLISH
X-WR-CALNAME:Ville Morte
X-ORIGINAL-URL:https://villemorte.fr
X-WR-CALDESC:évènements pour Ville Morte
BEGIN:VTIMEZONE
TZID:Europe/Paris
BEGIN:DAYLIGHT
TZOFFSETFROM:+0100
TZOFFSETTO:+0200
TZNAME:CEST
DTSTART:20220327T010000
END:DAYLIGHT
BEGIN:STANDARD
TZOFFSETFROM:+0200
TZOFFSETTO:+0100
TZNAME:CET
DTSTART:20221030T010000
END:STANDARD
END:VTIMEZONE
BEGIN:VEVENT
DTSTART;TZID=Europe/Paris:20221027T200000
DTEND;TZID=Europe/Paris:20221027T200000
DTSTAMP:20260423T021942
CREATED:20220809T115502Z
LAST-MODIFIED:20220809T115502Z
UID:16358-1666900800-1666900800@villemorte.fr
SUMMARY:AFTER GEOGRAPHY
DESCRIPTION:jeudi 27 octobre\n20h\nMarché Gare présente \nAFTER GEOGRAPHY (Rock / Lyon)\nRelease Party\n  \nJulien et Nicolas sont des ogres. Ils ont su digérer des décennies d’influences musicales et nous les resservir de manière intemporelle\, avec une classe rare ; un travail déjà commencé dans The Socks puis Sunder\, leurs formations précédentes qui avaient laissé leur empreinte dans le paysage musical lyonnais. \n  \nDans la plus pure tradition des binômes qui ont jalonné l’histoire du rock et de la pop\, After Geography -rejoint sur scène par une solide section rythmique- produit une musique classieuse\, additionnant les clins d’œil aux plus grands : les Beatles\, le glam de Bowie mais aussi la brit-pop des 90’s. \n  \nLe groupe sera sur la scène du KiosK pour la release party de son nouvel EP\, à paraître sur Dangerhouse Skylab. \n\n\nTARIF\n4/5€
URL:https://villemorte.fr/agenda/after-geography/
LOCATION:Marché Gare\,  34 rue Casimir Périer\, Lyon\, 69002\, France
CATEGORIES:musique live,release party
END:VEVENT
END:VCALENDAR