BEGIN:VCALENDAR
VERSION:2.0
PRODID:-//Ville Morte - ECPv5.12.4//NONSGML v1.0//EN
CALSCALE:GREGORIAN
METHOD:PUBLISH
X-WR-CALNAME:Ville Morte
X-ORIGINAL-URL:https://villemorte.fr
X-WR-CALDESC:évènements pour Ville Morte
BEGIN:VTIMEZONE
TZID:Europe/Paris
BEGIN:DAYLIGHT
TZOFFSETFROM:+0100
TZOFFSETTO:+0200
TZNAME:CEST
DTSTART:20190331T010000
END:DAYLIGHT
BEGIN:STANDARD
TZOFFSETFROM:+0200
TZOFFSETTO:+0100
TZNAME:CET
DTSTART:20191027T010000
END:STANDARD
END:VTIMEZONE
BEGIN:VEVENT
DTSTART;TZID=Europe/Paris:20190503T203000
DTEND;TZID=Europe/Paris:20190503T203000
DTSTAMP:20260426T045947
CREATED:20190425T105952Z
LAST-MODIFIED:20190425T105952Z
UID:9245-1556915400-1556915400@villemorte.fr
SUMMARY:AGRICULTURE URBAINE : RENCONTRE/DÉBAT
DESCRIPTION:Vendredi 03/20h30\nAGRICULTURE URBAINE : RENCONTRE/DÉBAT \nCAFÉ CULTUREL – GRATUIT
URL:https://villemorte.fr/agenda/agriculture-urbaine-rencontredebat/
LOCATION:Périscope\, 13 rue Delandine\, Lyon\, 69002\, France
CATEGORIES:débat,rencontre
END:VEVENT
END:VCALENDAR