BEGIN:VCALENDAR
VERSION:2.0
PRODID:-//Ville Morte - ECPv5.12.4//NONSGML v1.0//EN
CALSCALE:GREGORIAN
METHOD:PUBLISH
X-WR-CALNAME:Ville Morte
X-ORIGINAL-URL:https://villemorte.fr
X-WR-CALDESC:évènements pour Ville Morte
BEGIN:VTIMEZONE
TZID:Europe/Paris
BEGIN:DAYLIGHT
TZOFFSETFROM:+0100
TZOFFSETTO:+0200
TZNAME:CEST
DTSTART:20240331T010000
END:DAYLIGHT
BEGIN:STANDARD
TZOFFSETFROM:+0200
TZOFFSETTO:+0100
TZNAME:CET
DTSTART:20241027T010000
END:STANDARD
END:VTIMEZONE
BEGIN:VEVENT
DTSTART;TZID=Europe/Paris:20241003T200000
DTEND;TZID=Europe/Paris:20241003T200000
DTSTAMP:20260423T203444
CREATED:20241002T105150Z
LAST-MODIFIED:20241002T105150Z
UID:25953-1727985600-1727985600@villemorte.fr
SUMMARY:Alain Damasio x Palo Alto : "Les Furtifs"\, émeute musicale + "Le dehors de toute chose"
DESCRIPTION:Mediatone et Ulysse Maison d’artistes présentent : \nAlain Damasio x Palo Alto : « Les Furtifs »\, émeute musicale + « Le dehors de toute chose »\n3.10.24 – 20H – Salle Victor Hugo\, Lyon \nEn préambule de la journée anniversaire des éditions LA VOLTE (organisée deux jours plus tard\, le 5 octobre\, à la Villa Gillet)\, Mediatone vous propose une soirée concert dédiée entièrement à l’œuvre d’Alain Damasio : une Émeute musicale adaptée des « Furtifs » avec Alain Damasio et Palo Alto avec\, en première partie « Le Dehors de toute chose »\, un concert tiré de « La Zone du dehors ». \nCar la fiction peut changer le monde\, en commençant par nous toucher\, nous. \nTeaser « Les Furtifs » : https://lc.cx/NKaPq2 \nInfo et résa : https://lc.cx/H5n4Kw
URL:https://villemorte.fr/agenda/alain-damasio-x-palo-alto-les-furtifs-emeute-musicale-le-dehors-de-toute-chose/
LOCATION:Salle Victor Hugo\, 33 rue Bossuet\, Lyon\, 69006
CATEGORIES:musique live
ATTACH;FMTTYPE=image/jpeg:https://villemorte.fr/wp-content/uploads/2024/10/paloalto-damasio-emeute-musicale-lyon-insta.jpg
END:VEVENT
END:VCALENDAR