BEGIN:VCALENDAR
VERSION:2.0
PRODID:-//Ville Morte - ECPv5.12.4//NONSGML v1.0//EN
CALSCALE:GREGORIAN
METHOD:PUBLISH
X-WR-CALNAME:Ville Morte
X-ORIGINAL-URL:https://villemorte.fr
X-WR-CALDESC:évènements pour Ville Morte
BEGIN:VTIMEZONE
TZID:Europe/Paris
BEGIN:DAYLIGHT
TZOFFSETFROM:+0100
TZOFFSETTO:+0200
TZNAME:CEST
DTSTART:20250330T010000
END:DAYLIGHT
BEGIN:STANDARD
TZOFFSETFROM:+0200
TZOFFSETTO:+0100
TZNAME:CET
DTSTART:20251026T010000
END:STANDARD
END:VTIMEZONE
BEGIN:VEVENT
DTSTART;TZID=Europe/Paris:20250606T203000
DTEND;TZID=Europe/Paris:20250606T203000
DTSTAMP:20260422T203817
CREATED:20250514T203044Z
LAST-MODIFIED:20250514T203044Z
UID:29146-1749241800-1749241800@villemorte.fr
SUMMARY:Alee & Mourad
DESCRIPTION:ALEE & MOURAD (DE LA RUE KETANOU)\n(Hip-Hop\, Slam\, Rap)\nRetrouvez « Alee & Mourad Musset (de la Rue Ketanou) » sur scène pour un concert complet\, mêlant humour\, combats pacifiques\, amour et mélancolie teintée d’espoir\, entre phrasé hip-hop et chanson française\, entre machines et guitares… sur un panorama de chansons revisitées du répertoire d’Alee\, du Collectif 13\, de La Rue Ketanou et de quelques inédits.\nhttps://www.youtube.com/@Alee514
URL:https://villemorte.fr/agenda/alee-mourad/
LOCATION:À Thou Bout d’Chant\, 2 Rue de Thou\, LYON\, 69001
CATEGORIES:musique live
END:VEVENT
END:VCALENDAR