BEGIN:VCALENDAR
VERSION:2.0
PRODID:-//Ville Morte - ECPv5.12.4//NONSGML v1.0//EN
CALSCALE:GREGORIAN
METHOD:PUBLISH
X-WR-CALNAME:Ville Morte
X-ORIGINAL-URL:https://villemorte.fr
X-WR-CALDESC:évènements pour Ville Morte
BEGIN:VTIMEZONE
TZID:Europe/Paris
BEGIN:DAYLIGHT
TZOFFSETFROM:+0100
TZOFFSETTO:+0200
TZNAME:CEST
DTSTART:20220327T010000
END:DAYLIGHT
BEGIN:STANDARD
TZOFFSETFROM:+0200
TZOFFSETTO:+0100
TZNAME:CET
DTSTART:20221030T010000
END:STANDARD
END:VTIMEZONE
BEGIN:VEVENT
DTSTART;TZID=Europe/Paris:20220305T180000
DTEND;TZID=Europe/Paris:20220305T180000
DTSTAMP:20260425T211657
CREATED:20220212T173659Z
LAST-MODIFIED:20220212T173659Z
UID:14697-1646503200-1646503200@villemorte.fr
SUMMARY:Algorave
DESCRIPTION:OOOO L’Algorave est un rassemblement de live coding OOOO \n  \nil y aura : \n  \n  \nAdel Faure \nAdel Faure fait de la musique\, des jeux vidéos et du dessin en mode texte. Musique de qualité et de volume variable\, codée en direct\, garantie 100% non-masterisée.\nhttps://www.adelfaure.net/ \n  \nth4 \nth4 est une live codeuse dont le langage principal est TidalCycles. Elle explore dans son travail les aspects harmoniques et le potentiel de mélodies génératives de ce langage souvent confiné aux expérimentations rythmiques.\nhttps://youtube.com/c/th4music \n  \nazertype \nStudy of communication and control processes in living things and machines.\nHardware:_ X&Y\nOS:_bipolar_&_dys\nSoftware:_anticapitalism_intersectionnality_neurodiversity\nnon_gender_specific_art\nVerseau_from_Saturn\nmember_ship:_Earth\ncode_as art↔music_as code\nAnti_copyright \nhttps://linktr.ee/azertype \n  \nLéon Denise \nLéon Denise est artiste programmeur\, il expérimente avec les outils virtuels pour explorer les perceptions du réel. A partir d’une formation de programmation de jeu vidéo\, il se spécialise dans l’écriture de shader pour réaliser des filtres d’image\, des animation de distorsions\, des simulations de particules et des sculptures mathématiques. \n  \nRaphaël Bastide \nRaphaël Bastide crée des instruments\, des stratégies pédagogiques\, des installations\, des objets\, des performances. Il développe un intérêt particulier autour des séquences graphiques\, algorithmiques ou sonores. Il invente des sites web et des programmes informatiques et entretiens une pratique performative de l’écriture du code: evasive.tech (2020)\, otherti.me (2019)\, Cascade (2021). Il hérite de la culture du logiciel libre et tente de la transmettre\, notamment avec les collectifs PrePostPrint et Velvetyne Type Foundry.\nhttps://raphaelbastide.com\nRaphaël Bastide joue Cascade\, un instrument qu’il développe pour interpréter des formes graphiques en son\, tissant des négociations improvisées entre le son et son écriture. Cascade est open source et disponible sur raphaelbastide.com/cascade. \n  \nbubobubobubobubo \nRaphaël (bubobubo) est un live-coder actif à Lyon et à Paris. Il est actif au sein du collectif TOPLAP et du mouvement Algorave depuis 2018. Sa musique trouve sa source dans des expérimentations sonores à partir d’instruments électroniques\, de synthétiseurs et d’algorithmes divers\, enregistrées afin de réaliser collages\, superpositions et autres transformations algorithmiques rythmées. Raphaël s’intéresse à l’utilisation du live coding comme technique\, instrument et art performatif par son travail de recherche\, son enseignement ou ses collaborations avec le collectif parisien Cookie Collective ou avec les lyonnais du LocalHost.Ralt144MI Ralt144MI est une bande sonore de souvenirs vidéos centrée sur un univers aquatique. C’est le résultat de la redécouverte d’un large stock de cassettes vidéos familiales de plongée sous-marine. Le son\, codé en direct deviendra support des lectures de bandes\, interagissant et évoluant avec elles. \n  \nR.O.C.O.D.A \nVOCODAOS + ROBOTA\ncollectif plasma punk\nhttps://plasma-punk.github.io/website/index.html \n  \n  \nOuverture des portes : 18h\nRalt144MI : 19h-19h30\nTh4 : 20h-20h45\nRaphaël Bastide : 21h-21h45\nAdel Faure : 22h – 22h45 \nAzertype + Léon Denise : 23h – 23h45 \nBubo : 00h – 00h45 \n  \nGrrrnd Zero \n60 av. de Bohlen \n69120 Vaulx-en-Velin \n Pas de CB sur place  \nAdhésion prix libre \nConcert prix libre (Prix conseillé +ou-5e) \nRestauration sur place \nOuverture des portes à 18h
URL:https://villemorte.fr/agenda/algorave/
LOCATION:Grrrnd Zero\, 60\, avenue de Bohlen\, Vaulx en Velin\, 69120
CATEGORIES:musique live
END:VEVENT
END:VCALENDAR