BEGIN:VCALENDAR
VERSION:2.0
PRODID:-//Ville Morte - ECPv5.12.4//NONSGML v1.0//EN
CALSCALE:GREGORIAN
METHOD:PUBLISH
X-WR-CALNAME:Ville Morte
X-ORIGINAL-URL:https://villemorte.fr
X-WR-CALDESC:évènements pour Ville Morte
BEGIN:VTIMEZONE
TZID:Europe/Paris
BEGIN:DAYLIGHT
TZOFFSETFROM:+0100
TZOFFSETTO:+0200
TZNAME:CEST
DTSTART:20190331T010000
END:DAYLIGHT
BEGIN:STANDARD
TZOFFSETFROM:+0200
TZOFFSETTO:+0100
TZNAME:CET
DTSTART:20191027T010000
END:STANDARD
END:VTIMEZONE
BEGIN:VEVENT
DTSTART;TZID=Europe/Paris:20190704T190000
DTEND;TZID=Europe/Paris:20190704T190000
DTSTAMP:20260425T123359
CREATED:20190517T224421Z
LAST-MODIFIED:20190517T224421Z
UID:9691-1562266800-1562266800@villemorte.fr
SUMMARY:apéro graphique kiblind
DESCRIPTION:Les apéros graphiques Kiblind :\n Jeudi 27 juin : TONTON TATTOO\nJeudi 04 juil : CHAMPIONNES DU MONDE\nJeudi 11 juil : EN SÉRIES\nJeudi 18 juil : POUR LA FAIRE COURT\nJeudi 25 juil : DANSER DANSER + concert PONGO\n\n gratuit\, réservations sur transbordeur.fr
URL:https://villemorte.fr/agenda/apero-graphique-kiblind-2/
LOCATION:Le Transbordeur\, 3 Boulevard de Stalingrad\, Villeurbanne\, 69100 \, France
CATEGORIES:exposition
END:VEVENT
END:VCALENDAR