BEGIN:VCALENDAR
VERSION:2.0
PRODID:-//Ville Morte - ECPv5.12.4//NONSGML v1.0//EN
CALSCALE:GREGORIAN
METHOD:PUBLISH
X-WR-CALNAME:Ville Morte
X-ORIGINAL-URL:https://villemorte.fr
X-WR-CALDESC:évènements pour Ville Morte
BEGIN:VTIMEZONE
TZID:Europe/Paris
BEGIN:DAYLIGHT
TZOFFSETFROM:+0100
TZOFFSETTO:+0200
TZNAME:CEST
DTSTART:20180325T010000
END:DAYLIGHT
BEGIN:STANDARD
TZOFFSETFROM:+0200
TZOFFSETTO:+0100
TZNAME:CET
DTSTART:20181028T010000
END:STANDARD
END:VTIMEZONE
BEGIN:VEVENT
DTSTART;TZID=Europe/Paris:20181214T200000
DTEND;TZID=Europe/Paris:20181214T200000
DTSTAMP:20260423T202058
CREATED:20181124T005710Z
LAST-MODIFIED:20181124T005710Z
UID:7763-1544817600-1544817600@villemorte.fr
SUMMARY:apéro phonique : ZUGABE
DESCRIPTION:14/12 – apéro phonique 20-22h – ZUGABE @l’atelierdescanulars – prix libre
URL:https://villemorte.fr/agenda/apero-phonique-zugabe/
LOCATION:L’Atelier des Canulars\, 91 rue Montesquieu\, LYON\, 69007
CATEGORIES:musique live
END:VEVENT
END:VCALENDAR