BEGIN:VCALENDAR
VERSION:2.0
PRODID:-//Ville Morte - ECPv5.12.4//NONSGML v1.0//EN
CALSCALE:GREGORIAN
METHOD:PUBLISH
X-WR-CALNAME:Ville Morte
X-ORIGINAL-URL:https://villemorte.fr
X-WR-CALDESC:évènements pour Ville Morte
BEGIN:VTIMEZONE
TZID:Europe/Paris
BEGIN:DAYLIGHT
TZOFFSETFROM:+0100
TZOFFSETTO:+0200
TZNAME:CEST
DTSTART:20200329T010000
END:DAYLIGHT
BEGIN:STANDARD
TZOFFSETFROM:+0200
TZOFFSETTO:+0100
TZNAME:CET
DTSTART:20201025T010000
END:STANDARD
END:VTIMEZONE
BEGIN:VEVENT
DTSTART;TZID=Europe/Paris:20201008T170000
DTEND;TZID=Europe/Paris:20201008T220000
DTSTAMP:20260423T074411
CREATED:20201006T103542Z
LAST-MODIFIED:20201006T103542Z
UID:12873-1602176400-1602194400@villemorte.fr
SUMMARY:APÉRO-VÉLO !
DESCRIPTION:APÉRO-VÉLO ! \n\n\n\n\n\n\nJEUDI 08 OCTOBRE \nde 17h à 22h \nsite Ronfard\, ex-atelier Frich’Market \n\n\n\n\n\n\nDepuis le début du mois\, quelques équipes de la Friche se réunissent régulièrement pour parler itinérance artistique et vélos. Des rendez-vous sont formalisés un jeudi soir par mois minimum. Aux échanges de bons plans\, s’ajoute un local ouvert pour ceux et celles qui souhaitent en profiter pour réparer leurs bicyclettes. \nA mi-chemin entre un atelier de réparation autogéré\, une buvette associative et des rencontres entre artistes férus de bicyclette\, l’APÉRO-VÉLO est né ! \n\n\n\n\n\n\n\n\n\n\n\n\n\n\n\n\n\n\n\n\n\n\n\n\n\n\n\n\n\n\n\n\n\n\n\n\n\n\n\n\n\n\n\n\n\n\n\n\n\n\n\n\n\n\n\n\n\n\n\n\n\n\n\n\nJeudi\, on prend soin de vos vélos et de vos gosiers ! \n  \nLiez l’utile à l’agréable en ramenant votre biclou splendide mais mal en point : une équipe d’amateurs chevronnés vous accueillera avec cœur\, savoir faire\, panache et quelques bières. \nPour l’instant on a des outils mais pas beaucoup de pièces alors si vous avez besoin d’opérer votre 2 roues à cœur ouvert ramenez vos patins\, câbles et pièces en tout genre. \nVoilà tout\, jeudi on bricole et on boit des coups au 21 rue saint victorien. \n  \nL’apéro vélo \n\n\n\n\n\n\n\n\n\n\n\n\n\n\n\n\n\n\n\n\n\n\n\n\n\n\n\n\n\n\n\n\n\n\n\n\n\n\n\n\n\n\n\n\n\n\n\n\nSite : http://www.friche-lamartine.org/ \nFacebook : https://www.facebook.com/FricheLamartine
URL:https://villemorte.fr/agenda/apero-velo/
LOCATION:Friche Lamartine\, 21 rue St Victorien\, Lyon\, 69003\, France
CATEGORIES:atelier,rencontre
END:VEVENT
END:VCALENDAR