BEGIN:VCALENDAR
VERSION:2.0
PRODID:-//Ville Morte - ECPv5.12.4//NONSGML v1.0//EN
CALSCALE:GREGORIAN
METHOD:PUBLISH
X-WR-CALNAME:Ville Morte
X-ORIGINAL-URL:https://villemorte.fr
X-WR-CALDESC:évènements pour Ville Morte
BEGIN:VTIMEZONE
TZID:Europe/Paris
BEGIN:DAYLIGHT
TZOFFSETFROM:+0100
TZOFFSETTO:+0200
TZNAME:CEST
DTSTART:20230326T010000
END:DAYLIGHT
BEGIN:STANDARD
TZOFFSETFROM:+0200
TZOFFSETTO:+0100
TZNAME:CET
DTSTART:20231029T010000
END:STANDARD
END:VTIMEZONE
BEGIN:VEVENT
DTSTART;TZID=Europe/Paris:20231111T100000
DTEND;TZID=Europe/Paris:20231111T100000
DTSTAMP:20260420T101750
CREATED:20231007T092445Z
LAST-MODIFIED:20231007T092445Z
UID:21046-1699696800-1699696800@villemorte.fr
SUMMARY:Assemblée des Communs
DESCRIPTION:La Friche Artistique Lamartine vous donne rendez-vous au sein du Plateau de la Friche Pionchon\, l’un des bâtiments gérés collectivement par ses usagèr·es.\nCette assemblée lyonnaise sera l’occasion de s’inscrire dans la continuité du mouvement de politisation et défense des communs.\nEn alliant regard sensible et outillage juridique\, elle se veut tribune aux expériences singulières et partagées de ces lieux et collectifs. \nTout au long de la journée\, des conférences\, ateliers\, arpentages et retours d’expériences liés à la question spécifique du foncier. L’assemblée se clôturera par une représentation du spectacle “Entre nous les abîmes” de la Compagnie Augustine Turpaux. \nPlus d’infos : http://friche-lamartine.org/assemblee-des-communs-a-lyon-communs-fonciers-recits-et-outils/
URL:https://villemorte.fr/agenda/assemblee-des-communs/
LOCATION:Friche Lamartine -Villa Pionchon\, 11 rue Claudius Pionchon\, Lyon\, 69003
CATEGORIES:atelier,conférence,spectacle
END:VEVENT
END:VCALENDAR