BEGIN:VCALENDAR
VERSION:2.0
PRODID:-//Ville Morte - ECPv5.12.4//NONSGML v1.0//EN
CALSCALE:GREGORIAN
METHOD:PUBLISH
X-WR-CALNAME:Ville Morte
X-ORIGINAL-URL:https://villemorte.fr
X-WR-CALDESC:évènements pour Ville Morte
BEGIN:VTIMEZONE
TZID:Europe/Paris
BEGIN:DAYLIGHT
TZOFFSETFROM:+0100
TZOFFSETTO:+0200
TZNAME:CEST
DTSTART:20230326T010000
END:DAYLIGHT
BEGIN:STANDARD
TZOFFSETFROM:+0200
TZOFFSETTO:+0100
TZNAME:CET
DTSTART:20231029T010000
END:STANDARD
END:VTIMEZONE
BEGIN:VEVENT
DTSTART;TZID=Europe/Paris:20231014T093000
DTEND;TZID=Europe/Paris:20231014T093000
DTSTAMP:20260420T151516
CREATED:20230920T105011Z
LAST-MODIFIED:20230920T185840Z
UID:20785-1697275800-1697275800@villemorte.fr
SUMMARY:Atelier - Utilisation d'internet sans flicage
DESCRIPTION:Apprendre à utiliser internet sans flicage et en gardant le contrôle de ces données . \nPour tous les niveaux\, à partir de 12 ans\nSur inscription SVP 😉 \nhttps://framapiaf.org/@chiantsducode \n  \nPrix libre\nPas de CB sur place
URL:https://villemorte.fr/agenda/atelier-utilisation-dinternet-sans-flicage/
LOCATION:L’Atelier des Canulars\, 91 rue Montesquieu\, LYON\, 69007
CATEGORIES:atelier
END:VEVENT
END:VCALENDAR