BEGIN:VCALENDAR
VERSION:2.0
PRODID:-//Ville Morte - ECPv5.12.4//NONSGML v1.0//EN
CALSCALE:GREGORIAN
METHOD:PUBLISH
X-WR-CALNAME:Ville Morte
X-ORIGINAL-URL:https://villemorte.fr
X-WR-CALDESC:évènements pour Ville Morte
BEGIN:VTIMEZONE
TZID:Europe/Paris
BEGIN:DAYLIGHT
TZOFFSETFROM:+0100
TZOFFSETTO:+0200
TZNAME:CEST
DTSTART:20170326T010000
END:DAYLIGHT
BEGIN:STANDARD
TZOFFSETFROM:+0200
TZOFFSETTO:+0100
TZNAME:CET
DTSTART:20171029T010000
END:STANDARD
END:VTIMEZONE
BEGIN:VEVENT
DTSTART;TZID=Europe/Paris:20170225T210000
DTEND;TZID=Europe/Paris:20170225T210000
DTSTAMP:20260420T100821
CREATED:20170213T121359Z
LAST-MODIFIED:20170213T121359Z
UID:3102-1488056400-1488056400@villemorte.fr
SUMMARY:ATLAS + BÖRECK + POM POM GALLI
DESCRIPTION:Pour fêter le lancement du festival « Sortons Paquet ! »\, qui aura lieu les 9 et 10 juin 2017 à Croix Paquet\, l’association CrossBox organise une soirée de soutien au festival. \nATLAS\nJazz progressif \nAtlas est un quartet atypique situé à la croisée du jazz et des musiques actuelles dans lequel rôles et places varient et s’échangent au gré des compositions. Tantôt explosifs et tantôt aériens\, parfois puissants et souvent ciselés\, les morceaux d’Atlas laissent au choix le rock et le jazz se mêler librement. \nAVEC : \nLéo Delay (batterie)\nNicolas Canavaggia (contrebasse)\nLéo Molinari (guitare électrique)\nRomain Maitrot (trompette et Bugle) \n\nBÖRECK\nIls amènent le gros son rock dans l’univers des musiques traditionnelles populaires turques. Une fusion non-traditionnelle marquée par la richesse des métriques impairs issues des musiques turques et par la sonorité distordue de la guitare fuzz significative du rock psychédélique. \nAVEC : \nVincent Desmazières (guitare électrique)\nQuentin Marotine (saxophone\, kaval)\nFlorent Belee (basse électrique)\nAldric Plisson (batterie)\nYacine Sbay (derbouka) \n\n  \nPOM POM GALLI\nFusion entre les deux groupes de copains lyonnais Oui Oui Oui et A Shrimp Case\, Pom Pom Galli c’est un quintette où les voix\, les synthés\, les deux guitares\, la batterie et le violoncelle se mêlent et s’entremêlent pour un son singulier à la croisée de la dream-pop\, de l’indie rock. Efficace et sensible\, Pom Pom Galli est aussi une bonne dose de riffs et de groove façon 70’s. \nAVEC : \nYann Marteil (batterie)\nLouis Weill (guitare)\nManon Rudant (violoncelle\, chant)\nArthur Delaval (clavier\, chant)
URL:https://villemorte.fr/agenda/atlas-boreck-pom-pom-galli/
LOCATION:Périscope\, 13 rue Delandine\, Lyon\, 69002\, France
CATEGORIES:musique live
END:VEVENT
END:VCALENDAR