BEGIN:VCALENDAR
VERSION:2.0
PRODID:-//Ville Morte - ECPv5.12.4//NONSGML v1.0//EN
CALSCALE:GREGORIAN
METHOD:PUBLISH
X-WR-CALNAME:Ville Morte
X-ORIGINAL-URL:https://villemorte.fr
X-WR-CALDESC:évènements pour Ville Morte
BEGIN:VTIMEZONE
TZID:Europe/Paris
BEGIN:DAYLIGHT
TZOFFSETFROM:+0100
TZOFFSETTO:+0200
TZNAME:CEST
DTSTART:20180325T010000
END:DAYLIGHT
BEGIN:STANDARD
TZOFFSETFROM:+0200
TZOFFSETTO:+0100
TZNAME:CET
DTSTART:20181028T010000
END:STANDARD
END:VTIMEZONE
BEGIN:VEVENT
DTSTART;TZID=Europe/Paris:20180601T203000
DTEND;TZID=Europe/Paris:20180601T203000
DTSTAMP:20260421T190946
CREATED:20180422T230317Z
LAST-MODIFIED:20180422T230317Z
UID:6307-1527885000-1527885000@villemorte.fr
SUMMARY:Atomic Vulture ✚ Swedenborg Raum ✚ Guest
DESCRIPTION:Le Farmer présente :\nSWEDENBORG RAUM ✚ ATOMIC VULTURE ✚ VULPTURE\nVendredi 1er Juin ♚ 20h30 ♚ 5€ \n❤ Red Fang\, Electric Wizard\, Ufomammut\, High on Fire\, Monkey3\, The Midnight Ghost Train\, Black Rainbows\, Bongzilla\, Pentagram.. \n♚ ATOMIC VULTURE (space stoner rock – Belgique)\nAn instrumental three piece stoner/space rock outfit from Belgium. They sound old-school\, dusty and they rock like the center of the sun. Heavy\, swirling grooves\, thunderous driving beats and some seriously hot bass lines. Their tracks have a nice atmosphere often swinging between fuzzed-out grooves and a more ambient style not forgetting to add some psyched or even doom aesthetics from time to time.\nFB https://www.facebook.com/atomicvulture\nBC https://atomicvulture.bandcamp.com/album/cd-into-orbit \n♚ SWEDENBORG RAUM (psych prog rock – Allemagne)\nThe psychedelic/prog-rock trio from leipzig is ready to come over europe again! With more than 150 gigs since 2012 the three-piece made their way into the audiences hearts. They played shows and festivals in denmark\, belgium\, poland\, switzerland\, austria\, czech republic\, slovenia\, slovakia and germany and had the honour to share the stage with bands like Monkey3\, The Midnight Ghost Train\, Black Rainbows and Ufomammut.\nFB https://www.facebook.com/SwedenborgRaum\nBC https://swedenborgraum.bandcamp.com/album/in-between \n♚+ GUEST \n🕣 20H30\n💸 5€ (recettes 100% reversées aux groupes)\n🚴‍ LE FARMER – 14 Montée des Carmélites – 69001 LYON
URL:https://villemorte.fr/agenda/atomic-vulture-%e2%9c%9a-swedenborg-raum-%e2%9c%9a-guest/
LOCATION:Le Farmer\, 14 montée des Carmélites\, Lyon\, France
CATEGORIES:musique live
END:VEVENT
END:VCALENDAR