BEGIN:VCALENDAR
VERSION:2.0
PRODID:-//Ville Morte - ECPv5.12.4//NONSGML v1.0//EN
CALSCALE:GREGORIAN
METHOD:PUBLISH
X-WR-CALNAME:Ville Morte
X-ORIGINAL-URL:https://villemorte.fr
X-WR-CALDESC:évènements pour Ville Morte
BEGIN:VTIMEZONE
TZID:Europe/Paris
BEGIN:DAYLIGHT
TZOFFSETFROM:+0100
TZOFFSETTO:+0200
TZNAME:CEST
DTSTART:20190331T010000
END:DAYLIGHT
BEGIN:STANDARD
TZOFFSETFROM:+0200
TZOFFSETTO:+0100
TZNAME:CET
DTSTART:20191027T010000
END:STANDARD
END:VTIMEZONE
BEGIN:VEVENT
DTSTART;TZID=Europe/Paris:20190201T193000
DTEND;TZID=Europe/Paris:20190201T193000
DTSTAMP:20260419T171546
CREATED:20190114T172345Z
LAST-MODIFIED:20190114T172345Z
UID:8321-1549049400-1549049400@villemorte.fr
SUMMARY:Attentat a La Pudeur + La Gent Animale
DESCRIPTION:Le 01 fevrier\, début à 20h \nAttentat à la Pudeur reviennent nous voir après la soirée super chaude de l’année dernière\, et seront cette fois accompagnés par La Gent Animale et leur chanson déjantée !! \nLA GENT ANIMALE (chanson déjantée) \nBaignée d’influences reptiliennes\, mammifères voire entomologiques\, la gent animale vous offre ses mélopées acides\, ses symphonies ricanantes\, et ses airs suaves portés par quatre voix suivies ou précédées de leurs instruments.\n« relève la tête à cette ivresse\, à ton destin de loup » \nhttp://www.blenzik.com/index.php?page=fiche&id=2120 \nATTENTAT A LA PUDEUR (Chanson engagée et rock n roll baby!!! ) \nC’est qu’en enlevant nos slips\, on voudrait offrir nos cœurs.\nVous avez des doutes sur la méthode ? Nous aussi mais c’est plus fort que nous.\nSi vous voulez savoir comment on en est arrivé là\, tout est dit dans nos histoires\, nos voyages loin de là\, nos luttes d’ici\, et nos amours de passage.\nVous rencontrerez notre voisin\, notre psy\, nos amants\, Dieu en personne.\nTout ça avec deux gugusses qui tapent sur des cordes et des bouts de bois\, enfin sur une guitare et un Cajon\, et puis leurs voix\, qui chantent\, aaaaaaaaaaaahhhhhhhhh !\nÇa à l’air drôle ? Tu verras… \nhttps://www.facebook.com/AttentatALaPudeur \nRita-Plage\n68 Cours Tolstoï\nVilleurbanne\nBus C3 arrêt Institut d’Art Contemporain\nBouffe végé sur place à prix libre\nEntrée à prix libre
URL:https://villemorte.fr/agenda/attentat-a-la-pudeur-la-gent-animale/
LOCATION:Rita-Plage\, 68 Cours Tolstoï\, Villeurbanne\, 69100
CATEGORIES:musique live
END:VEVENT
END:VCALENDAR