BEGIN:VCALENDAR
VERSION:2.0
PRODID:-//Ville Morte - ECPv5.12.4//NONSGML v1.0//EN
CALSCALE:GREGORIAN
METHOD:PUBLISH
X-WR-CALNAME:Ville Morte
X-ORIGINAL-URL:https://villemorte.fr
X-WR-CALDESC:évènements pour Ville Morte
BEGIN:VTIMEZONE
TZID:Europe/Paris
BEGIN:DAYLIGHT
TZOFFSETFROM:+0100
TZOFFSETTO:+0200
TZNAME:CEST
DTSTART:20210328T010000
END:DAYLIGHT
BEGIN:STANDARD
TZOFFSETFROM:+0200
TZOFFSETTO:+0100
TZNAME:CET
DTSTART:20211031T010000
END:STANDARD
END:VTIMEZONE
BEGIN:VEVENT
DTSTART;TZID=Europe/Paris:20211120T210000
DTEND;TZID=Europe/Paris:20211120T210000
DTSTAMP:20260425T180247
CREATED:20211118T164911Z
LAST-MODIFIED:20211118T164911Z
UID:14237-1637442000-1637442000@villemorte.fr
SUMMARY:Attic Ted + Antenn.e
DESCRIPTION:20 nov.\, 20:45 – 21 nov.\, 00:45\nLyon\, 110 Mnt de la Grande-Côte\, 69001 Lyon\, France\n\n\n\n\n\n\nATTIC TED \nUn  drôle de personnage nous arrive tout droit du Texas sac au dos avec sa  guitare\, son clavier et ses samples. Il définit sa musique comme « weirdo  gothic carnival performance art post modernist musical theater\, with  masks. » On ne peut pas dire mieux\, si ce n’est que Attic Ted mérite vraiment qu’on lui porte attention\, nous on est fans! Vous pouvez écouter ses disques ici https://atticted.bandcamp.com/ https://open.spotify.com/artist/09xM4M6N5IFC8B09uCkEik… \nEt surtout regarder ses nombreux clips bien fous ici https://youtu.be/gt9_mQjATNc https://youtu.be/BfprGmI1BGg https://youtu.be/jb0nhu7CqbY \nANTENN.E \nNouveaux  venus de la scène locale\, le trio lyonnais joue un post punk frais et  sec\, teinté de pop et dansant. A découvrir en live! \nhttps://antenne2.bandcamp.com/releases https://linkr.bio/dk5v
URL:https://villemorte.fr/agenda/attic-ted-antenn-e/
LOCATION:Trokson\, 110 Montée de la grande côte\, Lyon\, 69001\, France
CATEGORIES:musique live
END:VEVENT
END:VCALENDAR