BEGIN:VCALENDAR
VERSION:2.0
PRODID:-//Ville Morte - ECPv5.12.4//NONSGML v1.0//EN
CALSCALE:GREGORIAN
METHOD:PUBLISH
X-WR-CALNAME:Ville Morte
X-ORIGINAL-URL:https://villemorte.fr
X-WR-CALDESC:évènements pour Ville Morte
BEGIN:VTIMEZONE
TZID:Europe/Paris
BEGIN:DAYLIGHT
TZOFFSETFROM:+0100
TZOFFSETTO:+0200
TZNAME:CEST
DTSTART:20180325T010000
END:DAYLIGHT
BEGIN:STANDARD
TZOFFSETFROM:+0200
TZOFFSETTO:+0100
TZNAME:CET
DTSTART:20181028T010000
END:STANDARD
END:VTIMEZONE
BEGIN:VEVENT
DTSTART;TZID=Europe/Paris:20180219T203000
DTEND;TZID=Europe/Paris:20180219T203000
DTSTAMP:20260420T135549
CREATED:20180121T150409Z
LAST-MODIFIED:20180121T150409Z
UID:5210-1519072200-1519072200@villemorte.fr
SUMMARY:Autobahn (UK) + On Hiatus
DESCRIPTION:@ Le Farmer \n■ AUTOBAHN (Post Punk / Gothic Rock – Leeds\, UK)\nAvec un nom pareil\, on peut s’attendre à découvrir des disciples robotisés de Kraftwerk. En réalité\, ces cinq Anglais de Leeds ont décidé de prendre une route plus accidentée. Une voix sépulcrale et froide\, des guitares aigrelettes et des rythmes métalliques qui rappellent l’Angleterre post-industrielle : Autobahn avance un rock viscéral percutant tout en gardant dans le rétroviseur LE groupe de Leeds des 80s\, The Sisters of Mercy. C’est donc avec 2 EPs et 2 albums au compteur qu’Autobahn s’est imposé comme le véritable second souffle du rock goth sombre et caverneux. Décidement\, la brume du Yorkshire inspire.\nYB / (nouveau single) https://youtu.be/1up7IVKKuJU\nFB / https://www.facebook.com/autobahnmusik/ \n■ ON HIATUS (Noise Ambiant – Lyon\, FR)\n« On Hiatus cache au sein de ses textures une profondeur sonore féconde et captivante. L’improvisation et l’absence de retouche imposées dans la discipline créative du groupe permet une spontanéité phonique exaltante qui nous transporte d’une émotion à l’autre avec une telle habilité que l’on ne voit pas défiler les étapes du voyage. »\nFB / https://www.facebook.com/onhiatusmusic/\nBC / https://onhiatusmusic.bandcamp.com/
URL:https://villemorte.fr/agenda/autobahn-uk-on-hiatus/
LOCATION:Le Farmer\, 14 montée des Carmélites\, Lyon\, France
CATEGORIES:musique live
ATTACH;FMTTYPE=image/jpeg:https://villemorte.fr/wp-content/uploads/2018/01/23622494_1465063513612806_254208904967252842_n.jpg
END:VEVENT
END:VCALENDAR