BEGIN:VCALENDAR
VERSION:2.0
PRODID:-//Ville Morte - ECPv5.12.4//NONSGML v1.0//EN
CALSCALE:GREGORIAN
METHOD:PUBLISH
X-WR-CALNAME:Ville Morte
X-ORIGINAL-URL:https://villemorte.fr
X-WR-CALDESC:évènements pour Ville Morte
BEGIN:VTIMEZONE
TZID:Europe/Paris
BEGIN:DAYLIGHT
TZOFFSETFROM:+0100
TZOFFSETTO:+0200
TZNAME:CEST
DTSTART:20240331T010000
END:DAYLIGHT
BEGIN:STANDARD
TZOFFSETFROM:+0200
TZOFFSETTO:+0100
TZNAME:CET
DTSTART:20241027T010000
END:STANDARD
END:VTIMEZONE
BEGIN:VEVENT
DTSTART;TZID=Europe/Paris:20241002T203000
DTEND;TZID=Europe/Paris:20241002T203000
DTSTAMP:20260421T075140
CREATED:20240917T192109Z
LAST-MODIFIED:20240917T192109Z
UID:25634-1727901000-1727901000@villemorte.fr
SUMMARY:Bad Bangs + Astroballe
DESCRIPTION:BAD BANGS – Indie Rock Psych // AUS\n\nEntre punk et country\, folk et psychédélique\, Bad Bangs groupe basé à Melbourne traverse les genres pour former un paysage sonore unique. « Out Of Character »\, leur album sorti en 2024 est une évolution de leur vision du garage rock. L’enregistrement a été assuré par Paul Maybury (Cash Savage & The Last Drinks\, The Murlocs\, Rocket Science) et a capturé l’énergie live énigmatique du groupe\, tandis que le mastering de Jim Diamond (Ghetto Recorders\, The White Stripes\, The Dirtbombs\, The Gore Gore Girls) garantit le son granuleux et caractéristique de Bad Bangs. Les thèmes des troubles sociaux et environnementaux tourbillonnent dans le courant sous-jacent d’un album qui reflète les frustrations immédiates et la réflexion personnelle.\nAvec une fanbase solide dans leur ville natale de Melbourne\, Bad Bangs a soutenu grand nombre de ses contemporains au fil des années tels que Shannon and The Clams\, The Murlocs\, Rolling Blackouts Coastal Fever\, Chastity Belt\, … Le groupe s’aventure au-delà de Melbourne pour sa première tournée européenne et passera par le Trokson ^^. \n \n\nASTROBALLE – Punk rock / power pop / emo en français // Villeurbanne\n\nRéunis par le destin lors d’une douce soirée d’été 2023\, Maxime et François commencent à se voir régulièrement pour chanter à la tierce en se regardant dans les yeux comme Pascal Obispo et Natasha St-Pier. Après un an à écrire et jouer leurs chansons dans les effluves de mazout du local 31 de l’Hôtel de la musique\, ils les présentent pour la première fois en concert.\nPour les fans de : PUP\, Jeff Rosenstock\, Joyce Manor\, Michel Berger\nhttps://astroballe.bandcamp.com/
URL:https://villemorte.fr/agenda/bad-bangs-astroballe/
LOCATION:Trokson\, 110 Montée de la grande côte\, Lyon\, 69001\, France
CATEGORIES:musique live
END:VEVENT
END:VCALENDAR