BEGIN:VCALENDAR
VERSION:2.0
PRODID:-//Ville Morte - ECPv5.12.4//NONSGML v1.0//EN
CALSCALE:GREGORIAN
METHOD:PUBLISH
X-WR-CALNAME:Ville Morte
X-ORIGINAL-URL:https://villemorte.fr
X-WR-CALDESC:évènements pour Ville Morte
BEGIN:VTIMEZONE
TZID:Europe/Paris
BEGIN:DAYLIGHT
TZOFFSETFROM:+0100
TZOFFSETTO:+0200
TZNAME:CEST
DTSTART:20190331T010000
END:DAYLIGHT
BEGIN:STANDARD
TZOFFSETFROM:+0200
TZOFFSETTO:+0100
TZNAME:CET
DTSTART:20191027T010000
END:STANDARD
END:VTIMEZONE
BEGIN:VEVENT
DTSTART;TZID=Europe/Paris:20190718T203000
DTEND;TZID=Europe/Paris:20190718T203000
DTSTAMP:20260425T231249
CREATED:20190517T225745Z
LAST-MODIFIED:20190517T225745Z
UID:9712-1563481800-1563481800@villemorte.fr
SUMMARY:BATON ROUGE + SPORT
DESCRIPTION:Jeu 18/07 : BATON ROUGE + SPORT @ GZHLM 20h30
URL:https://villemorte.fr/agenda/baton-rouge-sport/
LOCATION:jesuisanxieux@gmail.com
CATEGORIES:musique live
END:VEVENT
END:VCALENDAR