BEGIN:VCALENDAR
VERSION:2.0
PRODID:-//Ville Morte - ECPv5.12.4//NONSGML v1.0//EN
CALSCALE:GREGORIAN
METHOD:PUBLISH
X-WR-CALNAME:Ville Morte
X-ORIGINAL-URL:https://villemorte.fr
X-WR-CALDESC:évènements pour Ville Morte
BEGIN:VTIMEZONE
TZID:Europe/Paris
BEGIN:DAYLIGHT
TZOFFSETFROM:+0100
TZOFFSETTO:+0200
TZNAME:CEST
DTSTART:20190331T010000
END:DAYLIGHT
BEGIN:STANDARD
TZOFFSETFROM:+0200
TZOFFSETTO:+0100
TZNAME:CET
DTSTART:20191027T010000
END:STANDARD
END:VTIMEZONE
BEGIN:VEVENT
DTSTART;TZID=Europe/Paris:20190412T210000
DTEND;TZID=Europe/Paris:20190412T210000
DTSTAMP:20260423T221908
CREATED:20190311T233935Z
LAST-MODIFIED:20190311T233935Z
UID:9044-1555102800-1555102800@villemorte.fr
SUMMARY:Bazooka
DESCRIPTION:Le meilleur groupe psych punk d’Athènes est de retour avec un nouvel album modestement intitulé « Zero Hits »\, mais ne vous y trompez pas\, c’est encore une bombe pleine de surprises que ce groupe génial nous offre. Avec une touche un peu plus post punk garage limite Stoogien sur certains titres\, avec parfois des cuivres et toujours ce côté foudroyant\, fataliste\, à moitié fou et permissif\, soutenu par du chant en Grec\, une rythmique percussive et des arrangements délirants.\nPour la 3 ème fois au Trokson et toujours un coup de coeur. Faut pas rater ça malaka! \nNouveau clip ici:\nhttps://www.youtube.com/watch?v=tMgh7_u02UE \nNouvel album en écoute ici:\nhttps://bazooka-innerear.bandcamp.com/album/zero-hits\nEt ici:\nhttps://open.spotify.com/album/5lnQaeU3GinLLHs0OGxUHL?si=gbcG6jnfQQyGlECmeBGPPA
URL:https://villemorte.fr/agenda/bazooka-3/
LOCATION:Trokson\, 110 Montée de la grande côte\, Lyon\, 69001\, France
CATEGORIES:musique live
END:VEVENT
END:VCALENDAR