BEGIN:VCALENDAR
VERSION:2.0
PRODID:-//Ville Morte - ECPv5.12.4//NONSGML v1.0//EN
CALSCALE:GREGORIAN
METHOD:PUBLISH
X-WR-CALNAME:Ville Morte
X-ORIGINAL-URL:https://villemorte.fr
X-WR-CALDESC:évènements pour Ville Morte
BEGIN:VTIMEZONE
TZID:Europe/Paris
BEGIN:DAYLIGHT
TZOFFSETFROM:+0100
TZOFFSETTO:+0200
TZNAME:CEST
DTSTART:20180325T010000
END:DAYLIGHT
BEGIN:STANDARD
TZOFFSETFROM:+0200
TZOFFSETTO:+0100
TZNAME:CET
DTSTART:20181028T010000
END:STANDARD
END:VTIMEZONE
BEGIN:VEVENT
DTSTART;TZID=Europe/Paris:20180210T210000
DTEND;TZID=Europe/Paris:20180210T210000
DTSTAMP:20260419T194331
CREATED:20180122T120406Z
LAST-MODIFIED:20180122T120406Z
UID:5300-1518296400-1518296400@villemorte.fr
SUMMARY:Ben & Fist + Flippin'Heck + Lashing Fred
DESCRIPTION:Sam 10.02 : Ben & Fist + Flippin’Heck + Lashing Fred @ Le Farmer / 20h45 / PL\n(Orga : Funny Funny\, Ha Ha)
URL:https://villemorte.fr/agenda/ben-fist-flippinheck-lashing-fred/
LOCATION:Le Farmer\, 14 montée des Carmélites\, Lyon\, France
CATEGORIES:musique live
END:VEVENT
END:VCALENDAR