BEGIN:VCALENDAR
VERSION:2.0
PRODID:-//Ville Morte - ECPv5.12.4//NONSGML v1.0//EN
CALSCALE:GREGORIAN
METHOD:PUBLISH
X-WR-CALNAME:Ville Morte
X-ORIGINAL-URL:https://villemorte.fr
X-WR-CALDESC:évènements pour Ville Morte
BEGIN:VTIMEZONE
TZID:Europe/Paris
BEGIN:DAYLIGHT
TZOFFSETFROM:+0100
TZOFFSETTO:+0200
TZNAME:CEST
DTSTART:20250330T010000
END:DAYLIGHT
BEGIN:STANDARD
TZOFFSETFROM:+0200
TZOFFSETTO:+0100
TZNAME:CET
DTSTART:20251026T010000
END:STANDARD
END:VTIMEZONE
BEGIN:VEVENT
DTSTART;TZID=Europe/Paris:20250701T193000
DTEND;TZID=Europe/Paris:20250701T193000
DTSTAMP:20260422T174142
CREATED:20250519T115642Z
LAST-MODIFIED:20250519T115642Z
UID:29281-1751398200-1751398200@villemorte.fr
SUMMARY:BÉTON ARMÉ +PUFFER + CLAIMED CHOICE
DESCRIPTION:LYON HARDCORE et 69 Moonstompers présentent le mardi 1er juillet 2025 au Warmaudio :\n\nBéton Armé (punk/oi! – Montréal)\nhttps://betonarmeoimtl.bandcamp.com/\nOi! Montréalaise formée en 2018\, influencée par la scène française 80’s de retour en Europe et pour la première fois à Lyon pour la sortie de leur nouvel album sur la vida es un mus !\n\n\nPuffer (punk rock –  Montréal)\nhttps://puffpuffpuff.bandcamp.com/\nIls viennent accompagner leurs potes de Montréal\, les gars de Puffer\, et leur punk incisif avec sous leur bras eux aussi leur premier album à venir sur Static Shock Records !\n\n\nClaimed Choice (release party!  – pub-rock/oi! – Lyon)\nhttps://pressure-tour.bandcamp.com/album/claimed-choice\nLes locaux viennent fêter la sortie de leur nouvel album sur UVPR et Longshot Records !\n\nPrépare ton cardio\, 3 rounds pour tout donner !\n\nau WARMAUDIO\n29 rue Wilson – 69150 Décines-Charpieu\, FRANCE\nhttps://warmaudio.fr\n\nOuverture des portes : 19h30\nDébut des concerts : 20h\n\nBILLETTERIE\nhttps://www.helloasso.com/associations/lyhc/evenements/beton-arme-puffer-claimed-choice-au-warmaudio-lyon\nPréventes : 12\,50 €\nSur Place : 15 € (cash ou CB acceptés)\n\nTransports en commun :\nMétro A –> Laurent Bonnevay + Bus 67 –> Décines Wilson\nou Tram T3 / Tram T7 -> Décines Roosevelt
URL:https://villemorte.fr/agenda/beton-arme-puffer-claimed-choice/
LOCATION:Warmaudio\, 29 Rue Wilson\, Décines-Charpieu\, 69150\, France Métropolitaine
CATEGORIES:musique live
ATTACH;FMTTYPE=image/jpeg:https://villemorte.fr/wp-content/uploads/2025/05/beton-arme-puffer-claimed-choice-lyon.jpg
END:VEVENT
END:VCALENDAR