BEGIN:VCALENDAR
VERSION:2.0
PRODID:-//Ville Morte - ECPv5.12.4//NONSGML v1.0//EN
CALSCALE:GREGORIAN
METHOD:PUBLISH
X-WR-CALNAME:Ville Morte
X-ORIGINAL-URL:https://villemorte.fr
X-WR-CALDESC:évènements pour Ville Morte
BEGIN:VTIMEZONE
TZID:Europe/Paris
BEGIN:DAYLIGHT
TZOFFSETFROM:+0100
TZOFFSETTO:+0200
TZNAME:CEST
DTSTART:20220327T010000
END:DAYLIGHT
BEGIN:STANDARD
TZOFFSETFROM:+0200
TZOFFSETTO:+0100
TZNAME:CET
DTSTART:20221030T010000
END:STANDARD
END:VTIMEZONE
BEGIN:VEVENT
DTSTART;TZID=Europe/Paris:20220430T200000
DTEND;TZID=Europe/Paris:20220430T200000
DTSTAMP:20260425T153347
CREATED:20220213T205134Z
LAST-MODIFIED:20220213T205134Z
UID:14919-1651348800-1651348800@villemorte.fr
SUMMARY:Big Mountain County + Kid Victrola Feedback Special
DESCRIPTION:Le Farmer présente :\nBIG MOUNTAIN COUNTY ✚ THE KID VICTROLA FEEDBACK SPECIAL\nSamedi 30 Avril\, 20h00\, 8€\nThe Black Angels\, CAN\, The Underground Youth\, Night Beats\, Brian Jonestown Massacre\, 13th Floor Elevators\, The Warlocks\, L.A Witch…\n\nBIG MOUNTAIN COUNTY (psych kraut rock – Italie)\nGros coup d’cœur ! Rock psyché sauvage et militantisme depuis son premier souffle. Big Mountain County a acquis une renommée internationale en quelques années. Véritable rouleau compresseur ! Malgré les idées reçues\, l’Italie est une terre de rock et à certains égards bien plus que la France. Big Mountain County est un des meilleurs exemples de ce que la scène italienne peut générer d’étonnant et de passionnant. Largement inspirés par le US psych rock des 60’s\, B.M.C puise également aux sources du krautrock ses côtés répétitifs et chez les Black Angels leur goût pour les ambiances hantées et les atmosphères lourdes.\nB.M.C\, pour la première fois à Lyon !!\nhttps://www.youtube.com/watch?v=Sc_9ei80hRw\nhttps://www.youtube.com/watch?v=AV-xnYiiaiw\n\nTHE KID VICTROLA FEEDBACK SPECIAL (Acid Jump Blues Psych Folk- Lyon)\nTrio psych rock’n’roll et cosmic swing. Etabli par le guitariste de GLORIA\, le groupe propose un retour aux fondamentaux de la musique du 20ème siècle. 10 cordes\, des tambours\, des cymbales\, de l’électricité\, et l’envie de faire danser.\nLe fond de sauce est assuré par Eira Benton à la basse\, le batteur Seb Finck est aux marmites\, et les épices sont scrupuleusement administrées par le guitariste Kid Victrola. Pour un brouet qui se consomme en live et avec les doigts.\nhttps://youtu.be/JLst3AjQKZI\nhttps://soundcloud.com/use…/sets/the-kid-victrola-feedback \n20h00\n8€ (recettes 100% reversées aux groupes)\n🚴‍ LE FARMER – 14 montée des Carmélites – 69001 LYON
URL:https://villemorte.fr/agenda/big-mountain-county-kid-victrola-feedback-special/
CATEGORIES:musique live
END:VEVENT
END:VCALENDAR