BEGIN:VCALENDAR
VERSION:2.0
PRODID:-//Ville Morte - ECPv5.12.4//NONSGML v1.0//EN
CALSCALE:GREGORIAN
METHOD:PUBLISH
X-WR-CALNAME:Ville Morte
X-ORIGINAL-URL:https://villemorte.fr
X-WR-CALDESC:évènements pour Ville Morte
BEGIN:VTIMEZONE
TZID:Europe/Paris
BEGIN:DAYLIGHT
TZOFFSETFROM:+0100
TZOFFSETTO:+0200
TZNAME:CEST
DTSTART:20240331T010000
END:DAYLIGHT
BEGIN:STANDARD
TZOFFSETFROM:+0200
TZOFFSETTO:+0100
TZNAME:CET
DTSTART:20241027T010000
END:STANDARD
END:VTIMEZONE
BEGIN:VEVENT
DTSTART;TZID=Europe/Paris:20240113T200000
DTEND;TZID=Europe/Paris:20240113T200000
DTSTAMP:20260424T211946
CREATED:20231213T183841Z
LAST-MODIFIED:20231213T183841Z
UID:22109-1705176000-1705176000@villemorte.fr
SUMMARY:Bisous Mamie + Cleseph + Donny Vegas
DESCRIPTION:Bisous Mamie (synth punk\, Chalon-sur-Saône)\n\nBisous Mamie\, c’est un one man band\, c’est du rock’n roll\, de l’électronic\, c’est des claviers\, une cigarbox à 3 cordes\, c’est une boite à rythme\, du looping\, c’est une chenille et la macarena en même temps\, c’est des grosses pelles et beaucoup d’amour\, des gnagnagna. Et si tout cela pouvait se terminer par une énorme orgie\, ce serait chic ! \n \n\ncleseph (synthpunk minimal xoxo)\n\nhttps://cleseph.bandcamp.com/album/cruciliaque \n\nDonny Vegas (synth-wave\, Lyon)\n\nFausses boites à rythmes et synthé bancal : super\, voilà encore un projet bien singulier qui vous est proposé par DONNY VEGAS\, sorte de mec mal axé dans ses santiags qui transpire une cold braillarde aux allures de cassettes hantées\, sûrement par les fantômes de ses premiers amours. \nhttps://donnyvegas.bandcamp.com \n \nPour rappel\, les comportements oppressifs\, discriminants ou déplacés ne sont absolument pas tolérés et entraineront une sortie du lieu.Si vous rencontrez un problème ou êtes témoin d’une situation problématique\, foncez en parler au Staff ou aux DJs. Prenez soin les un·e·s des autres.Coeur sur vous
URL:https://villemorte.fr/agenda/bisous-mamie-cleseph-donny-vegas/
LOCATION:Sonic\, 4 quai des Etroits\, Lyon\, 69005\, France
CATEGORIES:musique live
END:VEVENT
END:VCALENDAR