BEGIN:VCALENDAR
VERSION:2.0
PRODID:-//Ville Morte - ECPv5.12.4//NONSGML v1.0//EN
CALSCALE:GREGORIAN
METHOD:PUBLISH
X-WR-CALNAME:Ville Morte
X-ORIGINAL-URL:https://villemorte.fr
X-WR-CALDESC:évènements pour Ville Morte
BEGIN:VTIMEZONE
TZID:Europe/Paris
BEGIN:DAYLIGHT
TZOFFSETFROM:+0100
TZOFFSETTO:+0200
TZNAME:CEST
DTSTART:20190331T010000
END:DAYLIGHT
BEGIN:STANDARD
TZOFFSETFROM:+0200
TZOFFSETTO:+0100
TZNAME:CET
DTSTART:20191027T010000
END:STANDARD
END:VTIMEZONE
BEGIN:VEVENT
DTSTART;TZID=Europe/Paris:20190217T170000
DTEND;TZID=Europe/Paris:20190217T230000
DTSTAMP:20260419T151636
CREATED:20190121T180133Z
LAST-MODIFIED:20190121T180133Z
UID:8575-1550422800-1550444400@villemorte.fr
SUMMARY:Bistro Zero#8
DESCRIPTION:@jesuisanxieux@gmail.com \nCroisière musicale\, Restau prix libre dominical et Rencontres astrales / Infos et menu: www.grrrndzero.org
URL:https://villemorte.fr/agenda/bistro-zero8/
LOCATION:Grrrnd Zero Hors Les Murs
CATEGORIES:bouffe
END:VEVENT
END:VCALENDAR