BEGIN:VCALENDAR
VERSION:2.0
PRODID:-//Ville Morte - ECPv5.12.4//NONSGML v1.0//EN
CALSCALE:GREGORIAN
METHOD:PUBLISH
X-WR-CALNAME:Ville Morte
X-ORIGINAL-URL:https://villemorte.fr
X-WR-CALDESC:évènements pour Ville Morte
BEGIN:VTIMEZONE
TZID:Europe/Paris
BEGIN:DAYLIGHT
TZOFFSETFROM:+0100
TZOFFSETTO:+0200
TZNAME:CEST
DTSTART:20230326T010000
END:DAYLIGHT
BEGIN:STANDARD
TZOFFSETFROM:+0200
TZOFFSETTO:+0100
TZNAME:CET
DTSTART:20231029T010000
END:STANDARD
END:VTIMEZONE
BEGIN:VEVENT
DTSTART;TZID=Europe/Paris:20231123T200000
DTEND;TZID=Europe/Paris:20231123T200000
DTSTAMP:20260419T152138
CREATED:20230706T114717Z
LAST-MODIFIED:20230706T114717Z
UID:19938-1700769600-1700769600@villemorte.fr
SUMMARY:Black Delta Movement + Guest
DESCRIPTION:THE BLACK DELTA MOVEMENT (psych rock’n’roll – Hull\, UK) \nTu te souviens de cet incroyable live au Farmer en 2018 ? Sans doute dans notre « Top 10 – Grosses tartes matafan ». Les BDM sont originaires de Kingston Upon Hull (UK). Aussi tordu et psyché que son nom l’indique\, cette petite bourgade abrite de nombreuses pépites psyché ; longtemps bercées avec le biberon vert fluo douteux de Anton Newcombe.\nPlaisir du cœur\, plaisir chaleur. Ils puisent leur influences du côté de Black Rebel Motorcycle Club\, Paul Weller\, The Small Faces\, ou encore The Black Keys avec un fort penchant post punk. Ils ont\, aussi\, partagé des tournées avec The Jesus & Mary Chain\, The Stranglers\, Temples\, Drenge\, The View\, Shaun Ryder\, Twin Atlantic\, The Bohicas\, Jefferson Starship\, Steve Cradock\, et The Temperance Movement. \n\nFB https://www.facebook.com/blackdeltamovement/\nYT https://youtu.be/luBp10Pve-E\nYT https://youtu.be/lkrgOlksr-k\nYT https://youtu.be/Jk1ft0vXBlU
URL:https://villemorte.fr/agenda/black-delta-movement-guest/
LOCATION:Le Farmer\, 14 montée des Carmélites\, Lyon\, France
CATEGORIES:musique live
END:VEVENT
END:VCALENDAR