BEGIN:VCALENDAR
VERSION:2.0
PRODID:-//Ville Morte - ECPv5.12.4//NONSGML v1.0//EN
CALSCALE:GREGORIAN
METHOD:PUBLISH
X-WR-CALNAME:Ville Morte
X-ORIGINAL-URL:https://villemorte.fr
X-WR-CALDESC:évènements pour Ville Morte
BEGIN:VTIMEZONE
TZID:Europe/Paris
BEGIN:DAYLIGHT
TZOFFSETFROM:+0100
TZOFFSETTO:+0200
TZNAME:CEST
DTSTART:20230326T010000
END:DAYLIGHT
BEGIN:STANDARD
TZOFFSETFROM:+0200
TZOFFSETTO:+0100
TZNAME:CET
DTSTART:20231029T010000
END:STANDARD
END:VTIMEZONE
BEGIN:VEVENT
DTSTART;TZID=Europe/Paris:20230609T203000
DTEND;TZID=Europe/Paris:20230609T233000
DTSTAMP:20260424T071926
CREATED:20230520T130320Z
LAST-MODIFIED:20230520T130320Z
UID:19580-1686342600-1686353400@villemorte.fr
SUMMARY:BLIND BUTCHER + NAIROD YARD
DESCRIPTION:BLIND BUTCHER (Punk Wave // CH // Voodoo Rhythm / Irascible) + NAIROD YARG (Post Punk / Cold Wave // Lyon)
URL:https://villemorte.fr/agenda/blind-butcher-nairod-yard/
LOCATION:Trokson\, 110 Montée de la grande côte\, Lyon\, 69001\, France
END:VEVENT
END:VCALENDAR