BEGIN:VCALENDAR
VERSION:2.0
PRODID:-//Ville Morte - ECPv5.12.4//NONSGML v1.0//EN
CALSCALE:GREGORIAN
METHOD:PUBLISH
X-WR-CALNAME:Ville Morte
X-ORIGINAL-URL:https://villemorte.fr
X-WR-CALDESC:évènements pour Ville Morte
BEGIN:VTIMEZONE
TZID:Europe/Paris
BEGIN:DAYLIGHT
TZOFFSETFROM:+0100
TZOFFSETTO:+0200
TZNAME:CEST
DTSTART:20230326T010000
END:DAYLIGHT
BEGIN:STANDARD
TZOFFSETFROM:+0200
TZOFFSETTO:+0100
TZNAME:CET
DTSTART:20231029T010000
END:STANDARD
END:VTIMEZONE
BEGIN:VEVENT
DTSTART;TZID=Europe/Paris:20230609T203000
DTEND;TZID=Europe/Paris:20230609T203000
DTSTAMP:20260424T071748
CREATED:20230509T195555Z
LAST-MODIFIED:20230509T195555Z
UID:19421-1686342600-1686342600@villemorte.fr
SUMMARY:Blind Butcher + Voodoo Rhythm
DESCRIPTION:BLIND BUTCHER – Punk Wave (CH) // Voodoo Rhythm / Irascible \nL’excentrique duo lucernois a sorti en mars son dernier album « Catch 22 » joueur\, brutal\, dansant et singulier.\nDepuis maintenant 13 ans Blind Butcher propose un punk-wave-fun plein de verve\, une potion magique faite d’énergie\, de minimalisme\, de folie dansante. \nhttps://blindbutcherband.bandcamp.com/ \n \n \nNAIROD YARG – Post Punk / Cold Wave (Lyon) \nAu nom étrange et imprononçable\, NAIROD YARG fait référence au cinéma du célèbre dandy irlandais Oscar Wilde et David Lynch pour présenter leur cold wave teintée de Punk et de Noisy Rock. Le duo\, créé en juillet 2018\, possède deux albums au compteur dont le récent « Ten Days With Dorian Wilde ». \nhttps://nairodyarg.bandcamp.com/album/ten-days-with-dorian-wilde
URL:https://villemorte.fr/agenda/blind-butcher-voodoo-rhythm/
LOCATION:Trokson\, 110 Montée de la grande côte\, Lyon\, 69001\, France
CATEGORIES:musique live
END:VEVENT
END:VCALENDAR