BEGIN:VCALENDAR
VERSION:2.0
PRODID:-//Ville Morte - ECPv5.12.4//NONSGML v1.0//EN
CALSCALE:GREGORIAN
METHOD:PUBLISH
X-WR-CALNAME:Ville Morte
X-ORIGINAL-URL:https://villemorte.fr
X-WR-CALDESC:évènements pour Ville Morte
BEGIN:VTIMEZONE
TZID:Europe/Paris
BEGIN:DAYLIGHT
TZOFFSETFROM:+0100
TZOFFSETTO:+0200
TZNAME:CEST
DTSTART:20240331T010000
END:DAYLIGHT
BEGIN:STANDARD
TZOFFSETFROM:+0200
TZOFFSETTO:+0100
TZNAME:CET
DTSTART:20241027T010000
END:STANDARD
END:VTIMEZONE
BEGIN:VEVENT
DTSTART;TZID=Europe/Paris:20241214T200000
DTEND;TZID=Europe/Paris:20241214T200000
DTSTAMP:20260423T143549
CREATED:20241112T143602Z
LAST-MODIFIED:20241112T143654Z
UID:26571-1734206400-1734206400@villemorte.fr
SUMMARY:Blues Pills + Daniel Romano’s outfit
DESCRIPTION:BLUES PILLS (Blues-Rock | Suède) \nLa sensation rock électrisante\, a envoûté le monde entier avec ses concerts énergiques sous la houlette de la chanteuse Elin Larsson. Leur nouvel album « Birthday » sortira en août 2024\, un album pour célébrer la vie et la musique. La célébration se poursuivra tout au long de l’année\, et ils sont heureux d’annoncer la tournée européenne en tête d’affiche – Happy F*cking Birthday ! Une tournée intime des clubs\, et vous êtes invités à la fête. \nDANIEL ROMANO’S OUTFIT (Indie Rock | UK) \nDaniel Romano’s Outfit est un groupe de rock canadien qui mêle rock\, folk et country avec des influences psychédéliques et punk. Mené par Daniel Romano\, le groupe se distingue par des compositions audacieuses\, des paroles profondes\, et des performances live énergiques et captivantes.
URL:https://villemorte.fr/agenda/blues-pills-daniel-romanos-outfit/
LOCATION:Marché Gare\,  34 rue Casimir Périer\, Lyon\, 69002\, France
CATEGORIES:musique live
ATTACH;FMTTYPE=image/jpeg:https://villemorte.fr/wp-content/uploads/2024/11/bluespills.jpeg
END:VEVENT
END:VCALENDAR