BEGIN:VCALENDAR
VERSION:2.0
PRODID:-//Ville Morte - ECPv5.12.4//NONSGML v1.0//EN
CALSCALE:GREGORIAN
METHOD:PUBLISH
X-WR-CALNAME:Ville Morte
X-ORIGINAL-URL:https://villemorte.fr
X-WR-CALDESC:évènements pour Ville Morte
BEGIN:VTIMEZONE
TZID:Europe/Paris
BEGIN:DAYLIGHT
TZOFFSETFROM:+0100
TZOFFSETTO:+0200
TZNAME:CEST
DTSTART:20240331T010000
END:DAYLIGHT
BEGIN:STANDARD
TZOFFSETFROM:+0200
TZOFFSETTO:+0100
TZNAME:CET
DTSTART:20241027T010000
END:STANDARD
END:VTIMEZONE
BEGIN:VEVENT
DTSTART;TZID=Europe/Paris:20241011T200000
DTEND;TZID=Europe/Paris:20241011T200000
DTSTAMP:20260422T023557
CREATED:20240917T184135Z
LAST-MODIFIED:20240917T184135Z
UID:25628-1728676800-1728676800@villemorte.fr
SUMMARY:Bodega + Ditter
DESCRIPTION:BODEGA (Art-punk Post-punk)\n\nLe groupe BODEGA\, représentant le plus cool de l’art-punk new-yorkais\, annonce un reboot de l’album « Our Brand Could Be Yr Life » et une tournée en 2024. Le quintet sera de passage en France pour 4 dates en mai et juin et 5 dates en octobre. \nParfois\, il est nécessaire de faire un retour en arrière pour avancer. C’est précisément ce que fait le groupe BODEGA\, commentateur culturel punk\, sur son nouvel album\, en esquissant un avenir nouveau à partir des fragments brumeux de son passé\, sur fond de critique consumériste. « C’est quelque chose que nous voulions faire depuis des années »\, explique le guitariste et chanteur Ben Hozie à propos de « Our Brand Could Be Yr Life » – une collection de réflexions indie-rock accrocheuses sur l’évolution lente de la pensée corporatiste dans la culture des jeunes\, écrite pour la première fois il y a huit ans. À l’époque connu sous le nom de BODEGA BAY\, le groupe de Brooklyn avait alors enregistré ces chansons sous la forme d’un double album paradoxal. \nAujourd’hui\, BODEGA a réinterprété « Our Brand Could Be Yr Life » pour 2024. « Nous avons considéré cette démarche comme celle d’un réalisateur revisitant l’un de ses anciens films\, à l’instar d’Hitchcock qui a refait L’homme qui en savait trop\, ou de Yasujirō Ozu qui a revisité L’histoire des herbes flottantes »\, explique Hozie\, pour qui il n’est jamais surprenant d’aborder la musique à travers un prisme cinématographique. Après tout\, il s’agit d’un créatif qui\, en plus de son travail au sein de BODEGA\, est un réalisateur de films indépendants renommé (« PVT Chat »\, son drame de 2020 sur le commerce du sexe en ligne\, a reçu des critiques dithyrambiques). « Lorsque vous êtes plus âgé et que vous maîtrisez mieux votre métier\, vous pouvez revisiter le même matériel mais en faire quelque chose de différent. » \n \n\nDITTER (Indie Pop Post-Punk)\n\nDITTER vous avez dit DITTER ? Derrière ce nom un trio\, mais surtout une musique qui frappe autant les corps que les cœurs. Une musique vivante\, organique pleine d’hymnes à reprendre tous ensemble\, un sourire aux lèvres et les hanches en mouvement. \nUn amour pour la pop\, un soupçon de punk associés à une pointe de cynisme et toujours beaucoup d’humour\, les sales gosses du fond de la classe sont désormais devant vous pour brûler la scène\, leur grand terrain d’expression pour partager leur musique et vivre ensemble\, enfin.
URL:https://villemorte.fr/agenda/bodega-ditter/
LOCATION:Marché Gare\,  34 rue Casimir Périer\, Lyon\, 69002\, France
CATEGORIES:musique live
END:VEVENT
END:VCALENDAR