BEGIN:VCALENDAR
VERSION:2.0
PRODID:-//Ville Morte - ECPv5.12.4//NONSGML v1.0//EN
CALSCALE:GREGORIAN
METHOD:PUBLISH
X-WR-CALNAME:Ville Morte
X-ORIGINAL-URL:https://villemorte.fr
X-WR-CALDESC:évènements pour Ville Morte
BEGIN:VTIMEZONE
TZID:Europe/Paris
BEGIN:DAYLIGHT
TZOFFSETFROM:+0100
TZOFFSETTO:+0200
TZNAME:CEST
DTSTART:20200329T010000
END:DAYLIGHT
BEGIN:STANDARD
TZOFFSETFROM:+0200
TZOFFSETTO:+0100
TZNAME:CET
DTSTART:20201025T010000
END:STANDARD
END:VTIMEZONE
BEGIN:VEVENT
DTSTART;TZID=Europe/Paris:20200119T130000
DTEND;TZID=Europe/Paris:20200119T190000
DTSTAMP:20260424T071911
CREATED:20191224T095846Z
LAST-MODIFIED:20191224T095846Z
UID:11675-1579438800-1579460400@villemorte.fr
SUMMARY:Broc disques du Rockn'Eat
DESCRIPTION:Broc disques du Rockn’Eat\nHoraires : 13H-19H.\nAvec une douzaine de stands disquaires et merchandising.\nEntrée Gratos.
URL:https://villemorte.fr/agenda/broc-disques-du-rockneat/
LOCATION:Rock n Eat\, 32 Quai Arloing\, Lyon\, 69009
CATEGORIES:brocante & vide grenier,distro
END:VEVENT
END:VCALENDAR