BEGIN:VCALENDAR
VERSION:2.0
PRODID:-//Ville Morte - ECPv5.12.4//NONSGML v1.0//EN
CALSCALE:GREGORIAN
METHOD:PUBLISH
X-WR-CALNAME:Ville Morte
X-ORIGINAL-URL:https://villemorte.fr
X-WR-CALDESC:évènements pour Ville Morte
BEGIN:VTIMEZONE
TZID:Europe/Paris
BEGIN:DAYLIGHT
TZOFFSETFROM:+0100
TZOFFSETTO:+0200
TZNAME:CEST
DTSTART:20220327T010000
END:DAYLIGHT
BEGIN:STANDARD
TZOFFSETFROM:+0200
TZOFFSETTO:+0100
TZNAME:CET
DTSTART:20221030T010000
END:STANDARD
END:VTIMEZONE
BEGIN:VEVENT
DTSTART;TZID=Europe/Paris:20220115T150000
DTEND;TZID=Europe/Paris:20220115T233000
DTSTAMP:20260423T114821
CREATED:20220107T101515Z
LAST-MODIFIED:20220107T101515Z
UID:14421-1642258800-1642289400@villemorte.fr
SUMMARY:Brrrazier Poétique Queer Punk par le Brrrazero
DESCRIPTION:https://www.grrrndzero.org/index.php/2249-le-brrrazero
URL:https://villemorte.fr/agenda/brrrazier-poetique-queer-punk-par-le-brrrazero/
LOCATION:Grrrnd Zero\, 60\, avenue de Bohlen\, Vaulx en Velin\, 69120
CATEGORIES:club de lecture,DJ Set,écoute,ecriture,lecture
END:VEVENT
END:VCALENDAR