BEGIN:VCALENDAR
VERSION:2.0
PRODID:-//Ville Morte - ECPv5.12.4//NONSGML v1.0//EN
CALSCALE:GREGORIAN
METHOD:PUBLISH
X-WR-CALNAME:Ville Morte
X-ORIGINAL-URL:https://villemorte.fr
X-WR-CALDESC:évènements pour Ville Morte
BEGIN:VTIMEZONE
TZID:Europe/Paris
BEGIN:DAYLIGHT
TZOFFSETFROM:+0100
TZOFFSETTO:+0200
TZNAME:CEST
DTSTART:20240331T010000
END:DAYLIGHT
BEGIN:STANDARD
TZOFFSETFROM:+0200
TZOFFSETTO:+0100
TZNAME:CET
DTSTART:20241027T010000
END:STANDARD
END:VTIMEZONE
BEGIN:VEVENT
DTSTART;TZID=Europe/Paris:20240220T190000
DTEND;TZID=Europe/Paris:20240220T190000
DTSTAMP:20260422T224118
CREATED:20240117T160439Z
LAST-MODIFIED:20240117T160439Z
UID:22535-1708455600-1708455600@villemorte.fr
SUMMARY:C_C
DESCRIPTION:Créer des paysages sonores inexplorés tout en jouant avec des claviers et des pédales (ou de les perdre ?) : c’est que propose C_C lors de ses performances live hypnotiques avec une table débordant de gadgets et d’appareils électroniques. \nDans le même temps\, ses collaborations actives/en tournée sont Od Bongo\, un duo noise-bass avec Somaticae\, A_R_C_C avec Arnaud Rivière qui se concentre sur l’improvisation noise de pointe\, et Orchestral Heat\, un duo digital reggae/dub avec Regis Turner/Avventur. \n\nC_C\n\nDepuis plus de 10 ans\, Édouard Ribouillault (C_C) est connu pour son mélange unique de distorto-bass et de dub breaks\, ainsi que pour ses performances live hypnotiques d’une heure avec une table débordant de gadgets et d’appareils électroniques. Il a sorti des sons sur des labels radicaux tels que Cold Moss\, ZamZam Records\, Fougère Musique\, Kraak (entre autres) en plus de se forger une réputation de fondateur de l’imparable label noise/beat « ThirdTypeTapes »\, qui publie et soutient de nombreux autres monstres sonores dans le monde entier tels que Tresque\, Dave Phillips\, Nah\, KK Null. \nÉdouard Ribouillault a été une force de l’underground musical ces dernières années\, mais il n’en est pas moins actif dans le paysage européen plus large en tant que supporter de la communauté. Depuis 3 ans\, il est le principal instigateur de « DistoMobile »\, un sound system qu’il met au service de ses collègues comme le Sonic Protest Festival ou en soutien à la « ZAD de NDDL »\, une terre autonome bien connue en Loire-Atlantique qui a échappé aux tentatives d’expulsion du gouvernement français positivement psychotique depuis le début des années 2010. \nInutile de dire qu’Édouard Ribouillault est un homme d’action. Ayant déménagé à la campagne il y a quelques années\, il a trouvé une inspiration renouvelée dans la limitation de ses performances et productions solo en utilisant seulement un petit échantillonneur qu’il plie et contorsionne pour créer des paysages sonores bizarres. \nSes collaborations actives/en tournée sont Od Bongo\, un duo noise-bass avec Somaticae\, A_R_C_C avec Arnaud Rivière qui se concentre sur l’improvisation noise de pointe\, et Orchestral Heat\, un duo digital reggae/dub avec Regis Turner/Avventur.
URL:https://villemorte.fr/agenda/c_c/
LOCATION:Périscope\, 13 rue Delandine\, Lyon\, 69002\, France
CATEGORIES:musique live
END:VEVENT
END:VCALENDAR