BEGIN:VCALENDAR
VERSION:2.0
PRODID:-//Ville Morte - ECPv5.12.4//NONSGML v1.0//EN
CALSCALE:GREGORIAN
METHOD:PUBLISH
X-WR-CALNAME:Ville Morte
X-ORIGINAL-URL:https://villemorte.fr
X-WR-CALDESC:évènements pour Ville Morte
BEGIN:VTIMEZONE
TZID:Europe/Paris
BEGIN:DAYLIGHT
TZOFFSETFROM:+0100
TZOFFSETTO:+0200
TZNAME:CEST
DTSTART:20240331T010000
END:DAYLIGHT
BEGIN:STANDARD
TZOFFSETFROM:+0200
TZOFFSETTO:+0100
TZNAME:CET
DTSTART:20241027T010000
END:STANDARD
END:VTIMEZONE
BEGIN:VEVENT
DTSTART;TZID=Europe/Paris:20240508T180000
DTEND;TZID=Europe/Paris:20240508T180000
DTSTAMP:20260422T124443
CREATED:20240415T110539Z
LAST-MODIFIED:20240415T110539Z
UID:24047-1715191200-1715191200@villemorte.fr
SUMMARY:Caïman
DESCRIPTION:Extérieur nuit\, juste au-dessus du niveau des marais\, dans le point de bascule entre les eaux troubles et l’air pur de la forêt. C’est en se postant aux lisières du monde que CAÏMAN trouve sa voie. En français\, enchevêtrés dans le chorus épais de sa guitare électrique\, ses mots tissent doucement des incantations libérées et mystiques. Mais en prenant le temps de se laisser embarquer\, on décèle sous le mystère une mise à nu toute personnelle\, pudique et sincère ~ et une obsession évidente pour les récits de métamorphose\, d’insurrection\, de magie et de fantômes. Deux ans après la sortie de l’album « A la lueur »\, le nouvel élan de CAÏMAN invoque l’indie folk éthérée d’Elena Tonra (Daughter\, Ex:Re) et le post rock magnétique d’Emma Ruth Rundle. \nhttps://thisiscaiman.bandcamp.com/track/la-maison
URL:https://villemorte.fr/agenda/caiman/
LOCATION:Kraspek Myzik\, 20 Montée Saint Sébastien\, Lyon\, 69001\, France
CATEGORIES:musique live
END:VEVENT
END:VCALENDAR