BEGIN:VCALENDAR
VERSION:2.0
PRODID:-//Ville Morte - ECPv5.12.4//NONSGML v1.0//EN
CALSCALE:GREGORIAN
METHOD:PUBLISH
X-WR-CALNAME:Ville Morte
X-ORIGINAL-URL:https://villemorte.fr
X-WR-CALDESC:évènements pour Ville Morte
BEGIN:VTIMEZONE
TZID:Europe/Paris
BEGIN:DAYLIGHT
TZOFFSETFROM:+0100
TZOFFSETTO:+0200
TZNAME:CEST
DTSTART:20180325T010000
END:DAYLIGHT
BEGIN:STANDARD
TZOFFSETFROM:+0200
TZOFFSETTO:+0100
TZNAME:CET
DTSTART:20181028T010000
END:STANDARD
END:VTIMEZONE
BEGIN:VEVENT
DTSTART;TZID=Europe/Paris:20180217T203000
DTEND;TZID=Europe/Paris:20180217T203000
DTSTAMP:20260420T155158
CREATED:20180122T120522Z
LAST-MODIFIED:20180122T120522Z
UID:5302-1518899400-1518899400@villemorte.fr
SUMMARY:Candélabre + Princess Coldheart
DESCRIPTION:17/02 : Candélabre + Princess Coldheart / Bar des Capucins / Prix libre
URL:https://villemorte.fr/agenda/candelabre-princess-coldheart/
LOCATION:Bar des Capucins\, Place des Capucins\, Lyon\, 69001\, France
CATEGORIES:musique live
END:VEVENT
END:VCALENDAR